BEGIN:VCALENDAR
VERSION:2.0
PRODID:-//Capitol City Church - ECPv6.15.18//NONSGML v1.0//EN
CALSCALE:GREGORIAN
METHOD:PUBLISH
X-ORIGINAL-URL:https://www.clickiowa.com
X-WR-CALDESC:Events for Capitol City Church
REFRESH-INTERVAL;VALUE=DURATION:PT1H
X-Robots-Tag:noindex
X-PUBLISHED-TTL:PT1H
BEGIN:VTIMEZONE
TZID:UTC
BEGIN:STANDARD
TZOFFSETFROM:+0000
TZOFFSETTO:+0000
TZNAME:UTC
DTSTART:20230101T000000
END:STANDARD
END:VTIMEZONE
BEGIN:VEVENT
DTSTART;TZID=UTC:20240602T090000
DTEND;TZID=UTC:20240602T100000
DTSTAMP:20260424T060509
CREATED:20230730T005937Z
LAST-MODIFIED:20250701T181040Z
UID:990002170-1717318800-1717322400@www.clickiowa.com
SUMMARY:9AM City Kids
DESCRIPTION:
URL:https://www.clickiowa.com/event/900am-city-kids/2024-06-02/
LOCATION:Kids Block
CATEGORIES:Kids
ATTACH;FMTTYPE=image/png:https://www.clickiowa.com/wp-content/uploads/2023/07/kids.png
END:VEVENT
BEGIN:VEVENT
DTSTART;TZID=UTC:20240602T103000
DTEND;TZID=UTC:20240602T113000
DTSTAMP:20260424T060509
CREATED:20230730T010050Z
LAST-MODIFIED:20250701T180953Z
UID:990002434-1717324200-1717327800@www.clickiowa.com
SUMMARY:10:30AM City Kids
DESCRIPTION:
URL:https://www.clickiowa.com/event/1030am-city-kids/2024-06-02/
LOCATION:Kids Block
CATEGORIES:Kids
ATTACH;FMTTYPE=image/png:https://www.clickiowa.com/wp-content/uploads/2023/07/kids.png
END:VEVENT
BEGIN:VEVENT
DTSTART;TZID=UTC:20240609T090000
DTEND;TZID=UTC:20240609T100000
DTSTAMP:20260424T060509
CREATED:20230730T005937Z
LAST-MODIFIED:20250701T181040Z
UID:990002171-1717923600-1717927200@www.clickiowa.com
SUMMARY:9AM City Kids
DESCRIPTION:
URL:https://www.clickiowa.com/event/900am-city-kids/2024-06-09/
LOCATION:Kids Block
CATEGORIES:Kids
ATTACH;FMTTYPE=image/png:https://www.clickiowa.com/wp-content/uploads/2023/07/kids.png
END:VEVENT
BEGIN:VEVENT
DTSTART;TZID=UTC:20240609T103000
DTEND;TZID=UTC:20240609T113000
DTSTAMP:20260424T060509
CREATED:20230730T010050Z
LAST-MODIFIED:20250701T180953Z
UID:990002435-1717929000-1717932600@www.clickiowa.com
SUMMARY:10:30AM City Kids
DESCRIPTION:
URL:https://www.clickiowa.com/event/1030am-city-kids/2024-06-09/
LOCATION:Kids Block
CATEGORIES:Kids
ATTACH;FMTTYPE=image/png:https://www.clickiowa.com/wp-content/uploads/2023/07/kids.png
END:VEVENT
BEGIN:VEVENT
DTSTART;TZID=UTC:20240616T090000
DTEND;TZID=UTC:20240616T100000
DTSTAMP:20260424T060509
CREATED:20230730T005937Z
LAST-MODIFIED:20250701T181040Z
UID:990002172-1718528400-1718532000@www.clickiowa.com
SUMMARY:9AM City Kids
DESCRIPTION:
URL:https://www.clickiowa.com/event/900am-city-kids/2024-06-16/
LOCATION:Kids Block
CATEGORIES:Kids
ATTACH;FMTTYPE=image/png:https://www.clickiowa.com/wp-content/uploads/2023/07/kids.png
END:VEVENT
BEGIN:VEVENT
DTSTART;TZID=UTC:20240616T103000
DTEND;TZID=UTC:20240616T113000
DTSTAMP:20260424T060509
CREATED:20230730T010050Z
LAST-MODIFIED:20250701T180953Z
UID:990002436-1718533800-1718537400@www.clickiowa.com
SUMMARY:10:30AM City Kids
DESCRIPTION:
URL:https://www.clickiowa.com/event/1030am-city-kids/2024-06-16/
LOCATION:Kids Block
CATEGORIES:Kids
ATTACH;FMTTYPE=image/png:https://www.clickiowa.com/wp-content/uploads/2023/07/kids.png
END:VEVENT
BEGIN:VEVENT
DTSTART;TZID=UTC:20240623T090000
DTEND;TZID=UTC:20240623T100000
DTSTAMP:20260424T060509
CREATED:20230730T005937Z
LAST-MODIFIED:20250701T181040Z
UID:990002173-1719133200-1719136800@www.clickiowa.com
SUMMARY:9AM City Kids
DESCRIPTION:
URL:https://www.clickiowa.com/event/900am-city-kids/2024-06-23/
LOCATION:Kids Block
CATEGORIES:Kids
ATTACH;FMTTYPE=image/png:https://www.clickiowa.com/wp-content/uploads/2023/07/kids.png
END:VEVENT
BEGIN:VEVENT
DTSTART;TZID=UTC:20240623T103000
DTEND;TZID=UTC:20240623T113000
DTSTAMP:20260424T060509
CREATED:20230730T010050Z
LAST-MODIFIED:20250701T180953Z
UID:990002437-1719138600-1719142200@www.clickiowa.com
SUMMARY:10:30AM City Kids
DESCRIPTION:
URL:https://www.clickiowa.com/event/1030am-city-kids/2024-06-23/
LOCATION:Kids Block
CATEGORIES:Kids
ATTACH;FMTTYPE=image/png:https://www.clickiowa.com/wp-content/uploads/2023/07/kids.png
END:VEVENT
BEGIN:VEVENT
DTSTART;TZID=UTC:20240630T090000
DTEND;TZID=UTC:20240630T100000
DTSTAMP:20260424T060509
CREATED:20230730T005937Z
LAST-MODIFIED:20250701T181040Z
UID:990002174-1719738000-1719741600@www.clickiowa.com
SUMMARY:9AM City Kids
DESCRIPTION:
URL:https://www.clickiowa.com/event/900am-city-kids/2024-06-30/
LOCATION:Kids Block
CATEGORIES:Kids
ATTACH;FMTTYPE=image/png:https://www.clickiowa.com/wp-content/uploads/2023/07/kids.png
END:VEVENT
BEGIN:VEVENT
DTSTART;TZID=UTC:20240630T103000
DTEND;TZID=UTC:20240630T113000
DTSTAMP:20260424T060509
CREATED:20230730T010050Z
LAST-MODIFIED:20250701T180953Z
UID:990002438-1719743400-1719747000@www.clickiowa.com
SUMMARY:10:30AM City Kids
DESCRIPTION:
URL:https://www.clickiowa.com/event/1030am-city-kids/2024-06-30/
LOCATION:Kids Block
CATEGORIES:Kids
ATTACH;FMTTYPE=image/png:https://www.clickiowa.com/wp-content/uploads/2023/07/kids.png
END:VEVENT
END:VCALENDAR