BEGIN:VCALENDAR
VERSION:2.0
PRODID:-//Capitol City Church - ECPv6.15.18//NONSGML v1.0//EN
CALSCALE:GREGORIAN
METHOD:PUBLISH
X-ORIGINAL-URL:https://www.clickiowa.com
X-WR-CALDESC:Events for Capitol City Church
REFRESH-INTERVAL;VALUE=DURATION:PT1H
X-Robots-Tag:noindex
X-PUBLISHED-TTL:PT1H
BEGIN:VTIMEZONE
TZID:UTC
BEGIN:STANDARD
TZOFFSETFROM:+0000
TZOFFSETTO:+0000
TZNAME:UTC
DTSTART:20230101T000000
END:STANDARD
END:VTIMEZONE
BEGIN:VEVENT
DTSTART;TZID=UTC:20240707T090000
DTEND;TZID=UTC:20240707T100000
DTSTAMP:20260425T082125
CREATED:20230730T005937Z
LAST-MODIFIED:20250701T181040Z
UID:990002175-1720342800-1720346400@www.clickiowa.com
SUMMARY:9AM City Kids
DESCRIPTION:
URL:https://www.clickiowa.com/event/900am-city-kids/2024-07-07/
LOCATION:Kids Block
CATEGORIES:Kids
ATTACH;FMTTYPE=image/png:https://www.clickiowa.com/wp-content/uploads/2023/07/kids.png
END:VEVENT
BEGIN:VEVENT
DTSTART;TZID=UTC:20240707T103000
DTEND;TZID=UTC:20240707T113000
DTSTAMP:20260425T082125
CREATED:20230730T010050Z
LAST-MODIFIED:20250701T180953Z
UID:990002439-1720348200-1720351800@www.clickiowa.com
SUMMARY:10:30AM City Kids
DESCRIPTION:
URL:https://www.clickiowa.com/event/1030am-city-kids/2024-07-07/
LOCATION:Kids Block
CATEGORIES:Kids
ATTACH;FMTTYPE=image/png:https://www.clickiowa.com/wp-content/uploads/2023/07/kids.png
END:VEVENT
BEGIN:VEVENT
DTSTART;TZID=UTC:20240714T090000
DTEND;TZID=UTC:20240714T100000
DTSTAMP:20260425T082125
CREATED:20230730T005937Z
LAST-MODIFIED:20250701T181040Z
UID:990002176-1720947600-1720951200@www.clickiowa.com
SUMMARY:9AM City Kids
DESCRIPTION:
URL:https://www.clickiowa.com/event/900am-city-kids/2024-07-14/
LOCATION:Kids Block
CATEGORIES:Kids
ATTACH;FMTTYPE=image/png:https://www.clickiowa.com/wp-content/uploads/2023/07/kids.png
END:VEVENT
BEGIN:VEVENT
DTSTART;TZID=UTC:20240714T103000
DTEND;TZID=UTC:20240714T113000
DTSTAMP:20260425T082125
CREATED:20230730T010050Z
LAST-MODIFIED:20250701T180953Z
UID:990002440-1720953000-1720956600@www.clickiowa.com
SUMMARY:10:30AM City Kids
DESCRIPTION:
URL:https://www.clickiowa.com/event/1030am-city-kids/2024-07-14/
LOCATION:Kids Block
CATEGORIES:Kids
ATTACH;FMTTYPE=image/png:https://www.clickiowa.com/wp-content/uploads/2023/07/kids.png
END:VEVENT
BEGIN:VEVENT
DTSTART;TZID=UTC:20240721T090000
DTEND;TZID=UTC:20240721T100000
DTSTAMP:20260425T082125
CREATED:20230730T005937Z
LAST-MODIFIED:20250701T181040Z
UID:990002177-1721552400-1721556000@www.clickiowa.com
SUMMARY:9AM City Kids
DESCRIPTION:
URL:https://www.clickiowa.com/event/900am-city-kids/2024-07-21/
LOCATION:Kids Block
CATEGORIES:Kids
ATTACH;FMTTYPE=image/png:https://www.clickiowa.com/wp-content/uploads/2023/07/kids.png
END:VEVENT
BEGIN:VEVENT
DTSTART;TZID=UTC:20240721T103000
DTEND;TZID=UTC:20240721T113000
DTSTAMP:20260425T082125
CREATED:20230730T010050Z
LAST-MODIFIED:20250701T180953Z
UID:990002441-1721557800-1721561400@www.clickiowa.com
SUMMARY:10:30AM City Kids
DESCRIPTION:
URL:https://www.clickiowa.com/event/1030am-city-kids/2024-07-21/
LOCATION:Kids Block
CATEGORIES:Kids
ATTACH;FMTTYPE=image/png:https://www.clickiowa.com/wp-content/uploads/2023/07/kids.png
END:VEVENT
BEGIN:VEVENT
DTSTART;TZID=UTC:20240728T090000
DTEND;TZID=UTC:20240728T100000
DTSTAMP:20260425T082125
CREATED:20230730T005937Z
LAST-MODIFIED:20250701T181040Z
UID:990002178-1722157200-1722160800@www.clickiowa.com
SUMMARY:9AM City Kids
DESCRIPTION:
URL:https://www.clickiowa.com/event/900am-city-kids/2024-07-28/
LOCATION:Kids Block
CATEGORIES:Kids
ATTACH;FMTTYPE=image/png:https://www.clickiowa.com/wp-content/uploads/2023/07/kids.png
END:VEVENT
BEGIN:VEVENT
DTSTART;TZID=UTC:20240728T103000
DTEND;TZID=UTC:20240728T113000
DTSTAMP:20260425T082125
CREATED:20230730T010050Z
LAST-MODIFIED:20250701T180953Z
UID:990002442-1722162600-1722166200@www.clickiowa.com
SUMMARY:10:30AM City Kids
DESCRIPTION:
URL:https://www.clickiowa.com/event/1030am-city-kids/2024-07-28/
LOCATION:Kids Block
CATEGORIES:Kids
ATTACH;FMTTYPE=image/png:https://www.clickiowa.com/wp-content/uploads/2023/07/kids.png
END:VEVENT
END:VCALENDAR