BEGIN:VCALENDAR
VERSION:2.0
PRODID:-//Capitol City Church - ECPv6.15.18//NONSGML v1.0//EN
CALSCALE:GREGORIAN
METHOD:PUBLISH
X-WR-CALNAME:Capitol City Church
X-ORIGINAL-URL:https://www.clickiowa.com
X-WR-CALDESC:Events for Capitol City Church
REFRESH-INTERVAL;VALUE=DURATION:PT1H
X-Robots-Tag:noindex
X-PUBLISHED-TTL:PT1H
BEGIN:VTIMEZONE
TZID:UTC
BEGIN:STANDARD
TZOFFSETFROM:+0000
TZOFFSETTO:+0000
TZNAME:UTC
DTSTART:20230101T000000
END:STANDARD
END:VTIMEZONE
BEGIN:VEVENT
DTSTART;TZID=UTC:20240901T090000
DTEND;TZID=UTC:20240901T100000
DTSTAMP:20260425T183812
CREATED:20230730T005937Z
LAST-MODIFIED:20250701T181040Z
UID:990002183-1725181200-1725184800@www.clickiowa.com
SUMMARY:9AM City Kids
DESCRIPTION:
URL:https://www.clickiowa.com/event/900am-city-kids/2024-09-01/
LOCATION:Kids Block
CATEGORIES:Kids
ATTACH;FMTTYPE=image/png:https://www.clickiowa.com/wp-content/uploads/2023/07/kids.png
END:VEVENT
BEGIN:VEVENT
DTSTART;TZID=UTC:20240901T103000
DTEND;TZID=UTC:20240901T113000
DTSTAMP:20260425T183812
CREATED:20230730T010050Z
LAST-MODIFIED:20250701T180953Z
UID:990002447-1725186600-1725190200@www.clickiowa.com
SUMMARY:10:30AM City Kids
DESCRIPTION:
URL:https://www.clickiowa.com/event/1030am-city-kids/2024-09-01/
LOCATION:Kids Block
CATEGORIES:Kids
ATTACH;FMTTYPE=image/png:https://www.clickiowa.com/wp-content/uploads/2023/07/kids.png
END:VEVENT
BEGIN:VEVENT
DTSTART;TZID=UTC:20240908T090000
DTEND;TZID=UTC:20240908T100000
DTSTAMP:20260425T183812
CREATED:20230730T005937Z
LAST-MODIFIED:20250701T181040Z
UID:990002184-1725786000-1725789600@www.clickiowa.com
SUMMARY:9AM City Kids
DESCRIPTION:
URL:https://www.clickiowa.com/event/900am-city-kids/2024-09-08/
LOCATION:Kids Block
CATEGORIES:Kids
ATTACH;FMTTYPE=image/png:https://www.clickiowa.com/wp-content/uploads/2023/07/kids.png
END:VEVENT
BEGIN:VEVENT
DTSTART;TZID=UTC:20240908T103000
DTEND;TZID=UTC:20240908T113000
DTSTAMP:20260425T183812
CREATED:20230730T010050Z
LAST-MODIFIED:20250701T180953Z
UID:990002448-1725791400-1725795000@www.clickiowa.com
SUMMARY:10:30AM City Kids
DESCRIPTION:
URL:https://www.clickiowa.com/event/1030am-city-kids/2024-09-08/
LOCATION:Kids Block
CATEGORIES:Kids
ATTACH;FMTTYPE=image/png:https://www.clickiowa.com/wp-content/uploads/2023/07/kids.png
END:VEVENT
BEGIN:VEVENT
DTSTART;TZID=UTC:20240915T090000
DTEND;TZID=UTC:20240915T100000
DTSTAMP:20260425T183812
CREATED:20230730T005937Z
LAST-MODIFIED:20250701T181040Z
UID:990002185-1726390800-1726394400@www.clickiowa.com
SUMMARY:9AM City Kids
DESCRIPTION:
URL:https://www.clickiowa.com/event/900am-city-kids/2024-09-15/
LOCATION:Kids Block
CATEGORIES:Kids
ATTACH;FMTTYPE=image/png:https://www.clickiowa.com/wp-content/uploads/2023/07/kids.png
END:VEVENT
BEGIN:VEVENT
DTSTART;TZID=UTC:20240915T103000
DTEND;TZID=UTC:20240915T113000
DTSTAMP:20260425T183812
CREATED:20230730T010050Z
LAST-MODIFIED:20250701T180953Z
UID:990002449-1726396200-1726399800@www.clickiowa.com
SUMMARY:10:30AM City Kids
DESCRIPTION:
URL:https://www.clickiowa.com/event/1030am-city-kids/2024-09-15/
LOCATION:Kids Block
CATEGORIES:Kids
ATTACH;FMTTYPE=image/png:https://www.clickiowa.com/wp-content/uploads/2023/07/kids.png
END:VEVENT
BEGIN:VEVENT
DTSTART;TZID=UTC:20240922T090000
DTEND;TZID=UTC:20240922T100000
DTSTAMP:20260425T183812
CREATED:20230730T005937Z
LAST-MODIFIED:20250701T181040Z
UID:990002186-1726995600-1726999200@www.clickiowa.com
SUMMARY:9AM City Kids
DESCRIPTION:
URL:https://www.clickiowa.com/event/900am-city-kids/2024-09-22/
LOCATION:Kids Block
CATEGORIES:Kids
ATTACH;FMTTYPE=image/png:https://www.clickiowa.com/wp-content/uploads/2023/07/kids.png
END:VEVENT
BEGIN:VEVENT
DTSTART;TZID=UTC:20240922T103000
DTEND;TZID=UTC:20240922T113000
DTSTAMP:20260425T183812
CREATED:20230730T010050Z
LAST-MODIFIED:20250701T180953Z
UID:990002450-1727001000-1727004600@www.clickiowa.com
SUMMARY:10:30AM City Kids
DESCRIPTION:
URL:https://www.clickiowa.com/event/1030am-city-kids/2024-09-22/
LOCATION:Kids Block
CATEGORIES:Kids
ATTACH;FMTTYPE=image/png:https://www.clickiowa.com/wp-content/uploads/2023/07/kids.png
END:VEVENT
BEGIN:VEVENT
DTSTART;TZID=UTC:20240929T090000
DTEND;TZID=UTC:20240929T100000
DTSTAMP:20260425T183812
CREATED:20230730T005937Z
LAST-MODIFIED:20250701T181040Z
UID:990002187-1727600400-1727604000@www.clickiowa.com
SUMMARY:9AM City Kids
DESCRIPTION:
URL:https://www.clickiowa.com/event/900am-city-kids/2024-09-29/
LOCATION:Kids Block
CATEGORIES:Kids
ATTACH;FMTTYPE=image/png:https://www.clickiowa.com/wp-content/uploads/2023/07/kids.png
END:VEVENT
BEGIN:VEVENT
DTSTART;TZID=UTC:20240929T103000
DTEND;TZID=UTC:20240929T113000
DTSTAMP:20260425T183812
CREATED:20230730T010050Z
LAST-MODIFIED:20250701T180953Z
UID:990002451-1727605800-1727609400@www.clickiowa.com
SUMMARY:10:30AM City Kids
DESCRIPTION:
URL:https://www.clickiowa.com/event/1030am-city-kids/2024-09-29/
LOCATION:Kids Block
CATEGORIES:Kids
ATTACH;FMTTYPE=image/png:https://www.clickiowa.com/wp-content/uploads/2023/07/kids.png
END:VEVENT
END:VCALENDAR