BEGIN:VCALENDAR
VERSION:2.0
PRODID:-//Capitol City Church - ECPv6.15.18//NONSGML v1.0//EN
CALSCALE:GREGORIAN
METHOD:PUBLISH
X-WR-CALNAME:Capitol City Church
X-ORIGINAL-URL:https://www.clickiowa.com
X-WR-CALDESC:Events for Capitol City Church
REFRESH-INTERVAL;VALUE=DURATION:PT1H
X-Robots-Tag:noindex
X-PUBLISHED-TTL:PT1H
BEGIN:VTIMEZONE
TZID:UTC
BEGIN:STANDARD
TZOFFSETFROM:+0000
TZOFFSETTO:+0000
TZNAME:UTC
DTSTART:20250101T000000
END:STANDARD
END:VTIMEZONE
BEGIN:VEVENT
DTSTART;TZID=UTC:20261206T090000
DTEND;TZID=UTC:20261206T100000
DTSTAMP:20260422T050622
CREATED:20230730T005937Z
LAST-MODIFIED:20250701T181040Z
UID:990002301-1796547600-1796551200@www.clickiowa.com
SUMMARY:9AM City Kids
DESCRIPTION:
URL:https://www.clickiowa.com/event/900am-city-kids/2026-12-06/
LOCATION:Kids Block
CATEGORIES:Kids
ATTACH;FMTTYPE=image/png:https://www.clickiowa.com/wp-content/uploads/2023/07/kids.png
END:VEVENT
BEGIN:VEVENT
DTSTART;TZID=UTC:20261206T103000
DTEND;TZID=UTC:20261206T113000
DTSTAMP:20260422T050622
CREATED:20230730T010050Z
LAST-MODIFIED:20250701T180953Z
UID:990002565-1796553000-1796556600@www.clickiowa.com
SUMMARY:10:30AM City Kids
DESCRIPTION:
URL:https://www.clickiowa.com/event/1030am-city-kids/2026-12-06/
LOCATION:Kids Block
CATEGORIES:Kids
ATTACH;FMTTYPE=image/png:https://www.clickiowa.com/wp-content/uploads/2023/07/kids.png
END:VEVENT
BEGIN:VEVENT
DTSTART;TZID=UTC:20261213T090000
DTEND;TZID=UTC:20261213T100000
DTSTAMP:20260422T050622
CREATED:20230730T005937Z
LAST-MODIFIED:20250701T181040Z
UID:990002302-1797152400-1797156000@www.clickiowa.com
SUMMARY:9AM City Kids
DESCRIPTION:
URL:https://www.clickiowa.com/event/900am-city-kids/2026-12-13/
LOCATION:Kids Block
CATEGORIES:Kids
ATTACH;FMTTYPE=image/png:https://www.clickiowa.com/wp-content/uploads/2023/07/kids.png
END:VEVENT
BEGIN:VEVENT
DTSTART;TZID=UTC:20261213T103000
DTEND;TZID=UTC:20261213T113000
DTSTAMP:20260422T050622
CREATED:20230730T010050Z
LAST-MODIFIED:20250701T180953Z
UID:990002566-1797157800-1797161400@www.clickiowa.com
SUMMARY:10:30AM City Kids
DESCRIPTION:
URL:https://www.clickiowa.com/event/1030am-city-kids/2026-12-13/
LOCATION:Kids Block
CATEGORIES:Kids
ATTACH;FMTTYPE=image/png:https://www.clickiowa.com/wp-content/uploads/2023/07/kids.png
END:VEVENT
BEGIN:VEVENT
DTSTART;TZID=UTC:20261220T090000
DTEND;TZID=UTC:20261220T100000
DTSTAMP:20260422T050622
CREATED:20230730T005937Z
LAST-MODIFIED:20250701T181040Z
UID:990002303-1797757200-1797760800@www.clickiowa.com
SUMMARY:9AM City Kids
DESCRIPTION:
URL:https://www.clickiowa.com/event/900am-city-kids/2026-12-20/
LOCATION:Kids Block
CATEGORIES:Kids
ATTACH;FMTTYPE=image/png:https://www.clickiowa.com/wp-content/uploads/2023/07/kids.png
END:VEVENT
BEGIN:VEVENT
DTSTART;TZID=UTC:20261220T103000
DTEND;TZID=UTC:20261220T113000
DTSTAMP:20260422T050622
CREATED:20230730T010050Z
LAST-MODIFIED:20250701T180953Z
UID:990002567-1797762600-1797766200@www.clickiowa.com
SUMMARY:10:30AM City Kids
DESCRIPTION:
URL:https://www.clickiowa.com/event/1030am-city-kids/2026-12-20/
LOCATION:Kids Block
CATEGORIES:Kids
ATTACH;FMTTYPE=image/png:https://www.clickiowa.com/wp-content/uploads/2023/07/kids.png
END:VEVENT
BEGIN:VEVENT
DTSTART;TZID=UTC:20261227T090000
DTEND;TZID=UTC:20261227T100000
DTSTAMP:20260422T050622
CREATED:20230730T005937Z
LAST-MODIFIED:20250701T181040Z
UID:990002304-1798362000-1798365600@www.clickiowa.com
SUMMARY:9AM City Kids
DESCRIPTION:
URL:https://www.clickiowa.com/event/900am-city-kids/2026-12-27/
LOCATION:Kids Block
CATEGORIES:Kids
ATTACH;FMTTYPE=image/png:https://www.clickiowa.com/wp-content/uploads/2023/07/kids.png
END:VEVENT
BEGIN:VEVENT
DTSTART;TZID=UTC:20261227T103000
DTEND;TZID=UTC:20261227T113000
DTSTAMP:20260422T050622
CREATED:20230730T010050Z
LAST-MODIFIED:20250701T180953Z
UID:990002568-1798367400-1798371000@www.clickiowa.com
SUMMARY:10:30AM City Kids
DESCRIPTION:
URL:https://www.clickiowa.com/event/1030am-city-kids/2026-12-27/
LOCATION:Kids Block
CATEGORIES:Kids
ATTACH;FMTTYPE=image/png:https://www.clickiowa.com/wp-content/uploads/2023/07/kids.png
END:VEVENT
END:VCALENDAR