BEGIN:VCALENDAR
VERSION:2.0
PRODID:-//Capitol City Church - ECPv6.15.18//NONSGML v1.0//EN
CALSCALE:GREGORIAN
METHOD:PUBLISH
X-ORIGINAL-URL:https://www.clickiowa.com
X-WR-CALDESC:Events for Capitol City Church
REFRESH-INTERVAL;VALUE=DURATION:PT1H
X-Robots-Tag:noindex
X-PUBLISHED-TTL:PT1H
BEGIN:VTIMEZONE
TZID:UTC
BEGIN:STANDARD
TZOFFSETFROM:+0000
TZOFFSETTO:+0000
TZNAME:UTC
DTSTART:20260101T000000
END:STANDARD
END:VTIMEZONE
BEGIN:VEVENT
DTSTART;TZID=UTC:20270207T090000
DTEND;TZID=UTC:20270207T100000
DTSTAMP:20260425T091027
CREATED:20230730T005937Z
LAST-MODIFIED:20250701T181040Z
UID:990002310-1801990800-1801994400@www.clickiowa.com
SUMMARY:9AM City Kids
DESCRIPTION:
URL:https://www.clickiowa.com/event/900am-city-kids/2027-02-07/
LOCATION:Kids Block
CATEGORIES:Kids
ATTACH;FMTTYPE=image/png:https://www.clickiowa.com/wp-content/uploads/2023/07/kids.png
END:VEVENT
BEGIN:VEVENT
DTSTART;TZID=UTC:20270207T103000
DTEND;TZID=UTC:20270207T113000
DTSTAMP:20260425T091027
CREATED:20230730T010050Z
LAST-MODIFIED:20250701T180953Z
UID:990002574-1801996200-1801999800@www.clickiowa.com
SUMMARY:10:30AM City Kids
DESCRIPTION:
URL:https://www.clickiowa.com/event/1030am-city-kids/2027-02-07/
LOCATION:Kids Block
CATEGORIES:Kids
ATTACH;FMTTYPE=image/png:https://www.clickiowa.com/wp-content/uploads/2023/07/kids.png
END:VEVENT
BEGIN:VEVENT
DTSTART;TZID=UTC:20270214T090000
DTEND;TZID=UTC:20270214T100000
DTSTAMP:20260425T091027
CREATED:20230730T005937Z
LAST-MODIFIED:20250701T181040Z
UID:990002311-1802595600-1802599200@www.clickiowa.com
SUMMARY:9AM City Kids
DESCRIPTION:
URL:https://www.clickiowa.com/event/900am-city-kids/2027-02-14/
LOCATION:Kids Block
CATEGORIES:Kids
ATTACH;FMTTYPE=image/png:https://www.clickiowa.com/wp-content/uploads/2023/07/kids.png
END:VEVENT
BEGIN:VEVENT
DTSTART;TZID=UTC:20270214T103000
DTEND;TZID=UTC:20270214T113000
DTSTAMP:20260425T091027
CREATED:20230730T010050Z
LAST-MODIFIED:20250701T180953Z
UID:990002575-1802601000-1802604600@www.clickiowa.com
SUMMARY:10:30AM City Kids
DESCRIPTION:
URL:https://www.clickiowa.com/event/1030am-city-kids/2027-02-14/
LOCATION:Kids Block
CATEGORIES:Kids
ATTACH;FMTTYPE=image/png:https://www.clickiowa.com/wp-content/uploads/2023/07/kids.png
END:VEVENT
BEGIN:VEVENT
DTSTART;TZID=UTC:20270221T090000
DTEND;TZID=UTC:20270221T100000
DTSTAMP:20260425T091027
CREATED:20230730T005937Z
LAST-MODIFIED:20250701T181040Z
UID:990002312-1803200400-1803204000@www.clickiowa.com
SUMMARY:9AM City Kids
DESCRIPTION:
URL:https://www.clickiowa.com/event/900am-city-kids/2027-02-21/
LOCATION:Kids Block
CATEGORIES:Kids
ATTACH;FMTTYPE=image/png:https://www.clickiowa.com/wp-content/uploads/2023/07/kids.png
END:VEVENT
BEGIN:VEVENT
DTSTART;TZID=UTC:20270221T103000
DTEND;TZID=UTC:20270221T113000
DTSTAMP:20260425T091027
CREATED:20230730T010050Z
LAST-MODIFIED:20250701T180953Z
UID:990002576-1803205800-1803209400@www.clickiowa.com
SUMMARY:10:30AM City Kids
DESCRIPTION:
URL:https://www.clickiowa.com/event/1030am-city-kids/2027-02-21/
LOCATION:Kids Block
CATEGORIES:Kids
ATTACH;FMTTYPE=image/png:https://www.clickiowa.com/wp-content/uploads/2023/07/kids.png
END:VEVENT
BEGIN:VEVENT
DTSTART;TZID=UTC:20270228T090000
DTEND;TZID=UTC:20270228T100000
DTSTAMP:20260425T091027
CREATED:20230730T005937Z
LAST-MODIFIED:20250701T181040Z
UID:990002313-1803805200-1803808800@www.clickiowa.com
SUMMARY:9AM City Kids
DESCRIPTION:
URL:https://www.clickiowa.com/event/900am-city-kids/2027-02-28/
LOCATION:Kids Block
CATEGORIES:Kids
ATTACH;FMTTYPE=image/png:https://www.clickiowa.com/wp-content/uploads/2023/07/kids.png
END:VEVENT
BEGIN:VEVENT
DTSTART;TZID=UTC:20270228T103000
DTEND;TZID=UTC:20270228T113000
DTSTAMP:20260425T091027
CREATED:20230730T010050Z
LAST-MODIFIED:20250701T180953Z
UID:990002577-1803810600-1803814200@www.clickiowa.com
SUMMARY:10:30AM City Kids
DESCRIPTION:
URL:https://www.clickiowa.com/event/1030am-city-kids/2027-02-28/
LOCATION:Kids Block
CATEGORIES:Kids
ATTACH;FMTTYPE=image/png:https://www.clickiowa.com/wp-content/uploads/2023/07/kids.png
END:VEVENT
END:VCALENDAR