BEGIN:VCALENDAR
VERSION:2.0
PRODID:-//Capitol City Church - ECPv6.15.18//NONSGML v1.0//EN
CALSCALE:GREGORIAN
METHOD:PUBLISH
X-WR-CALNAME:Capitol City Church
X-ORIGINAL-URL:https://www.clickiowa.com
X-WR-CALDESC:Events for Capitol City Church
REFRESH-INTERVAL;VALUE=DURATION:PT1H
X-Robots-Tag:noindex
X-PUBLISHED-TTL:PT1H
BEGIN:VTIMEZONE
TZID:UTC
BEGIN:STANDARD
TZOFFSETFROM:+0000
TZOFFSETTO:+0000
TZNAME:UTC
DTSTART:20250101T000000
END:STANDARD
END:VTIMEZONE
BEGIN:VEVENT
DTSTART;TZID=UTC:20261101T090000
DTEND;TZID=UTC:20261101T100000
DTSTAMP:20260422T050638
CREATED:20230730T005637Z
LAST-MODIFIED:20250701T175841Z
UID:990002025-1793523600-1793527200@www.clickiowa.com
SUMMARY:9AM Service
DESCRIPTION:
URL:https://www.clickiowa.com/event/first-service/2026-11-01/
LOCATION:Main Sanctuary
CATEGORIES:Main Church
ATTACH;FMTTYPE=image/png:https://www.clickiowa.com/wp-content/uploads/2023/07/Cal-Feed-2-1.png
END:VEVENT
BEGIN:VEVENT
DTSTART;TZID=UTC:20261101T103000
DTEND;TZID=UTC:20261101T103000
DTSTAMP:20260422T050638
CREATED:20230730T005844Z
LAST-MODIFIED:20250701T180247Z
UID:990002824-1793529000-1793529000@www.clickiowa.com
SUMMARY:10:30AM Service
DESCRIPTION:Add New
URL:https://www.clickiowa.com/event/1030am-service/2026-11-01/
LOCATION:Main Sanctuary
CATEGORIES:Main Church
ATTACH;FMTTYPE=image/png:https://www.clickiowa.com/wp-content/uploads/2023/07/Cal-Feed-3.png
END:VEVENT
BEGIN:VEVENT
DTSTART;TZID=UTC:20261108T090000
DTEND;TZID=UTC:20261108T100000
DTSTAMP:20260422T050638
CREATED:20230730T005637Z
LAST-MODIFIED:20250701T175841Z
UID:990002026-1794128400-1794132000@www.clickiowa.com
SUMMARY:9AM Service
DESCRIPTION:
URL:https://www.clickiowa.com/event/first-service/2026-11-08/
LOCATION:Main Sanctuary
CATEGORIES:Main Church
ATTACH;FMTTYPE=image/png:https://www.clickiowa.com/wp-content/uploads/2023/07/Cal-Feed-2-1.png
END:VEVENT
BEGIN:VEVENT
DTSTART;TZID=UTC:20261108T103000
DTEND;TZID=UTC:20261108T103000
DTSTAMP:20260422T050638
CREATED:20230730T005844Z
LAST-MODIFIED:20250701T180247Z
UID:990002825-1794133800-1794133800@www.clickiowa.com
SUMMARY:10:30AM Service
DESCRIPTION:Add New
URL:https://www.clickiowa.com/event/1030am-service/2026-11-08/
LOCATION:Main Sanctuary
CATEGORIES:Main Church
ATTACH;FMTTYPE=image/png:https://www.clickiowa.com/wp-content/uploads/2023/07/Cal-Feed-3.png
END:VEVENT
BEGIN:VEVENT
DTSTART;TZID=UTC:20261115T090000
DTEND;TZID=UTC:20261115T100000
DTSTAMP:20260422T050638
CREATED:20230730T005637Z
LAST-MODIFIED:20250701T175841Z
UID:990002027-1794733200-1794736800@www.clickiowa.com
SUMMARY:9AM Service
DESCRIPTION:
URL:https://www.clickiowa.com/event/first-service/2026-11-15/
LOCATION:Main Sanctuary
CATEGORIES:Main Church
ATTACH;FMTTYPE=image/png:https://www.clickiowa.com/wp-content/uploads/2023/07/Cal-Feed-2-1.png
END:VEVENT
BEGIN:VEVENT
DTSTART;TZID=UTC:20261115T103000
DTEND;TZID=UTC:20261115T103000
DTSTAMP:20260422T050638
CREATED:20230730T005844Z
LAST-MODIFIED:20250701T180247Z
UID:990002826-1794738600-1794738600@www.clickiowa.com
SUMMARY:10:30AM Service
DESCRIPTION:Add New
URL:https://www.clickiowa.com/event/1030am-service/2026-11-15/
LOCATION:Main Sanctuary
CATEGORIES:Main Church
ATTACH;FMTTYPE=image/png:https://www.clickiowa.com/wp-content/uploads/2023/07/Cal-Feed-3.png
END:VEVENT
BEGIN:VEVENT
DTSTART;TZID=UTC:20261122T090000
DTEND;TZID=UTC:20261122T100000
DTSTAMP:20260422T050638
CREATED:20230730T005637Z
LAST-MODIFIED:20250701T175841Z
UID:990002028-1795338000-1795341600@www.clickiowa.com
SUMMARY:9AM Service
DESCRIPTION:
URL:https://www.clickiowa.com/event/first-service/2026-11-22/
LOCATION:Main Sanctuary
CATEGORIES:Main Church
ATTACH;FMTTYPE=image/png:https://www.clickiowa.com/wp-content/uploads/2023/07/Cal-Feed-2-1.png
END:VEVENT
BEGIN:VEVENT
DTSTART;TZID=UTC:20261122T103000
DTEND;TZID=UTC:20261122T103000
DTSTAMP:20260422T050638
CREATED:20230730T005844Z
LAST-MODIFIED:20250701T180247Z
UID:990002827-1795343400-1795343400@www.clickiowa.com
SUMMARY:10:30AM Service
DESCRIPTION:Add New
URL:https://www.clickiowa.com/event/1030am-service/2026-11-22/
LOCATION:Main Sanctuary
CATEGORIES:Main Church
ATTACH;FMTTYPE=image/png:https://www.clickiowa.com/wp-content/uploads/2023/07/Cal-Feed-3.png
END:VEVENT
BEGIN:VEVENT
DTSTART;TZID=UTC:20261129T090000
DTEND;TZID=UTC:20261129T100000
DTSTAMP:20260422T050638
CREATED:20230730T005637Z
LAST-MODIFIED:20250701T175841Z
UID:990002029-1795942800-1795946400@www.clickiowa.com
SUMMARY:9AM Service
DESCRIPTION:
URL:https://www.clickiowa.com/event/first-service/2026-11-29/
LOCATION:Main Sanctuary
CATEGORIES:Main Church
ATTACH;FMTTYPE=image/png:https://www.clickiowa.com/wp-content/uploads/2023/07/Cal-Feed-2-1.png
END:VEVENT
BEGIN:VEVENT
DTSTART;TZID=UTC:20261129T103000
DTEND;TZID=UTC:20261129T103000
DTSTAMP:20260422T050638
CREATED:20230730T005844Z
LAST-MODIFIED:20250701T180247Z
UID:990002828-1795948200-1795948200@www.clickiowa.com
SUMMARY:10:30AM Service
DESCRIPTION:Add New
URL:https://www.clickiowa.com/event/1030am-service/2026-11-29/
LOCATION:Main Sanctuary
CATEGORIES:Main Church
ATTACH;FMTTYPE=image/png:https://www.clickiowa.com/wp-content/uploads/2023/07/Cal-Feed-3.png
END:VEVENT
END:VCALENDAR