BEGIN:VCALENDAR
VERSION:2.0
PRODID:-//Capitol City Church - ECPv6.15.18//NONSGML v1.0//EN
CALSCALE:GREGORIAN
METHOD:PUBLISH
X-ORIGINAL-URL:https://www.clickiowa.com
X-WR-CALDESC:Events for Capitol City Church
REFRESH-INTERVAL;VALUE=DURATION:PT1H
X-Robots-Tag:noindex
X-PUBLISHED-TTL:PT1H
BEGIN:VTIMEZONE
TZID:UTC
BEGIN:STANDARD
TZOFFSETFROM:+0000
TZOFFSETTO:+0000
TZNAME:UTC
DTSTART:20260101T000000
END:STANDARD
END:VTIMEZONE
BEGIN:VEVENT
DTSTART;TZID=UTC:20270103T090000
DTEND;TZID=UTC:20270103T100000
DTSTAMP:20260423T033756
CREATED:20230730T005637Z
LAST-MODIFIED:20250701T175841Z
UID:990002034-1798966800-1798970400@www.clickiowa.com
SUMMARY:9AM Service
DESCRIPTION:
URL:https://www.clickiowa.com/event/first-service/2027-01-03/
LOCATION:Main Sanctuary
CATEGORIES:Main Church
ATTACH;FMTTYPE=image/png:https://www.clickiowa.com/wp-content/uploads/2023/07/Cal-Feed-2-1.png
END:VEVENT
BEGIN:VEVENT
DTSTART;TZID=UTC:20270103T103000
DTEND;TZID=UTC:20270103T103000
DTSTAMP:20260423T033756
CREATED:20230730T005844Z
LAST-MODIFIED:20250701T180247Z
UID:990002833-1798972200-1798972200@www.clickiowa.com
SUMMARY:10:30AM Service
DESCRIPTION:Add New
URL:https://www.clickiowa.com/event/1030am-service/2027-01-03/
LOCATION:Main Sanctuary
CATEGORIES:Main Church
ATTACH;FMTTYPE=image/png:https://www.clickiowa.com/wp-content/uploads/2023/07/Cal-Feed-3.png
END:VEVENT
BEGIN:VEVENT
DTSTART;TZID=UTC:20270110T090000
DTEND;TZID=UTC:20270110T100000
DTSTAMP:20260423T033756
CREATED:20230730T005637Z
LAST-MODIFIED:20250701T175841Z
UID:990002035-1799571600-1799575200@www.clickiowa.com
SUMMARY:9AM Service
DESCRIPTION:
URL:https://www.clickiowa.com/event/first-service/2027-01-10/
LOCATION:Main Sanctuary
CATEGORIES:Main Church
ATTACH;FMTTYPE=image/png:https://www.clickiowa.com/wp-content/uploads/2023/07/Cal-Feed-2-1.png
END:VEVENT
BEGIN:VEVENT
DTSTART;TZID=UTC:20270110T103000
DTEND;TZID=UTC:20270110T103000
DTSTAMP:20260423T033756
CREATED:20230730T005844Z
LAST-MODIFIED:20250701T180247Z
UID:990002834-1799577000-1799577000@www.clickiowa.com
SUMMARY:10:30AM Service
DESCRIPTION:Add New
URL:https://www.clickiowa.com/event/1030am-service/2027-01-10/
LOCATION:Main Sanctuary
CATEGORIES:Main Church
ATTACH;FMTTYPE=image/png:https://www.clickiowa.com/wp-content/uploads/2023/07/Cal-Feed-3.png
END:VEVENT
BEGIN:VEVENT
DTSTART;TZID=UTC:20270117T090000
DTEND;TZID=UTC:20270117T100000
DTSTAMP:20260423T033756
CREATED:20230730T005637Z
LAST-MODIFIED:20250701T175841Z
UID:990002036-1800176400-1800180000@www.clickiowa.com
SUMMARY:9AM Service
DESCRIPTION:
URL:https://www.clickiowa.com/event/first-service/2027-01-17/
LOCATION:Main Sanctuary
CATEGORIES:Main Church
ATTACH;FMTTYPE=image/png:https://www.clickiowa.com/wp-content/uploads/2023/07/Cal-Feed-2-1.png
END:VEVENT
BEGIN:VEVENT
DTSTART;TZID=UTC:20270117T103000
DTEND;TZID=UTC:20270117T103000
DTSTAMP:20260423T033756
CREATED:20230730T005844Z
LAST-MODIFIED:20250701T180247Z
UID:990002835-1800181800-1800181800@www.clickiowa.com
SUMMARY:10:30AM Service
DESCRIPTION:Add New
URL:https://www.clickiowa.com/event/1030am-service/2027-01-17/
LOCATION:Main Sanctuary
CATEGORIES:Main Church
ATTACH;FMTTYPE=image/png:https://www.clickiowa.com/wp-content/uploads/2023/07/Cal-Feed-3.png
END:VEVENT
BEGIN:VEVENT
DTSTART;TZID=UTC:20270124T090000
DTEND;TZID=UTC:20270124T100000
DTSTAMP:20260423T033756
CREATED:20230730T005637Z
LAST-MODIFIED:20250701T175841Z
UID:990002037-1800781200-1800784800@www.clickiowa.com
SUMMARY:9AM Service
DESCRIPTION:
URL:https://www.clickiowa.com/event/first-service/2027-01-24/
LOCATION:Main Sanctuary
CATEGORIES:Main Church
ATTACH;FMTTYPE=image/png:https://www.clickiowa.com/wp-content/uploads/2023/07/Cal-Feed-2-1.png
END:VEVENT
BEGIN:VEVENT
DTSTART;TZID=UTC:20270124T103000
DTEND;TZID=UTC:20270124T103000
DTSTAMP:20260423T033756
CREATED:20230730T005844Z
LAST-MODIFIED:20250701T180247Z
UID:990002836-1800786600-1800786600@www.clickiowa.com
SUMMARY:10:30AM Service
DESCRIPTION:Add New
URL:https://www.clickiowa.com/event/1030am-service/2027-01-24/
LOCATION:Main Sanctuary
CATEGORIES:Main Church
ATTACH;FMTTYPE=image/png:https://www.clickiowa.com/wp-content/uploads/2023/07/Cal-Feed-3.png
END:VEVENT
BEGIN:VEVENT
DTSTART;TZID=UTC:20270131T090000
DTEND;TZID=UTC:20270131T100000
DTSTAMP:20260423T033756
CREATED:20230730T005637Z
LAST-MODIFIED:20250701T175841Z
UID:990002038-1801386000-1801389600@www.clickiowa.com
SUMMARY:9AM Service
DESCRIPTION:
URL:https://www.clickiowa.com/event/first-service/2027-01-31/
LOCATION:Main Sanctuary
CATEGORIES:Main Church
ATTACH;FMTTYPE=image/png:https://www.clickiowa.com/wp-content/uploads/2023/07/Cal-Feed-2-1.png
END:VEVENT
BEGIN:VEVENT
DTSTART;TZID=UTC:20270131T103000
DTEND;TZID=UTC:20270131T103000
DTSTAMP:20260423T033756
CREATED:20230730T005844Z
LAST-MODIFIED:20250701T180247Z
UID:990002837-1801391400-1801391400@www.clickiowa.com
SUMMARY:10:30AM Service
DESCRIPTION:Add New
URL:https://www.clickiowa.com/event/1030am-service/2027-01-31/
LOCATION:Main Sanctuary
CATEGORIES:Main Church
ATTACH;FMTTYPE=image/png:https://www.clickiowa.com/wp-content/uploads/2023/07/Cal-Feed-3.png
END:VEVENT
END:VCALENDAR