BEGIN:VCALENDAR
VERSION:2.0
PRODID:-//Capitol City Church - ECPv6.15.18//NONSGML v1.0//EN
CALSCALE:GREGORIAN
METHOD:PUBLISH
X-ORIGINAL-URL:https://www.clickiowa.com
X-WR-CALDESC:Events for Capitol City Church
REFRESH-INTERVAL;VALUE=DURATION:PT1H
X-Robots-Tag:noindex
X-PUBLISHED-TTL:PT1H
BEGIN:VTIMEZONE
TZID:UTC
BEGIN:STANDARD
TZOFFSETFROM:+0000
TZOFFSETTO:+0000
TZNAME:UTC
DTSTART:20270101T000000
END:STANDARD
END:VTIMEZONE
BEGIN:VEVENT
DTSTART;TZID=UTC:20280409T090000
DTEND;TZID=UTC:20280409T100000
DTSTAMP:20260421T130557
CREATED:20230730T005637Z
LAST-MODIFIED:20250701T175841Z
UID:990002100-1838883600-1838887200@www.clickiowa.com
SUMMARY:9AM Service
DESCRIPTION:
URL:https://www.clickiowa.com/event/first-service/2028-04-09/
LOCATION:Main Sanctuary
CATEGORIES:Main Church
ATTACH;FMTTYPE=image/png:https://www.clickiowa.com/wp-content/uploads/2023/07/Cal-Feed-2-1.png
END:VEVENT
BEGIN:VEVENT
DTSTART;TZID=UTC:20280409T103000
DTEND;TZID=UTC:20280409T103000
DTSTAMP:20260421T130557
CREATED:20230730T005844Z
LAST-MODIFIED:20250701T180247Z
UID:990002899-1838889000-1838889000@www.clickiowa.com
SUMMARY:10:30AM Service
DESCRIPTION:Add New
URL:https://www.clickiowa.com/event/1030am-service/2028-04-09/
LOCATION:Main Sanctuary
CATEGORIES:Main Church
ATTACH;FMTTYPE=image/png:https://www.clickiowa.com/wp-content/uploads/2023/07/Cal-Feed-3.png
END:VEVENT
BEGIN:VEVENT
DTSTART;TZID=UTC:20280416T090000
DTEND;TZID=UTC:20280416T100000
DTSTAMP:20260421T130557
CREATED:20230730T005637Z
LAST-MODIFIED:20250701T175841Z
UID:990002101-1839488400-1839492000@www.clickiowa.com
SUMMARY:9AM Service
DESCRIPTION:
URL:https://www.clickiowa.com/event/first-service/2028-04-16/
LOCATION:Main Sanctuary
CATEGORIES:Main Church
ATTACH;FMTTYPE=image/png:https://www.clickiowa.com/wp-content/uploads/2023/07/Cal-Feed-2-1.png
END:VEVENT
BEGIN:VEVENT
DTSTART;TZID=UTC:20280416T103000
DTEND;TZID=UTC:20280416T103000
DTSTAMP:20260421T130557
CREATED:20230730T005844Z
LAST-MODIFIED:20250701T180247Z
UID:990002900-1839493800-1839493800@www.clickiowa.com
SUMMARY:10:30AM Service
DESCRIPTION:Add New
URL:https://www.clickiowa.com/event/1030am-service/2028-04-16/
LOCATION:Main Sanctuary
CATEGORIES:Main Church
ATTACH;FMTTYPE=image/png:https://www.clickiowa.com/wp-content/uploads/2023/07/Cal-Feed-3.png
END:VEVENT
BEGIN:VEVENT
DTSTART;TZID=UTC:20280423T090000
DTEND;TZID=UTC:20280423T100000
DTSTAMP:20260421T130557
CREATED:20230730T005637Z
LAST-MODIFIED:20250701T175841Z
UID:990002102-1840093200-1840096800@www.clickiowa.com
SUMMARY:9AM Service
DESCRIPTION:
URL:https://www.clickiowa.com/event/first-service/2028-04-23/
LOCATION:Main Sanctuary
CATEGORIES:Main Church
ATTACH;FMTTYPE=image/png:https://www.clickiowa.com/wp-content/uploads/2023/07/Cal-Feed-2-1.png
END:VEVENT
BEGIN:VEVENT
DTSTART;TZID=UTC:20280423T103000
DTEND;TZID=UTC:20280423T103000
DTSTAMP:20260421T130557
CREATED:20230730T005844Z
LAST-MODIFIED:20250701T180247Z
UID:990002901-1840098600-1840098600@www.clickiowa.com
SUMMARY:10:30AM Service
DESCRIPTION:Add New
URL:https://www.clickiowa.com/event/1030am-service/2028-04-23/
LOCATION:Main Sanctuary
CATEGORIES:Main Church
ATTACH;FMTTYPE=image/png:https://www.clickiowa.com/wp-content/uploads/2023/07/Cal-Feed-3.png
END:VEVENT
BEGIN:VEVENT
DTSTART;TZID=UTC:20280430T090000
DTEND;TZID=UTC:20280430T100000
DTSTAMP:20260421T130557
CREATED:20230730T005637Z
LAST-MODIFIED:20250701T175841Z
UID:990002103-1840698000-1840701600@www.clickiowa.com
SUMMARY:9AM Service
DESCRIPTION:
URL:https://www.clickiowa.com/event/first-service/2028-04-30/
LOCATION:Main Sanctuary
CATEGORIES:Main Church
ATTACH;FMTTYPE=image/png:https://www.clickiowa.com/wp-content/uploads/2023/07/Cal-Feed-2-1.png
END:VEVENT
BEGIN:VEVENT
DTSTART;TZID=UTC:20280430T103000
DTEND;TZID=UTC:20280430T103000
DTSTAMP:20260421T130557
CREATED:20230730T005844Z
LAST-MODIFIED:20250701T180247Z
UID:990002902-1840703400-1840703400@www.clickiowa.com
SUMMARY:10:30AM Service
DESCRIPTION:Add New
URL:https://www.clickiowa.com/event/1030am-service/2028-04-30/
LOCATION:Main Sanctuary
CATEGORIES:Main Church
ATTACH;FMTTYPE=image/png:https://www.clickiowa.com/wp-content/uploads/2023/07/Cal-Feed-3.png
END:VEVENT
BEGIN:VEVENT
DTSTART;TZID=UTC:20280507T090000
DTEND;TZID=UTC:20280507T100000
DTSTAMP:20260421T130557
CREATED:20230730T005637Z
LAST-MODIFIED:20250701T175841Z
UID:990002104-1841302800-1841306400@www.clickiowa.com
SUMMARY:9AM Service
DESCRIPTION:
URL:https://www.clickiowa.com/event/first-service/2028-05-07/
LOCATION:Main Sanctuary
CATEGORIES:Main Church
ATTACH;FMTTYPE=image/png:https://www.clickiowa.com/wp-content/uploads/2023/07/Cal-Feed-2-1.png
END:VEVENT
BEGIN:VEVENT
DTSTART;TZID=UTC:20280507T103000
DTEND;TZID=UTC:20280507T103000
DTSTAMP:20260421T130557
CREATED:20230730T005844Z
LAST-MODIFIED:20250701T180247Z
UID:990002903-1841308200-1841308200@www.clickiowa.com
SUMMARY:10:30AM Service
DESCRIPTION:Add New
URL:https://www.clickiowa.com/event/1030am-service/2028-05-07/
LOCATION:Main Sanctuary
CATEGORIES:Main Church
ATTACH;FMTTYPE=image/png:https://www.clickiowa.com/wp-content/uploads/2023/07/Cal-Feed-3.png
END:VEVENT
BEGIN:VEVENT
DTSTART;TZID=UTC:20280514T090000
DTEND;TZID=UTC:20280514T100000
DTSTAMP:20260421T130557
CREATED:20230730T005637Z
LAST-MODIFIED:20250701T175841Z
UID:990002105-1841907600-1841911200@www.clickiowa.com
SUMMARY:9AM Service
DESCRIPTION:
URL:https://www.clickiowa.com/event/first-service/2028-05-14/
LOCATION:Main Sanctuary
CATEGORIES:Main Church
ATTACH;FMTTYPE=image/png:https://www.clickiowa.com/wp-content/uploads/2023/07/Cal-Feed-2-1.png
END:VEVENT
BEGIN:VEVENT
DTSTART;TZID=UTC:20280514T103000
DTEND;TZID=UTC:20280514T103000
DTSTAMP:20260421T130557
CREATED:20230730T005844Z
LAST-MODIFIED:20250701T180247Z
UID:990002904-1841913000-1841913000@www.clickiowa.com
SUMMARY:10:30AM Service
DESCRIPTION:Add New
URL:https://www.clickiowa.com/event/1030am-service/2028-05-14/
LOCATION:Main Sanctuary
CATEGORIES:Main Church
ATTACH;FMTTYPE=image/png:https://www.clickiowa.com/wp-content/uploads/2023/07/Cal-Feed-3.png
END:VEVENT
BEGIN:VEVENT
DTSTART;TZID=UTC:20280521T090000
DTEND;TZID=UTC:20280521T100000
DTSTAMP:20260421T130557
CREATED:20230730T005637Z
LAST-MODIFIED:20250701T175841Z
UID:990002106-1842512400-1842516000@www.clickiowa.com
SUMMARY:9AM Service
DESCRIPTION:
URL:https://www.clickiowa.com/event/first-service/2028-05-21/
LOCATION:Main Sanctuary
CATEGORIES:Main Church
ATTACH;FMTTYPE=image/png:https://www.clickiowa.com/wp-content/uploads/2023/07/Cal-Feed-2-1.png
END:VEVENT
BEGIN:VEVENT
DTSTART;TZID=UTC:20280521T103000
DTEND;TZID=UTC:20280521T103000
DTSTAMP:20260421T130557
CREATED:20230730T005844Z
LAST-MODIFIED:20250701T180247Z
UID:990002905-1842517800-1842517800@www.clickiowa.com
SUMMARY:10:30AM Service
DESCRIPTION:Add New
URL:https://www.clickiowa.com/event/1030am-service/2028-05-21/
LOCATION:Main Sanctuary
CATEGORIES:Main Church
ATTACH;FMTTYPE=image/png:https://www.clickiowa.com/wp-content/uploads/2023/07/Cal-Feed-3.png
END:VEVENT
BEGIN:VEVENT
DTSTART;TZID=UTC:20280528T090000
DTEND;TZID=UTC:20280528T100000
DTSTAMP:20260421T130557
CREATED:20230730T005637Z
LAST-MODIFIED:20250701T175841Z
UID:990002107-1843117200-1843120800@www.clickiowa.com
SUMMARY:9AM Service
DESCRIPTION:
URL:https://www.clickiowa.com/event/first-service/2028-05-28/
LOCATION:Main Sanctuary
CATEGORIES:Main Church
ATTACH;FMTTYPE=image/png:https://www.clickiowa.com/wp-content/uploads/2023/07/Cal-Feed-2-1.png
END:VEVENT
BEGIN:VEVENT
DTSTART;TZID=UTC:20280528T103000
DTEND;TZID=UTC:20280528T103000
DTSTAMP:20260421T130557
CREATED:20230730T005844Z
LAST-MODIFIED:20250701T180247Z
UID:990002906-1843122600-1843122600@www.clickiowa.com
SUMMARY:10:30AM Service
DESCRIPTION:Add New
URL:https://www.clickiowa.com/event/1030am-service/2028-05-28/
LOCATION:Main Sanctuary
CATEGORIES:Main Church
ATTACH;FMTTYPE=image/png:https://www.clickiowa.com/wp-content/uploads/2023/07/Cal-Feed-3.png
END:VEVENT
BEGIN:VEVENT
DTSTART;TZID=UTC:20280604T090000
DTEND;TZID=UTC:20280604T100000
DTSTAMP:20260421T130557
CREATED:20230730T005637Z
LAST-MODIFIED:20250701T175841Z
UID:990002108-1843722000-1843725600@www.clickiowa.com
SUMMARY:9AM Service
DESCRIPTION:
URL:https://www.clickiowa.com/event/first-service/2028-06-04/
LOCATION:Main Sanctuary
CATEGORIES:Main Church
ATTACH;FMTTYPE=image/png:https://www.clickiowa.com/wp-content/uploads/2023/07/Cal-Feed-2-1.png
END:VEVENT
BEGIN:VEVENT
DTSTART;TZID=UTC:20280604T103000
DTEND;TZID=UTC:20280604T103000
DTSTAMP:20260421T130557
CREATED:20230730T005844Z
LAST-MODIFIED:20250701T180247Z
UID:990002907-1843727400-1843727400@www.clickiowa.com
SUMMARY:10:30AM Service
DESCRIPTION:Add New
URL:https://www.clickiowa.com/event/1030am-service/2028-06-04/
LOCATION:Main Sanctuary
CATEGORIES:Main Church
ATTACH;FMTTYPE=image/png:https://www.clickiowa.com/wp-content/uploads/2023/07/Cal-Feed-3.png
END:VEVENT
BEGIN:VEVENT
DTSTART;TZID=UTC:20280611T090000
DTEND;TZID=UTC:20280611T100000
DTSTAMP:20260421T130557
CREATED:20230730T005637Z
LAST-MODIFIED:20250701T175841Z
UID:990002109-1844326800-1844330400@www.clickiowa.com
SUMMARY:9AM Service
DESCRIPTION:
URL:https://www.clickiowa.com/event/first-service/2028-06-11/
LOCATION:Main Sanctuary
CATEGORIES:Main Church
ATTACH;FMTTYPE=image/png:https://www.clickiowa.com/wp-content/uploads/2023/07/Cal-Feed-2-1.png
END:VEVENT
BEGIN:VEVENT
DTSTART;TZID=UTC:20280611T103000
DTEND;TZID=UTC:20280611T103000
DTSTAMP:20260421T130557
CREATED:20230730T005844Z
LAST-MODIFIED:20250701T180247Z
UID:990002908-1844332200-1844332200@www.clickiowa.com
SUMMARY:10:30AM Service
DESCRIPTION:Add New
URL:https://www.clickiowa.com/event/1030am-service/2028-06-11/
LOCATION:Main Sanctuary
CATEGORIES:Main Church
ATTACH;FMTTYPE=image/png:https://www.clickiowa.com/wp-content/uploads/2023/07/Cal-Feed-3.png
END:VEVENT
BEGIN:VEVENT
DTSTART;TZID=UTC:20280618T090000
DTEND;TZID=UTC:20280618T100000
DTSTAMP:20260421T130557
CREATED:20230730T005637Z
LAST-MODIFIED:20250701T175841Z
UID:990002110-1844931600-1844935200@www.clickiowa.com
SUMMARY:9AM Service
DESCRIPTION:
URL:https://www.clickiowa.com/event/first-service/2028-06-18/
LOCATION:Main Sanctuary
CATEGORIES:Main Church
ATTACH;FMTTYPE=image/png:https://www.clickiowa.com/wp-content/uploads/2023/07/Cal-Feed-2-1.png
END:VEVENT
BEGIN:VEVENT
DTSTART;TZID=UTC:20280618T103000
DTEND;TZID=UTC:20280618T103000
DTSTAMP:20260421T130557
CREATED:20230730T005844Z
LAST-MODIFIED:20250701T180247Z
UID:990002909-1844937000-1844937000@www.clickiowa.com
SUMMARY:10:30AM Service
DESCRIPTION:Add New
URL:https://www.clickiowa.com/event/1030am-service/2028-06-18/
LOCATION:Main Sanctuary
CATEGORIES:Main Church
ATTACH;FMTTYPE=image/png:https://www.clickiowa.com/wp-content/uploads/2023/07/Cal-Feed-3.png
END:VEVENT
BEGIN:VEVENT
DTSTART;TZID=UTC:20280625T090000
DTEND;TZID=UTC:20280625T100000
DTSTAMP:20260421T130557
CREATED:20230730T005637Z
LAST-MODIFIED:20250701T175841Z
UID:990002111-1845536400-1845540000@www.clickiowa.com
SUMMARY:9AM Service
DESCRIPTION:
URL:https://www.clickiowa.com/event/first-service/2028-06-25/
LOCATION:Main Sanctuary
CATEGORIES:Main Church
ATTACH;FMTTYPE=image/png:https://www.clickiowa.com/wp-content/uploads/2023/07/Cal-Feed-2-1.png
END:VEVENT
BEGIN:VEVENT
DTSTART;TZID=UTC:20280625T103000
DTEND;TZID=UTC:20280625T103000
DTSTAMP:20260421T130557
CREATED:20230730T005844Z
LAST-MODIFIED:20250701T180247Z
UID:990002910-1845541800-1845541800@www.clickiowa.com
SUMMARY:10:30AM Service
DESCRIPTION:Add New
URL:https://www.clickiowa.com/event/1030am-service/2028-06-25/
LOCATION:Main Sanctuary
CATEGORIES:Main Church
ATTACH;FMTTYPE=image/png:https://www.clickiowa.com/wp-content/uploads/2023/07/Cal-Feed-3.png
END:VEVENT
BEGIN:VEVENT
DTSTART;TZID=UTC:20280702T090000
DTEND;TZID=UTC:20280702T100000
DTSTAMP:20260421T130557
CREATED:20230730T005637Z
LAST-MODIFIED:20250701T175841Z
UID:990002112-1846141200-1846144800@www.clickiowa.com
SUMMARY:9AM Service
DESCRIPTION:
URL:https://www.clickiowa.com/event/first-service/2028-07-02/
LOCATION:Main Sanctuary
CATEGORIES:Main Church
ATTACH;FMTTYPE=image/png:https://www.clickiowa.com/wp-content/uploads/2023/07/Cal-Feed-2-1.png
END:VEVENT
BEGIN:VEVENT
DTSTART;TZID=UTC:20280702T103000
DTEND;TZID=UTC:20280702T103000
DTSTAMP:20260421T130557
CREATED:20230730T005844Z
LAST-MODIFIED:20250701T180247Z
UID:990002911-1846146600-1846146600@www.clickiowa.com
SUMMARY:10:30AM Service
DESCRIPTION:Add New
URL:https://www.clickiowa.com/event/1030am-service/2028-07-02/
LOCATION:Main Sanctuary
CATEGORIES:Main Church
ATTACH;FMTTYPE=image/png:https://www.clickiowa.com/wp-content/uploads/2023/07/Cal-Feed-3.png
END:VEVENT
BEGIN:VEVENT
DTSTART;TZID=UTC:20280709T090000
DTEND;TZID=UTC:20280709T100000
DTSTAMP:20260421T130557
CREATED:20230730T005637Z
LAST-MODIFIED:20250701T175841Z
UID:990002113-1846746000-1846749600@www.clickiowa.com
SUMMARY:9AM Service
DESCRIPTION:
URL:https://www.clickiowa.com/event/first-service/2028-07-09/
LOCATION:Main Sanctuary
CATEGORIES:Main Church
ATTACH;FMTTYPE=image/png:https://www.clickiowa.com/wp-content/uploads/2023/07/Cal-Feed-2-1.png
END:VEVENT
BEGIN:VEVENT
DTSTART;TZID=UTC:20280709T103000
DTEND;TZID=UTC:20280709T103000
DTSTAMP:20260421T130557
CREATED:20230730T005844Z
LAST-MODIFIED:20250701T180247Z
UID:990002912-1846751400-1846751400@www.clickiowa.com
SUMMARY:10:30AM Service
DESCRIPTION:Add New
URL:https://www.clickiowa.com/event/1030am-service/2028-07-09/
LOCATION:Main Sanctuary
CATEGORIES:Main Church
ATTACH;FMTTYPE=image/png:https://www.clickiowa.com/wp-content/uploads/2023/07/Cal-Feed-3.png
END:VEVENT
BEGIN:VEVENT
DTSTART;TZID=UTC:20280716T090000
DTEND;TZID=UTC:20280716T100000
DTSTAMP:20260421T130557
CREATED:20230730T005637Z
LAST-MODIFIED:20250701T175841Z
UID:990002114-1847350800-1847354400@www.clickiowa.com
SUMMARY:9AM Service
DESCRIPTION:
URL:https://www.clickiowa.com/event/first-service/2028-07-16/
LOCATION:Main Sanctuary
CATEGORIES:Main Church
ATTACH;FMTTYPE=image/png:https://www.clickiowa.com/wp-content/uploads/2023/07/Cal-Feed-2-1.png
END:VEVENT
BEGIN:VEVENT
DTSTART;TZID=UTC:20280716T103000
DTEND;TZID=UTC:20280716T103000
DTSTAMP:20260421T130557
CREATED:20230730T005844Z
LAST-MODIFIED:20250701T180247Z
UID:990002913-1847356200-1847356200@www.clickiowa.com
SUMMARY:10:30AM Service
DESCRIPTION:Add New
URL:https://www.clickiowa.com/event/1030am-service/2028-07-16/
LOCATION:Main Sanctuary
CATEGORIES:Main Church
ATTACH;FMTTYPE=image/png:https://www.clickiowa.com/wp-content/uploads/2023/07/Cal-Feed-3.png
END:VEVENT
END:VCALENDAR