BEGIN:VCALENDAR
VERSION:2.0
PRODID:-//Capitol City Church - ECPv6.15.18//NONSGML v1.0//EN
CALSCALE:GREGORIAN
METHOD:PUBLISH
X-WR-CALNAME:Capitol City Church
X-ORIGINAL-URL:https://www.clickiowa.com
X-WR-CALDESC:Events for Capitol City Church
REFRESH-INTERVAL;VALUE=DURATION:PT1H
X-Robots-Tag:noindex
X-PUBLISHED-TTL:PT1H
BEGIN:VTIMEZONE
TZID:UTC
BEGIN:STANDARD
TZOFFSETFROM:+0000
TZOFFSETTO:+0000
TZNAME:UTC
DTSTART:20280101T000000
END:STANDARD
END:VTIMEZONE
BEGIN:VEVENT
DTSTART;TZID=UTC:20290415T090000
DTEND;TZID=UTC:20290415T100000
DTSTAMP:20260422T224601
CREATED:20230730T005637Z
LAST-MODIFIED:20250701T175841Z
UID:990003946-1870938000-1870941600@www.clickiowa.com
SUMMARY:9AM Service
DESCRIPTION:
URL:https://www.clickiowa.com/event/first-service/2029-04-15/
LOCATION:Main Sanctuary
CATEGORIES:Main Church
ATTACH;FMTTYPE=image/png:https://www.clickiowa.com/wp-content/uploads/2023/07/Cal-Feed-2-1.png
END:VEVENT
BEGIN:VEVENT
DTSTART;TZID=UTC:20290415T103000
DTEND;TZID=UTC:20290415T103000
DTSTAMP:20260422T224601
CREATED:20230730T005844Z
LAST-MODIFIED:20250701T180247Z
UID:990003846-1870943400-1870943400@www.clickiowa.com
SUMMARY:10:30AM Service
DESCRIPTION:Add New
URL:https://www.clickiowa.com/event/1030am-service/2029-04-15/
LOCATION:Main Sanctuary
CATEGORIES:Main Church
ATTACH;FMTTYPE=image/png:https://www.clickiowa.com/wp-content/uploads/2023/07/Cal-Feed-3.png
END:VEVENT
BEGIN:VEVENT
DTSTART;TZID=UTC:20290422T090000
DTEND;TZID=UTC:20290422T100000
DTSTAMP:20260422T224601
CREATED:20230730T005637Z
LAST-MODIFIED:20250701T175841Z
UID:990003947-1871542800-1871546400@www.clickiowa.com
SUMMARY:9AM Service
DESCRIPTION:
URL:https://www.clickiowa.com/event/first-service/2029-04-22/
LOCATION:Main Sanctuary
CATEGORIES:Main Church
ATTACH;FMTTYPE=image/png:https://www.clickiowa.com/wp-content/uploads/2023/07/Cal-Feed-2-1.png
END:VEVENT
BEGIN:VEVENT
DTSTART;TZID=UTC:20290422T103000
DTEND;TZID=UTC:20290422T103000
DTSTAMP:20260422T224601
CREATED:20230730T005844Z
LAST-MODIFIED:20250701T180247Z
UID:990003847-1871548200-1871548200@www.clickiowa.com
SUMMARY:10:30AM Service
DESCRIPTION:Add New
URL:https://www.clickiowa.com/event/1030am-service/2029-04-22/
LOCATION:Main Sanctuary
CATEGORIES:Main Church
ATTACH;FMTTYPE=image/png:https://www.clickiowa.com/wp-content/uploads/2023/07/Cal-Feed-3.png
END:VEVENT
BEGIN:VEVENT
DTSTART;TZID=UTC:20290429T090000
DTEND;TZID=UTC:20290429T100000
DTSTAMP:20260422T224601
CREATED:20230730T005637Z
LAST-MODIFIED:20250701T175841Z
UID:990003948-1872147600-1872151200@www.clickiowa.com
SUMMARY:9AM Service
DESCRIPTION:
URL:https://www.clickiowa.com/event/first-service/2029-04-29/
LOCATION:Main Sanctuary
CATEGORIES:Main Church
ATTACH;FMTTYPE=image/png:https://www.clickiowa.com/wp-content/uploads/2023/07/Cal-Feed-2-1.png
END:VEVENT
BEGIN:VEVENT
DTSTART;TZID=UTC:20290429T103000
DTEND;TZID=UTC:20290429T103000
DTSTAMP:20260422T224601
CREATED:20230730T005844Z
LAST-MODIFIED:20250701T180247Z
UID:990003848-1872153000-1872153000@www.clickiowa.com
SUMMARY:10:30AM Service
DESCRIPTION:Add New
URL:https://www.clickiowa.com/event/1030am-service/2029-04-29/
LOCATION:Main Sanctuary
CATEGORIES:Main Church
ATTACH;FMTTYPE=image/png:https://www.clickiowa.com/wp-content/uploads/2023/07/Cal-Feed-3.png
END:VEVENT
BEGIN:VEVENT
DTSTART;TZID=UTC:20290506T090000
DTEND;TZID=UTC:20290506T100000
DTSTAMP:20260422T224601
CREATED:20230730T005637Z
LAST-MODIFIED:20250701T175841Z
UID:990003949-1872752400-1872756000@www.clickiowa.com
SUMMARY:9AM Service
DESCRIPTION:
URL:https://www.clickiowa.com/event/first-service/2029-05-06/
LOCATION:Main Sanctuary
CATEGORIES:Main Church
ATTACH;FMTTYPE=image/png:https://www.clickiowa.com/wp-content/uploads/2023/07/Cal-Feed-2-1.png
END:VEVENT
BEGIN:VEVENT
DTSTART;TZID=UTC:20290506T103000
DTEND;TZID=UTC:20290506T103000
DTSTAMP:20260422T224601
CREATED:20230730T005844Z
LAST-MODIFIED:20250701T180247Z
UID:990003849-1872757800-1872757800@www.clickiowa.com
SUMMARY:10:30AM Service
DESCRIPTION:Add New
URL:https://www.clickiowa.com/event/1030am-service/2029-05-06/
LOCATION:Main Sanctuary
CATEGORIES:Main Church
ATTACH;FMTTYPE=image/png:https://www.clickiowa.com/wp-content/uploads/2023/07/Cal-Feed-3.png
END:VEVENT
BEGIN:VEVENT
DTSTART;TZID=UTC:20290513T090000
DTEND;TZID=UTC:20290513T100000
DTSTAMP:20260422T224601
CREATED:20230730T005637Z
LAST-MODIFIED:20250701T175841Z
UID:990003950-1873357200-1873360800@www.clickiowa.com
SUMMARY:9AM Service
DESCRIPTION:
URL:https://www.clickiowa.com/event/first-service/2029-05-13/
LOCATION:Main Sanctuary
CATEGORIES:Main Church
ATTACH;FMTTYPE=image/png:https://www.clickiowa.com/wp-content/uploads/2023/07/Cal-Feed-2-1.png
END:VEVENT
BEGIN:VEVENT
DTSTART;TZID=UTC:20290513T103000
DTEND;TZID=UTC:20290513T103000
DTSTAMP:20260422T224601
CREATED:20230730T005844Z
LAST-MODIFIED:20250701T180247Z
UID:990003850-1873362600-1873362600@www.clickiowa.com
SUMMARY:10:30AM Service
DESCRIPTION:Add New
URL:https://www.clickiowa.com/event/1030am-service/2029-05-13/
LOCATION:Main Sanctuary
CATEGORIES:Main Church
ATTACH;FMTTYPE=image/png:https://www.clickiowa.com/wp-content/uploads/2023/07/Cal-Feed-3.png
END:VEVENT
BEGIN:VEVENT
DTSTART;TZID=UTC:20290520T090000
DTEND;TZID=UTC:20290520T100000
DTSTAMP:20260422T224601
CREATED:20230730T005637Z
LAST-MODIFIED:20250701T175841Z
UID:990003951-1873962000-1873965600@www.clickiowa.com
SUMMARY:9AM Service
DESCRIPTION:
URL:https://www.clickiowa.com/event/first-service/2029-05-20/
LOCATION:Main Sanctuary
CATEGORIES:Main Church
ATTACH;FMTTYPE=image/png:https://www.clickiowa.com/wp-content/uploads/2023/07/Cal-Feed-2-1.png
END:VEVENT
BEGIN:VEVENT
DTSTART;TZID=UTC:20290520T103000
DTEND;TZID=UTC:20290520T103000
DTSTAMP:20260422T224601
CREATED:20230730T005844Z
LAST-MODIFIED:20250701T180247Z
UID:990003851-1873967400-1873967400@www.clickiowa.com
SUMMARY:10:30AM Service
DESCRIPTION:Add New
URL:https://www.clickiowa.com/event/1030am-service/2029-05-20/
LOCATION:Main Sanctuary
CATEGORIES:Main Church
ATTACH;FMTTYPE=image/png:https://www.clickiowa.com/wp-content/uploads/2023/07/Cal-Feed-3.png
END:VEVENT
BEGIN:VEVENT
DTSTART;TZID=UTC:20290527T090000
DTEND;TZID=UTC:20290527T100000
DTSTAMP:20260422T224601
CREATED:20230730T005637Z
LAST-MODIFIED:20250701T175841Z
UID:990003952-1874566800-1874570400@www.clickiowa.com
SUMMARY:9AM Service
DESCRIPTION:
URL:https://www.clickiowa.com/event/first-service/2029-05-27/
LOCATION:Main Sanctuary
CATEGORIES:Main Church
ATTACH;FMTTYPE=image/png:https://www.clickiowa.com/wp-content/uploads/2023/07/Cal-Feed-2-1.png
END:VEVENT
BEGIN:VEVENT
DTSTART;TZID=UTC:20290527T103000
DTEND;TZID=UTC:20290527T103000
DTSTAMP:20260422T224601
CREATED:20230730T005844Z
LAST-MODIFIED:20250701T180247Z
UID:990003852-1874572200-1874572200@www.clickiowa.com
SUMMARY:10:30AM Service
DESCRIPTION:Add New
URL:https://www.clickiowa.com/event/1030am-service/2029-05-27/
LOCATION:Main Sanctuary
CATEGORIES:Main Church
ATTACH;FMTTYPE=image/png:https://www.clickiowa.com/wp-content/uploads/2023/07/Cal-Feed-3.png
END:VEVENT
BEGIN:VEVENT
DTSTART;TZID=UTC:20290603T090000
DTEND;TZID=UTC:20290603T100000
DTSTAMP:20260422T224601
CREATED:20230730T005637Z
LAST-MODIFIED:20250701T175841Z
UID:990003953-1875171600-1875175200@www.clickiowa.com
SUMMARY:9AM Service
DESCRIPTION:
URL:https://www.clickiowa.com/event/first-service/2029-06-03/
LOCATION:Main Sanctuary
CATEGORIES:Main Church
ATTACH;FMTTYPE=image/png:https://www.clickiowa.com/wp-content/uploads/2023/07/Cal-Feed-2-1.png
END:VEVENT
BEGIN:VEVENT
DTSTART;TZID=UTC:20290603T103000
DTEND;TZID=UTC:20290603T103000
DTSTAMP:20260422T224601
CREATED:20230730T005844Z
LAST-MODIFIED:20250701T180247Z
UID:990003853-1875177000-1875177000@www.clickiowa.com
SUMMARY:10:30AM Service
DESCRIPTION:Add New
URL:https://www.clickiowa.com/event/1030am-service/2029-06-03/
LOCATION:Main Sanctuary
CATEGORIES:Main Church
ATTACH;FMTTYPE=image/png:https://www.clickiowa.com/wp-content/uploads/2023/07/Cal-Feed-3.png
END:VEVENT
BEGIN:VEVENT
DTSTART;TZID=UTC:20290610T090000
DTEND;TZID=UTC:20290610T100000
DTSTAMP:20260422T224601
CREATED:20230730T005637Z
LAST-MODIFIED:20250701T175841Z
UID:990003954-1875776400-1875780000@www.clickiowa.com
SUMMARY:9AM Service
DESCRIPTION:
URL:https://www.clickiowa.com/event/first-service/2029-06-10/
LOCATION:Main Sanctuary
CATEGORIES:Main Church
ATTACH;FMTTYPE=image/png:https://www.clickiowa.com/wp-content/uploads/2023/07/Cal-Feed-2-1.png
END:VEVENT
BEGIN:VEVENT
DTSTART;TZID=UTC:20290610T103000
DTEND;TZID=UTC:20290610T103000
DTSTAMP:20260422T224601
CREATED:20230730T005844Z
LAST-MODIFIED:20250701T180247Z
UID:990003854-1875781800-1875781800@www.clickiowa.com
SUMMARY:10:30AM Service
DESCRIPTION:Add New
URL:https://www.clickiowa.com/event/1030am-service/2029-06-10/
LOCATION:Main Sanctuary
CATEGORIES:Main Church
ATTACH;FMTTYPE=image/png:https://www.clickiowa.com/wp-content/uploads/2023/07/Cal-Feed-3.png
END:VEVENT
BEGIN:VEVENT
DTSTART;TZID=UTC:20290617T090000
DTEND;TZID=UTC:20290617T100000
DTSTAMP:20260422T224601
CREATED:20230730T005637Z
LAST-MODIFIED:20250701T175841Z
UID:990003955-1876381200-1876384800@www.clickiowa.com
SUMMARY:9AM Service
DESCRIPTION:
URL:https://www.clickiowa.com/event/first-service/2029-06-17/
LOCATION:Main Sanctuary
CATEGORIES:Main Church
ATTACH;FMTTYPE=image/png:https://www.clickiowa.com/wp-content/uploads/2023/07/Cal-Feed-2-1.png
END:VEVENT
BEGIN:VEVENT
DTSTART;TZID=UTC:20290617T103000
DTEND;TZID=UTC:20290617T103000
DTSTAMP:20260422T224601
CREATED:20230730T005844Z
LAST-MODIFIED:20250701T180247Z
UID:990003855-1876386600-1876386600@www.clickiowa.com
SUMMARY:10:30AM Service
DESCRIPTION:Add New
URL:https://www.clickiowa.com/event/1030am-service/2029-06-17/
LOCATION:Main Sanctuary
CATEGORIES:Main Church
ATTACH;FMTTYPE=image/png:https://www.clickiowa.com/wp-content/uploads/2023/07/Cal-Feed-3.png
END:VEVENT
BEGIN:VEVENT
DTSTART;TZID=UTC:20290624T090000
DTEND;TZID=UTC:20290624T100000
DTSTAMP:20260422T224601
CREATED:20230730T005637Z
LAST-MODIFIED:20250701T175841Z
UID:990003956-1876986000-1876989600@www.clickiowa.com
SUMMARY:9AM Service
DESCRIPTION:
URL:https://www.clickiowa.com/event/first-service/2029-06-24/
LOCATION:Main Sanctuary
CATEGORIES:Main Church
ATTACH;FMTTYPE=image/png:https://www.clickiowa.com/wp-content/uploads/2023/07/Cal-Feed-2-1.png
END:VEVENT
BEGIN:VEVENT
DTSTART;TZID=UTC:20290624T103000
DTEND;TZID=UTC:20290624T103000
DTSTAMP:20260422T224601
CREATED:20230730T005844Z
LAST-MODIFIED:20250701T180247Z
UID:990003856-1876991400-1876991400@www.clickiowa.com
SUMMARY:10:30AM Service
DESCRIPTION:Add New
URL:https://www.clickiowa.com/event/1030am-service/2029-06-24/
LOCATION:Main Sanctuary
CATEGORIES:Main Church
ATTACH;FMTTYPE=image/png:https://www.clickiowa.com/wp-content/uploads/2023/07/Cal-Feed-3.png
END:VEVENT
BEGIN:VEVENT
DTSTART;TZID=UTC:20290701T090000
DTEND;TZID=UTC:20290701T100000
DTSTAMP:20260422T224601
CREATED:20230730T005637Z
LAST-MODIFIED:20250701T175841Z
UID:990003957-1877590800-1877594400@www.clickiowa.com
SUMMARY:9AM Service
DESCRIPTION:
URL:https://www.clickiowa.com/event/first-service/2029-07-01/
LOCATION:Main Sanctuary
CATEGORIES:Main Church
ATTACH;FMTTYPE=image/png:https://www.clickiowa.com/wp-content/uploads/2023/07/Cal-Feed-2-1.png
END:VEVENT
BEGIN:VEVENT
DTSTART;TZID=UTC:20290701T103000
DTEND;TZID=UTC:20290701T103000
DTSTAMP:20260422T224601
CREATED:20230730T005844Z
LAST-MODIFIED:20250701T180247Z
UID:990003857-1877596200-1877596200@www.clickiowa.com
SUMMARY:10:30AM Service
DESCRIPTION:Add New
URL:https://www.clickiowa.com/event/1030am-service/2029-07-01/
LOCATION:Main Sanctuary
CATEGORIES:Main Church
ATTACH;FMTTYPE=image/png:https://www.clickiowa.com/wp-content/uploads/2023/07/Cal-Feed-3.png
END:VEVENT
BEGIN:VEVENT
DTSTART;TZID=UTC:20290708T090000
DTEND;TZID=UTC:20290708T100000
DTSTAMP:20260422T224601
CREATED:20230730T005637Z
LAST-MODIFIED:20250701T175841Z
UID:990003958-1878195600-1878199200@www.clickiowa.com
SUMMARY:9AM Service
DESCRIPTION:
URL:https://www.clickiowa.com/event/first-service/2029-07-08/
LOCATION:Main Sanctuary
CATEGORIES:Main Church
ATTACH;FMTTYPE=image/png:https://www.clickiowa.com/wp-content/uploads/2023/07/Cal-Feed-2-1.png
END:VEVENT
BEGIN:VEVENT
DTSTART;TZID=UTC:20290708T103000
DTEND;TZID=UTC:20290708T103000
DTSTAMP:20260422T224601
CREATED:20230730T005844Z
LAST-MODIFIED:20250701T180247Z
UID:990003858-1878201000-1878201000@www.clickiowa.com
SUMMARY:10:30AM Service
DESCRIPTION:Add New
URL:https://www.clickiowa.com/event/1030am-service/2029-07-08/
LOCATION:Main Sanctuary
CATEGORIES:Main Church
ATTACH;FMTTYPE=image/png:https://www.clickiowa.com/wp-content/uploads/2023/07/Cal-Feed-3.png
END:VEVENT
BEGIN:VEVENT
DTSTART;TZID=UTC:20290715T090000
DTEND;TZID=UTC:20290715T100000
DTSTAMP:20260422T224601
CREATED:20230730T005637Z
LAST-MODIFIED:20250701T175841Z
UID:990003959-1878800400-1878804000@www.clickiowa.com
SUMMARY:9AM Service
DESCRIPTION:
URL:https://www.clickiowa.com/event/first-service/2029-07-15/
LOCATION:Main Sanctuary
CATEGORIES:Main Church
ATTACH;FMTTYPE=image/png:https://www.clickiowa.com/wp-content/uploads/2023/07/Cal-Feed-2-1.png
END:VEVENT
BEGIN:VEVENT
DTSTART;TZID=UTC:20290715T103000
DTEND;TZID=UTC:20290715T103000
DTSTAMP:20260422T224601
CREATED:20230730T005844Z
LAST-MODIFIED:20250701T180247Z
UID:990003859-1878805800-1878805800@www.clickiowa.com
SUMMARY:10:30AM Service
DESCRIPTION:Add New
URL:https://www.clickiowa.com/event/1030am-service/2029-07-15/
LOCATION:Main Sanctuary
CATEGORIES:Main Church
ATTACH;FMTTYPE=image/png:https://www.clickiowa.com/wp-content/uploads/2023/07/Cal-Feed-3.png
END:VEVENT
BEGIN:VEVENT
DTSTART;TZID=UTC:20290722T090000
DTEND;TZID=UTC:20290722T100000
DTSTAMP:20260422T224601
CREATED:20230730T005637Z
LAST-MODIFIED:20250701T175841Z
UID:990003960-1879405200-1879408800@www.clickiowa.com
SUMMARY:9AM Service
DESCRIPTION:
URL:https://www.clickiowa.com/event/first-service/2029-07-22/
LOCATION:Main Sanctuary
CATEGORIES:Main Church
ATTACH;FMTTYPE=image/png:https://www.clickiowa.com/wp-content/uploads/2023/07/Cal-Feed-2-1.png
END:VEVENT
BEGIN:VEVENT
DTSTART;TZID=UTC:20290722T103000
DTEND;TZID=UTC:20290722T103000
DTSTAMP:20260422T224601
CREATED:20230730T005844Z
LAST-MODIFIED:20250701T180247Z
UID:990003860-1879410600-1879410600@www.clickiowa.com
SUMMARY:10:30AM Service
DESCRIPTION:Add New
URL:https://www.clickiowa.com/event/1030am-service/2029-07-22/
LOCATION:Main Sanctuary
CATEGORIES:Main Church
ATTACH;FMTTYPE=image/png:https://www.clickiowa.com/wp-content/uploads/2023/07/Cal-Feed-3.png
END:VEVENT
END:VCALENDAR