BEGIN:VCALENDAR
VERSION:2.0
PRODID:-//Capitol City Church - ECPv6.15.18//NONSGML v1.0//EN
CALSCALE:GREGORIAN
METHOD:PUBLISH
X-WR-CALNAME:Capitol City Church
X-ORIGINAL-URL:https://www.clickiowa.com
X-WR-CALDESC:Events for Capitol City Church
REFRESH-INTERVAL;VALUE=DURATION:PT1H
X-Robots-Tag:noindex
X-PUBLISHED-TTL:PT1H
BEGIN:VTIMEZONE
TZID:UTC
BEGIN:STANDARD
TZOFFSETFROM:+0000
TZOFFSETTO:+0000
TZNAME:UTC
DTSTART:20280101T000000
END:STANDARD
END:VTIMEZONE
BEGIN:VEVENT
DTSTART;TZID=UTC:20290826T090000
DTEND;TZID=UTC:20290826T100000
DTSTAMP:20260423T014419
CREATED:20230730T005637Z
LAST-MODIFIED:20250701T175841Z
UID:990003965-1882429200-1882432800@www.clickiowa.com
SUMMARY:9AM Service
DESCRIPTION:
URL:https://www.clickiowa.com/event/first-service/2029-08-26/
LOCATION:Main Sanctuary
CATEGORIES:Main Church
ATTACH;FMTTYPE=image/png:https://www.clickiowa.com/wp-content/uploads/2023/07/Cal-Feed-2-1.png
END:VEVENT
BEGIN:VEVENT
DTSTART;TZID=UTC:20290826T103000
DTEND;TZID=UTC:20290826T103000
DTSTAMP:20260423T014419
CREATED:20230730T005844Z
LAST-MODIFIED:20250701T180247Z
UID:990003865-1882434600-1882434600@www.clickiowa.com
SUMMARY:10:30AM Service
DESCRIPTION:Add New
URL:https://www.clickiowa.com/event/1030am-service/2029-08-26/
LOCATION:Main Sanctuary
CATEGORIES:Main Church
ATTACH;FMTTYPE=image/png:https://www.clickiowa.com/wp-content/uploads/2023/07/Cal-Feed-3.png
END:VEVENT
BEGIN:VEVENT
DTSTART;TZID=UTC:20290902T090000
DTEND;TZID=UTC:20290902T100000
DTSTAMP:20260423T014419
CREATED:20230730T005637Z
LAST-MODIFIED:20250701T175841Z
UID:990003966-1883034000-1883037600@www.clickiowa.com
SUMMARY:9AM Service
DESCRIPTION:
URL:https://www.clickiowa.com/event/first-service/2029-09-02/
LOCATION:Main Sanctuary
CATEGORIES:Main Church
ATTACH;FMTTYPE=image/png:https://www.clickiowa.com/wp-content/uploads/2023/07/Cal-Feed-2-1.png
END:VEVENT
BEGIN:VEVENT
DTSTART;TZID=UTC:20290902T103000
DTEND;TZID=UTC:20290902T103000
DTSTAMP:20260423T014419
CREATED:20230730T005844Z
LAST-MODIFIED:20250701T180247Z
UID:990003866-1883039400-1883039400@www.clickiowa.com
SUMMARY:10:30AM Service
DESCRIPTION:Add New
URL:https://www.clickiowa.com/event/1030am-service/2029-09-02/
LOCATION:Main Sanctuary
CATEGORIES:Main Church
ATTACH;FMTTYPE=image/png:https://www.clickiowa.com/wp-content/uploads/2023/07/Cal-Feed-3.png
END:VEVENT
BEGIN:VEVENT
DTSTART;TZID=UTC:20290909T090000
DTEND;TZID=UTC:20290909T100000
DTSTAMP:20260423T014419
CREATED:20230730T005637Z
LAST-MODIFIED:20250701T175841Z
UID:990003967-1883638800-1883642400@www.clickiowa.com
SUMMARY:9AM Service
DESCRIPTION:
URL:https://www.clickiowa.com/event/first-service/2029-09-09/
LOCATION:Main Sanctuary
CATEGORIES:Main Church
ATTACH;FMTTYPE=image/png:https://www.clickiowa.com/wp-content/uploads/2023/07/Cal-Feed-2-1.png
END:VEVENT
BEGIN:VEVENT
DTSTART;TZID=UTC:20290909T103000
DTEND;TZID=UTC:20290909T103000
DTSTAMP:20260423T014419
CREATED:20230730T005844Z
LAST-MODIFIED:20250701T180247Z
UID:990003867-1883644200-1883644200@www.clickiowa.com
SUMMARY:10:30AM Service
DESCRIPTION:Add New
URL:https://www.clickiowa.com/event/1030am-service/2029-09-09/
LOCATION:Main Sanctuary
CATEGORIES:Main Church
ATTACH;FMTTYPE=image/png:https://www.clickiowa.com/wp-content/uploads/2023/07/Cal-Feed-3.png
END:VEVENT
BEGIN:VEVENT
DTSTART;TZID=UTC:20290916T090000
DTEND;TZID=UTC:20290916T100000
DTSTAMP:20260423T014419
CREATED:20230730T005637Z
LAST-MODIFIED:20250701T175841Z
UID:990003968-1884243600-1884247200@www.clickiowa.com
SUMMARY:9AM Service
DESCRIPTION:
URL:https://www.clickiowa.com/event/first-service/2029-09-16/
LOCATION:Main Sanctuary
CATEGORIES:Main Church
ATTACH;FMTTYPE=image/png:https://www.clickiowa.com/wp-content/uploads/2023/07/Cal-Feed-2-1.png
END:VEVENT
BEGIN:VEVENT
DTSTART;TZID=UTC:20290916T103000
DTEND;TZID=UTC:20290916T103000
DTSTAMP:20260423T014419
CREATED:20230730T005844Z
LAST-MODIFIED:20250701T180247Z
UID:990003868-1884249000-1884249000@www.clickiowa.com
SUMMARY:10:30AM Service
DESCRIPTION:Add New
URL:https://www.clickiowa.com/event/1030am-service/2029-09-16/
LOCATION:Main Sanctuary
CATEGORIES:Main Church
ATTACH;FMTTYPE=image/png:https://www.clickiowa.com/wp-content/uploads/2023/07/Cal-Feed-3.png
END:VEVENT
BEGIN:VEVENT
DTSTART;TZID=UTC:20290923T090000
DTEND;TZID=UTC:20290923T100000
DTSTAMP:20260423T014419
CREATED:20230730T005637Z
LAST-MODIFIED:20250701T175841Z
UID:990003969-1884848400-1884852000@www.clickiowa.com
SUMMARY:9AM Service
DESCRIPTION:
URL:https://www.clickiowa.com/event/first-service/2029-09-23/
LOCATION:Main Sanctuary
CATEGORIES:Main Church
ATTACH;FMTTYPE=image/png:https://www.clickiowa.com/wp-content/uploads/2023/07/Cal-Feed-2-1.png
END:VEVENT
BEGIN:VEVENT
DTSTART;TZID=UTC:20290923T103000
DTEND;TZID=UTC:20290923T103000
DTSTAMP:20260423T014419
CREATED:20230730T005844Z
LAST-MODIFIED:20250701T180247Z
UID:990003869-1884853800-1884853800@www.clickiowa.com
SUMMARY:10:30AM Service
DESCRIPTION:Add New
URL:https://www.clickiowa.com/event/1030am-service/2029-09-23/
LOCATION:Main Sanctuary
CATEGORIES:Main Church
ATTACH;FMTTYPE=image/png:https://www.clickiowa.com/wp-content/uploads/2023/07/Cal-Feed-3.png
END:VEVENT
BEGIN:VEVENT
DTSTART;TZID=UTC:20290930T090000
DTEND;TZID=UTC:20290930T100000
DTSTAMP:20260423T014419
CREATED:20230730T005637Z
LAST-MODIFIED:20250701T175841Z
UID:990003970-1885453200-1885456800@www.clickiowa.com
SUMMARY:9AM Service
DESCRIPTION:
URL:https://www.clickiowa.com/event/first-service/2029-09-30/
LOCATION:Main Sanctuary
CATEGORIES:Main Church
ATTACH;FMTTYPE=image/png:https://www.clickiowa.com/wp-content/uploads/2023/07/Cal-Feed-2-1.png
END:VEVENT
BEGIN:VEVENT
DTSTART;TZID=UTC:20290930T103000
DTEND;TZID=UTC:20290930T103000
DTSTAMP:20260423T014419
CREATED:20230730T005844Z
LAST-MODIFIED:20250701T180247Z
UID:990003870-1885458600-1885458600@www.clickiowa.com
SUMMARY:10:30AM Service
DESCRIPTION:Add New
URL:https://www.clickiowa.com/event/1030am-service/2029-09-30/
LOCATION:Main Sanctuary
CATEGORIES:Main Church
ATTACH;FMTTYPE=image/png:https://www.clickiowa.com/wp-content/uploads/2023/07/Cal-Feed-3.png
END:VEVENT
BEGIN:VEVENT
DTSTART;TZID=UTC:20291007T090000
DTEND;TZID=UTC:20291007T100000
DTSTAMP:20260423T014419
CREATED:20230730T005637Z
LAST-MODIFIED:20250701T175841Z
UID:990003971-1886058000-1886061600@www.clickiowa.com
SUMMARY:9AM Service
DESCRIPTION:
URL:https://www.clickiowa.com/event/first-service/2029-10-07/
LOCATION:Main Sanctuary
CATEGORIES:Main Church
ATTACH;FMTTYPE=image/png:https://www.clickiowa.com/wp-content/uploads/2023/07/Cal-Feed-2-1.png
END:VEVENT
BEGIN:VEVENT
DTSTART;TZID=UTC:20291007T103000
DTEND;TZID=UTC:20291007T103000
DTSTAMP:20260423T014419
CREATED:20230730T005844Z
LAST-MODIFIED:20250701T180247Z
UID:990003871-1886063400-1886063400@www.clickiowa.com
SUMMARY:10:30AM Service
DESCRIPTION:Add New
URL:https://www.clickiowa.com/event/1030am-service/2029-10-07/
LOCATION:Main Sanctuary
CATEGORIES:Main Church
ATTACH;FMTTYPE=image/png:https://www.clickiowa.com/wp-content/uploads/2023/07/Cal-Feed-3.png
END:VEVENT
BEGIN:VEVENT
DTSTART;TZID=UTC:20291014T090000
DTEND;TZID=UTC:20291014T100000
DTSTAMP:20260423T014419
CREATED:20230730T005637Z
LAST-MODIFIED:20250701T175841Z
UID:990003972-1886662800-1886666400@www.clickiowa.com
SUMMARY:9AM Service
DESCRIPTION:
URL:https://www.clickiowa.com/event/first-service/2029-10-14/
LOCATION:Main Sanctuary
CATEGORIES:Main Church
ATTACH;FMTTYPE=image/png:https://www.clickiowa.com/wp-content/uploads/2023/07/Cal-Feed-2-1.png
END:VEVENT
BEGIN:VEVENT
DTSTART;TZID=UTC:20291014T103000
DTEND;TZID=UTC:20291014T103000
DTSTAMP:20260423T014419
CREATED:20230730T005844Z
LAST-MODIFIED:20250701T180247Z
UID:990003872-1886668200-1886668200@www.clickiowa.com
SUMMARY:10:30AM Service
DESCRIPTION:Add New
URL:https://www.clickiowa.com/event/1030am-service/2029-10-14/
LOCATION:Main Sanctuary
CATEGORIES:Main Church
ATTACH;FMTTYPE=image/png:https://www.clickiowa.com/wp-content/uploads/2023/07/Cal-Feed-3.png
END:VEVENT
BEGIN:VEVENT
DTSTART;TZID=UTC:20291021T090000
DTEND;TZID=UTC:20291021T100000
DTSTAMP:20260423T014419
CREATED:20230730T005637Z
LAST-MODIFIED:20250701T175841Z
UID:990003973-1887267600-1887271200@www.clickiowa.com
SUMMARY:9AM Service
DESCRIPTION:
URL:https://www.clickiowa.com/event/first-service/2029-10-21/
LOCATION:Main Sanctuary
CATEGORIES:Main Church
ATTACH;FMTTYPE=image/png:https://www.clickiowa.com/wp-content/uploads/2023/07/Cal-Feed-2-1.png
END:VEVENT
BEGIN:VEVENT
DTSTART;TZID=UTC:20291021T103000
DTEND;TZID=UTC:20291021T103000
DTSTAMP:20260423T014419
CREATED:20230730T005844Z
LAST-MODIFIED:20250701T180247Z
UID:990003873-1887273000-1887273000@www.clickiowa.com
SUMMARY:10:30AM Service
DESCRIPTION:Add New
URL:https://www.clickiowa.com/event/1030am-service/2029-10-21/
LOCATION:Main Sanctuary
CATEGORIES:Main Church
ATTACH;FMTTYPE=image/png:https://www.clickiowa.com/wp-content/uploads/2023/07/Cal-Feed-3.png
END:VEVENT
BEGIN:VEVENT
DTSTART;TZID=UTC:20291028T090000
DTEND;TZID=UTC:20291028T100000
DTSTAMP:20260423T014419
CREATED:20230730T005637Z
LAST-MODIFIED:20250701T175841Z
UID:990003974-1887872400-1887876000@www.clickiowa.com
SUMMARY:9AM Service
DESCRIPTION:
URL:https://www.clickiowa.com/event/first-service/2029-10-28/
LOCATION:Main Sanctuary
CATEGORIES:Main Church
ATTACH;FMTTYPE=image/png:https://www.clickiowa.com/wp-content/uploads/2023/07/Cal-Feed-2-1.png
END:VEVENT
BEGIN:VEVENT
DTSTART;TZID=UTC:20291028T103000
DTEND;TZID=UTC:20291028T103000
DTSTAMP:20260423T014419
CREATED:20230730T005844Z
LAST-MODIFIED:20250701T180247Z
UID:990003874-1887877800-1887877800@www.clickiowa.com
SUMMARY:10:30AM Service
DESCRIPTION:Add New
URL:https://www.clickiowa.com/event/1030am-service/2029-10-28/
LOCATION:Main Sanctuary
CATEGORIES:Main Church
ATTACH;FMTTYPE=image/png:https://www.clickiowa.com/wp-content/uploads/2023/07/Cal-Feed-3.png
END:VEVENT
BEGIN:VEVENT
DTSTART;TZID=UTC:20291104T090000
DTEND;TZID=UTC:20291104T100000
DTSTAMP:20260423T014419
CREATED:20230730T005637Z
LAST-MODIFIED:20250701T175841Z
UID:990003975-1888477200-1888480800@www.clickiowa.com
SUMMARY:9AM Service
DESCRIPTION:
URL:https://www.clickiowa.com/event/first-service/2029-11-04/
LOCATION:Main Sanctuary
CATEGORIES:Main Church
ATTACH;FMTTYPE=image/png:https://www.clickiowa.com/wp-content/uploads/2023/07/Cal-Feed-2-1.png
END:VEVENT
BEGIN:VEVENT
DTSTART;TZID=UTC:20291104T103000
DTEND;TZID=UTC:20291104T103000
DTSTAMP:20260423T014419
CREATED:20230730T005844Z
LAST-MODIFIED:20250701T180247Z
UID:990003875-1888482600-1888482600@www.clickiowa.com
SUMMARY:10:30AM Service
DESCRIPTION:Add New
URL:https://www.clickiowa.com/event/1030am-service/2029-11-04/
LOCATION:Main Sanctuary
CATEGORIES:Main Church
ATTACH;FMTTYPE=image/png:https://www.clickiowa.com/wp-content/uploads/2023/07/Cal-Feed-3.png
END:VEVENT
BEGIN:VEVENT
DTSTART;TZID=UTC:20291111T090000
DTEND;TZID=UTC:20291111T100000
DTSTAMP:20260423T014419
CREATED:20230730T005637Z
LAST-MODIFIED:20250701T175841Z
UID:990003976-1889082000-1889085600@www.clickiowa.com
SUMMARY:9AM Service
DESCRIPTION:
URL:https://www.clickiowa.com/event/first-service/2029-11-11/
LOCATION:Main Sanctuary
CATEGORIES:Main Church
ATTACH;FMTTYPE=image/png:https://www.clickiowa.com/wp-content/uploads/2023/07/Cal-Feed-2-1.png
END:VEVENT
BEGIN:VEVENT
DTSTART;TZID=UTC:20291111T103000
DTEND;TZID=UTC:20291111T103000
DTSTAMP:20260423T014419
CREATED:20230730T005844Z
LAST-MODIFIED:20250701T180247Z
UID:990003876-1889087400-1889087400@www.clickiowa.com
SUMMARY:10:30AM Service
DESCRIPTION:Add New
URL:https://www.clickiowa.com/event/1030am-service/2029-11-11/
LOCATION:Main Sanctuary
CATEGORIES:Main Church
ATTACH;FMTTYPE=image/png:https://www.clickiowa.com/wp-content/uploads/2023/07/Cal-Feed-3.png
END:VEVENT
BEGIN:VEVENT
DTSTART;TZID=UTC:20291118T090000
DTEND;TZID=UTC:20291118T100000
DTSTAMP:20260423T014419
CREATED:20230730T005637Z
LAST-MODIFIED:20250701T175841Z
UID:990003977-1889686800-1889690400@www.clickiowa.com
SUMMARY:9AM Service
DESCRIPTION:
URL:https://www.clickiowa.com/event/first-service/2029-11-18/
LOCATION:Main Sanctuary
CATEGORIES:Main Church
ATTACH;FMTTYPE=image/png:https://www.clickiowa.com/wp-content/uploads/2023/07/Cal-Feed-2-1.png
END:VEVENT
BEGIN:VEVENT
DTSTART;TZID=UTC:20291118T103000
DTEND;TZID=UTC:20291118T103000
DTSTAMP:20260423T014419
CREATED:20230730T005844Z
LAST-MODIFIED:20250701T180247Z
UID:990003877-1889692200-1889692200@www.clickiowa.com
SUMMARY:10:30AM Service
DESCRIPTION:Add New
URL:https://www.clickiowa.com/event/1030am-service/2029-11-18/
LOCATION:Main Sanctuary
CATEGORIES:Main Church
ATTACH;FMTTYPE=image/png:https://www.clickiowa.com/wp-content/uploads/2023/07/Cal-Feed-3.png
END:VEVENT
BEGIN:VEVENT
DTSTART;TZID=UTC:20291125T090000
DTEND;TZID=UTC:20291125T100000
DTSTAMP:20260423T014419
CREATED:20230730T005637Z
LAST-MODIFIED:20250701T175841Z
UID:990003978-1890291600-1890295200@www.clickiowa.com
SUMMARY:9AM Service
DESCRIPTION:
URL:https://www.clickiowa.com/event/first-service/2029-11-25/
LOCATION:Main Sanctuary
CATEGORIES:Main Church
ATTACH;FMTTYPE=image/png:https://www.clickiowa.com/wp-content/uploads/2023/07/Cal-Feed-2-1.png
END:VEVENT
BEGIN:VEVENT
DTSTART;TZID=UTC:20291125T103000
DTEND;TZID=UTC:20291125T103000
DTSTAMP:20260423T014419
CREATED:20230730T005844Z
LAST-MODIFIED:20250701T180247Z
UID:990003878-1890297000-1890297000@www.clickiowa.com
SUMMARY:10:30AM Service
DESCRIPTION:Add New
URL:https://www.clickiowa.com/event/1030am-service/2029-11-25/
LOCATION:Main Sanctuary
CATEGORIES:Main Church
ATTACH;FMTTYPE=image/png:https://www.clickiowa.com/wp-content/uploads/2023/07/Cal-Feed-3.png
END:VEVENT
BEGIN:VEVENT
DTSTART;TZID=UTC:20291202T090000
DTEND;TZID=UTC:20291202T100000
DTSTAMP:20260423T014419
CREATED:20230730T005637Z
LAST-MODIFIED:20250701T175841Z
UID:990003979-1890896400-1890900000@www.clickiowa.com
SUMMARY:9AM Service
DESCRIPTION:
URL:https://www.clickiowa.com/event/first-service/2029-12-02/
LOCATION:Main Sanctuary
CATEGORIES:Main Church
ATTACH;FMTTYPE=image/png:https://www.clickiowa.com/wp-content/uploads/2023/07/Cal-Feed-2-1.png
END:VEVENT
BEGIN:VEVENT
DTSTART;TZID=UTC:20291202T103000
DTEND;TZID=UTC:20291202T103000
DTSTAMP:20260423T014419
CREATED:20230730T005844Z
LAST-MODIFIED:20250701T180247Z
UID:990003879-1890901800-1890901800@www.clickiowa.com
SUMMARY:10:30AM Service
DESCRIPTION:Add New
URL:https://www.clickiowa.com/event/1030am-service/2029-12-02/
LOCATION:Main Sanctuary
CATEGORIES:Main Church
ATTACH;FMTTYPE=image/png:https://www.clickiowa.com/wp-content/uploads/2023/07/Cal-Feed-3.png
END:VEVENT
END:VCALENDAR