BEGIN:VCALENDAR
VERSION:2.0
PRODID:-//Capitol City Church - ECPv6.15.18//NONSGML v1.0//EN
CALSCALE:GREGORIAN
METHOD:PUBLISH
X-WR-CALNAME:Capitol City Church
X-ORIGINAL-URL:https://www.clickiowa.com
X-WR-CALDESC:Events for Capitol City Church
REFRESH-INTERVAL;VALUE=DURATION:PT1H
X-Robots-Tag:noindex
X-PUBLISHED-TTL:PT1H
BEGIN:VTIMEZONE
TZID:UTC
BEGIN:STANDARD
TZOFFSETFROM:+0000
TZOFFSETTO:+0000
TZNAME:UTC
DTSTART:20280101T000000
END:STANDARD
END:VTIMEZONE
BEGIN:VEVENT
DTSTART;TZID=UTC:20291028T090000
DTEND;TZID=UTC:20291028T100000
DTSTAMP:20260422T224531
CREATED:20230730T005637Z
LAST-MODIFIED:20250701T175841Z
UID:990003974-1887872400-1887876000@www.clickiowa.com
SUMMARY:9AM Service
DESCRIPTION:
URL:https://www.clickiowa.com/event/first-service/2029-10-28/
LOCATION:Main Sanctuary
CATEGORIES:Main Church
ATTACH;FMTTYPE=image/png:https://www.clickiowa.com/wp-content/uploads/2023/07/Cal-Feed-2-1.png
END:VEVENT
BEGIN:VEVENT
DTSTART;TZID=UTC:20291028T103000
DTEND;TZID=UTC:20291028T103000
DTSTAMP:20260422T224531
CREATED:20230730T005844Z
LAST-MODIFIED:20250701T180247Z
UID:990003874-1887877800-1887877800@www.clickiowa.com
SUMMARY:10:30AM Service
DESCRIPTION:Add New
URL:https://www.clickiowa.com/event/1030am-service/2029-10-28/
LOCATION:Main Sanctuary
CATEGORIES:Main Church
ATTACH;FMTTYPE=image/png:https://www.clickiowa.com/wp-content/uploads/2023/07/Cal-Feed-3.png
END:VEVENT
BEGIN:VEVENT
DTSTART;TZID=UTC:20291104T090000
DTEND;TZID=UTC:20291104T100000
DTSTAMP:20260422T224531
CREATED:20230730T005637Z
LAST-MODIFIED:20250701T175841Z
UID:990003975-1888477200-1888480800@www.clickiowa.com
SUMMARY:9AM Service
DESCRIPTION:
URL:https://www.clickiowa.com/event/first-service/2029-11-04/
LOCATION:Main Sanctuary
CATEGORIES:Main Church
ATTACH;FMTTYPE=image/png:https://www.clickiowa.com/wp-content/uploads/2023/07/Cal-Feed-2-1.png
END:VEVENT
BEGIN:VEVENT
DTSTART;TZID=UTC:20291104T103000
DTEND;TZID=UTC:20291104T103000
DTSTAMP:20260422T224531
CREATED:20230730T005844Z
LAST-MODIFIED:20250701T180247Z
UID:990003875-1888482600-1888482600@www.clickiowa.com
SUMMARY:10:30AM Service
DESCRIPTION:Add New
URL:https://www.clickiowa.com/event/1030am-service/2029-11-04/
LOCATION:Main Sanctuary
CATEGORIES:Main Church
ATTACH;FMTTYPE=image/png:https://www.clickiowa.com/wp-content/uploads/2023/07/Cal-Feed-3.png
END:VEVENT
BEGIN:VEVENT
DTSTART;TZID=UTC:20291111T090000
DTEND;TZID=UTC:20291111T100000
DTSTAMP:20260422T224531
CREATED:20230730T005637Z
LAST-MODIFIED:20250701T175841Z
UID:990003976-1889082000-1889085600@www.clickiowa.com
SUMMARY:9AM Service
DESCRIPTION:
URL:https://www.clickiowa.com/event/first-service/2029-11-11/
LOCATION:Main Sanctuary
CATEGORIES:Main Church
ATTACH;FMTTYPE=image/png:https://www.clickiowa.com/wp-content/uploads/2023/07/Cal-Feed-2-1.png
END:VEVENT
BEGIN:VEVENT
DTSTART;TZID=UTC:20291111T103000
DTEND;TZID=UTC:20291111T103000
DTSTAMP:20260422T224531
CREATED:20230730T005844Z
LAST-MODIFIED:20250701T180247Z
UID:990003876-1889087400-1889087400@www.clickiowa.com
SUMMARY:10:30AM Service
DESCRIPTION:Add New
URL:https://www.clickiowa.com/event/1030am-service/2029-11-11/
LOCATION:Main Sanctuary
CATEGORIES:Main Church
ATTACH;FMTTYPE=image/png:https://www.clickiowa.com/wp-content/uploads/2023/07/Cal-Feed-3.png
END:VEVENT
BEGIN:VEVENT
DTSTART;TZID=UTC:20291118T090000
DTEND;TZID=UTC:20291118T100000
DTSTAMP:20260422T224531
CREATED:20230730T005637Z
LAST-MODIFIED:20250701T175841Z
UID:990003977-1889686800-1889690400@www.clickiowa.com
SUMMARY:9AM Service
DESCRIPTION:
URL:https://www.clickiowa.com/event/first-service/2029-11-18/
LOCATION:Main Sanctuary
CATEGORIES:Main Church
ATTACH;FMTTYPE=image/png:https://www.clickiowa.com/wp-content/uploads/2023/07/Cal-Feed-2-1.png
END:VEVENT
BEGIN:VEVENT
DTSTART;TZID=UTC:20291118T103000
DTEND;TZID=UTC:20291118T103000
DTSTAMP:20260422T224531
CREATED:20230730T005844Z
LAST-MODIFIED:20250701T180247Z
UID:990003877-1889692200-1889692200@www.clickiowa.com
SUMMARY:10:30AM Service
DESCRIPTION:Add New
URL:https://www.clickiowa.com/event/1030am-service/2029-11-18/
LOCATION:Main Sanctuary
CATEGORIES:Main Church
ATTACH;FMTTYPE=image/png:https://www.clickiowa.com/wp-content/uploads/2023/07/Cal-Feed-3.png
END:VEVENT
BEGIN:VEVENT
DTSTART;TZID=UTC:20291125T090000
DTEND;TZID=UTC:20291125T100000
DTSTAMP:20260422T224531
CREATED:20230730T005637Z
LAST-MODIFIED:20250701T175841Z
UID:990003978-1890291600-1890295200@www.clickiowa.com
SUMMARY:9AM Service
DESCRIPTION:
URL:https://www.clickiowa.com/event/first-service/2029-11-25/
LOCATION:Main Sanctuary
CATEGORIES:Main Church
ATTACH;FMTTYPE=image/png:https://www.clickiowa.com/wp-content/uploads/2023/07/Cal-Feed-2-1.png
END:VEVENT
BEGIN:VEVENT
DTSTART;TZID=UTC:20291125T103000
DTEND;TZID=UTC:20291125T103000
DTSTAMP:20260422T224531
CREATED:20230730T005844Z
LAST-MODIFIED:20250701T180247Z
UID:990003878-1890297000-1890297000@www.clickiowa.com
SUMMARY:10:30AM Service
DESCRIPTION:Add New
URL:https://www.clickiowa.com/event/1030am-service/2029-11-25/
LOCATION:Main Sanctuary
CATEGORIES:Main Church
ATTACH;FMTTYPE=image/png:https://www.clickiowa.com/wp-content/uploads/2023/07/Cal-Feed-3.png
END:VEVENT
BEGIN:VEVENT
DTSTART;TZID=UTC:20291202T090000
DTEND;TZID=UTC:20291202T100000
DTSTAMP:20260422T224531
CREATED:20230730T005637Z
LAST-MODIFIED:20250701T175841Z
UID:990003979-1890896400-1890900000@www.clickiowa.com
SUMMARY:9AM Service
DESCRIPTION:
URL:https://www.clickiowa.com/event/first-service/2029-12-02/
LOCATION:Main Sanctuary
CATEGORIES:Main Church
ATTACH;FMTTYPE=image/png:https://www.clickiowa.com/wp-content/uploads/2023/07/Cal-Feed-2-1.png
END:VEVENT
BEGIN:VEVENT
DTSTART;TZID=UTC:20291202T103000
DTEND;TZID=UTC:20291202T103000
DTSTAMP:20260422T224531
CREATED:20230730T005844Z
LAST-MODIFIED:20250701T180247Z
UID:990003879-1890901800-1890901800@www.clickiowa.com
SUMMARY:10:30AM Service
DESCRIPTION:Add New
URL:https://www.clickiowa.com/event/1030am-service/2029-12-02/
LOCATION:Main Sanctuary
CATEGORIES:Main Church
ATTACH;FMTTYPE=image/png:https://www.clickiowa.com/wp-content/uploads/2023/07/Cal-Feed-3.png
END:VEVENT
BEGIN:VEVENT
DTSTART;TZID=UTC:20291209T090000
DTEND;TZID=UTC:20291209T100000
DTSTAMP:20260422T224531
CREATED:20230730T005637Z
LAST-MODIFIED:20250701T175841Z
UID:990003980-1891501200-1891504800@www.clickiowa.com
SUMMARY:9AM Service
DESCRIPTION:
URL:https://www.clickiowa.com/event/first-service/2029-12-09/
LOCATION:Main Sanctuary
CATEGORIES:Main Church
ATTACH;FMTTYPE=image/png:https://www.clickiowa.com/wp-content/uploads/2023/07/Cal-Feed-2-1.png
END:VEVENT
BEGIN:VEVENT
DTSTART;TZID=UTC:20291209T103000
DTEND;TZID=UTC:20291209T103000
DTSTAMP:20260422T224531
CREATED:20230730T005844Z
LAST-MODIFIED:20250701T180247Z
UID:990003880-1891506600-1891506600@www.clickiowa.com
SUMMARY:10:30AM Service
DESCRIPTION:Add New
URL:https://www.clickiowa.com/event/1030am-service/2029-12-09/
LOCATION:Main Sanctuary
CATEGORIES:Main Church
ATTACH;FMTTYPE=image/png:https://www.clickiowa.com/wp-content/uploads/2023/07/Cal-Feed-3.png
END:VEVENT
BEGIN:VEVENT
DTSTART;TZID=UTC:20291216T090000
DTEND;TZID=UTC:20291216T100000
DTSTAMP:20260422T224531
CREATED:20230730T005637Z
LAST-MODIFIED:20250701T175841Z
UID:990003981-1892106000-1892109600@www.clickiowa.com
SUMMARY:9AM Service
DESCRIPTION:
URL:https://www.clickiowa.com/event/first-service/2029-12-16/
LOCATION:Main Sanctuary
CATEGORIES:Main Church
ATTACH;FMTTYPE=image/png:https://www.clickiowa.com/wp-content/uploads/2023/07/Cal-Feed-2-1.png
END:VEVENT
BEGIN:VEVENT
DTSTART;TZID=UTC:20291216T103000
DTEND;TZID=UTC:20291216T103000
DTSTAMP:20260422T224531
CREATED:20230730T005844Z
LAST-MODIFIED:20250701T180247Z
UID:990003881-1892111400-1892111400@www.clickiowa.com
SUMMARY:10:30AM Service
DESCRIPTION:Add New
URL:https://www.clickiowa.com/event/1030am-service/2029-12-16/
LOCATION:Main Sanctuary
CATEGORIES:Main Church
ATTACH;FMTTYPE=image/png:https://www.clickiowa.com/wp-content/uploads/2023/07/Cal-Feed-3.png
END:VEVENT
BEGIN:VEVENT
DTSTART;TZID=UTC:20291223T090000
DTEND;TZID=UTC:20291223T100000
DTSTAMP:20260422T224531
CREATED:20230730T005637Z
LAST-MODIFIED:20250701T175841Z
UID:990003982-1892710800-1892714400@www.clickiowa.com
SUMMARY:9AM Service
DESCRIPTION:
URL:https://www.clickiowa.com/event/first-service/2029-12-23/
LOCATION:Main Sanctuary
CATEGORIES:Main Church
ATTACH;FMTTYPE=image/png:https://www.clickiowa.com/wp-content/uploads/2023/07/Cal-Feed-2-1.png
END:VEVENT
BEGIN:VEVENT
DTSTART;TZID=UTC:20291223T103000
DTEND;TZID=UTC:20291223T103000
DTSTAMP:20260422T224531
CREATED:20230730T005844Z
LAST-MODIFIED:20250701T180247Z
UID:990003882-1892716200-1892716200@www.clickiowa.com
SUMMARY:10:30AM Service
DESCRIPTION:Add New
URL:https://www.clickiowa.com/event/1030am-service/2029-12-23/
LOCATION:Main Sanctuary
CATEGORIES:Main Church
ATTACH;FMTTYPE=image/png:https://www.clickiowa.com/wp-content/uploads/2023/07/Cal-Feed-3.png
END:VEVENT
BEGIN:VEVENT
DTSTART;TZID=UTC:20291230T090000
DTEND;TZID=UTC:20291230T100000
DTSTAMP:20260422T224531
CREATED:20230730T005637Z
LAST-MODIFIED:20250701T175841Z
UID:990003983-1893315600-1893319200@www.clickiowa.com
SUMMARY:9AM Service
DESCRIPTION:
URL:https://www.clickiowa.com/event/first-service/2029-12-30/
LOCATION:Main Sanctuary
CATEGORIES:Main Church
ATTACH;FMTTYPE=image/png:https://www.clickiowa.com/wp-content/uploads/2023/07/Cal-Feed-2-1.png
END:VEVENT
BEGIN:VEVENT
DTSTART;TZID=UTC:20291230T103000
DTEND;TZID=UTC:20291230T103000
DTSTAMP:20260422T224531
CREATED:20230730T005844Z
LAST-MODIFIED:20250701T180247Z
UID:990003883-1893321000-1893321000@www.clickiowa.com
SUMMARY:10:30AM Service
DESCRIPTION:Add New
URL:https://www.clickiowa.com/event/1030am-service/2029-12-30/
LOCATION:Main Sanctuary
CATEGORIES:Main Church
ATTACH;FMTTYPE=image/png:https://www.clickiowa.com/wp-content/uploads/2023/07/Cal-Feed-3.png
END:VEVENT
BEGIN:VEVENT
DTSTART;TZID=UTC:20300106T090000
DTEND;TZID=UTC:20300106T100000
DTSTAMP:20260422T224531
CREATED:20230730T005637Z
LAST-MODIFIED:20250701T175841Z
UID:990003984-1893920400-1893924000@www.clickiowa.com
SUMMARY:9AM Service
DESCRIPTION:
URL:https://www.clickiowa.com/event/first-service/2030-01-06/
LOCATION:Main Sanctuary
CATEGORIES:Main Church
ATTACH;FMTTYPE=image/png:https://www.clickiowa.com/wp-content/uploads/2023/07/Cal-Feed-2-1.png
END:VEVENT
BEGIN:VEVENT
DTSTART;TZID=UTC:20300106T103000
DTEND;TZID=UTC:20300106T103000
DTSTAMP:20260422T224531
CREATED:20230730T005844Z
LAST-MODIFIED:20250701T180247Z
UID:990003884-1893925800-1893925800@www.clickiowa.com
SUMMARY:10:30AM Service
DESCRIPTION:Add New
URL:https://www.clickiowa.com/event/1030am-service/2030-01-06/
LOCATION:Main Sanctuary
CATEGORIES:Main Church
ATTACH;FMTTYPE=image/png:https://www.clickiowa.com/wp-content/uploads/2023/07/Cal-Feed-3.png
END:VEVENT
BEGIN:VEVENT
DTSTART;TZID=UTC:20300113T090000
DTEND;TZID=UTC:20300113T100000
DTSTAMP:20260422T224531
CREATED:20230730T005637Z
LAST-MODIFIED:20250701T175841Z
UID:990003985-1894525200-1894528800@www.clickiowa.com
SUMMARY:9AM Service
DESCRIPTION:
URL:https://www.clickiowa.com/event/first-service/2030-01-13/
LOCATION:Main Sanctuary
CATEGORIES:Main Church
ATTACH;FMTTYPE=image/png:https://www.clickiowa.com/wp-content/uploads/2023/07/Cal-Feed-2-1.png
END:VEVENT
BEGIN:VEVENT
DTSTART;TZID=UTC:20300113T103000
DTEND;TZID=UTC:20300113T103000
DTSTAMP:20260422T224531
CREATED:20230730T005844Z
LAST-MODIFIED:20250701T180247Z
UID:990003885-1894530600-1894530600@www.clickiowa.com
SUMMARY:10:30AM Service
DESCRIPTION:Add New
URL:https://www.clickiowa.com/event/1030am-service/2030-01-13/
LOCATION:Main Sanctuary
CATEGORIES:Main Church
ATTACH;FMTTYPE=image/png:https://www.clickiowa.com/wp-content/uploads/2023/07/Cal-Feed-3.png
END:VEVENT
BEGIN:VEVENT
DTSTART;TZID=UTC:20300120T090000
DTEND;TZID=UTC:20300120T100000
DTSTAMP:20260422T224531
CREATED:20230730T005637Z
LAST-MODIFIED:20250701T175841Z
UID:990003986-1895130000-1895133600@www.clickiowa.com
SUMMARY:9AM Service
DESCRIPTION:
URL:https://www.clickiowa.com/event/first-service/2030-01-20/
LOCATION:Main Sanctuary
CATEGORIES:Main Church
ATTACH;FMTTYPE=image/png:https://www.clickiowa.com/wp-content/uploads/2023/07/Cal-Feed-2-1.png
END:VEVENT
BEGIN:VEVENT
DTSTART;TZID=UTC:20300120T103000
DTEND;TZID=UTC:20300120T103000
DTSTAMP:20260422T224531
CREATED:20230730T005844Z
LAST-MODIFIED:20250701T180247Z
UID:990003886-1895135400-1895135400@www.clickiowa.com
SUMMARY:10:30AM Service
DESCRIPTION:Add New
URL:https://www.clickiowa.com/event/1030am-service/2030-01-20/
LOCATION:Main Sanctuary
CATEGORIES:Main Church
ATTACH;FMTTYPE=image/png:https://www.clickiowa.com/wp-content/uploads/2023/07/Cal-Feed-3.png
END:VEVENT
BEGIN:VEVENT
DTSTART;TZID=UTC:20300127T090000
DTEND;TZID=UTC:20300127T100000
DTSTAMP:20260422T224531
CREATED:20230730T005637Z
LAST-MODIFIED:20250701T175841Z
UID:990003987-1895734800-1895738400@www.clickiowa.com
SUMMARY:9AM Service
DESCRIPTION:
URL:https://www.clickiowa.com/event/first-service/2030-01-27/
LOCATION:Main Sanctuary
CATEGORIES:Main Church
ATTACH;FMTTYPE=image/png:https://www.clickiowa.com/wp-content/uploads/2023/07/Cal-Feed-2-1.png
END:VEVENT
BEGIN:VEVENT
DTSTART;TZID=UTC:20300127T103000
DTEND;TZID=UTC:20300127T103000
DTSTAMP:20260422T224531
CREATED:20230730T005844Z
LAST-MODIFIED:20250701T180247Z
UID:990003887-1895740200-1895740200@www.clickiowa.com
SUMMARY:10:30AM Service
DESCRIPTION:Add New
URL:https://www.clickiowa.com/event/1030am-service/2030-01-27/
LOCATION:Main Sanctuary
CATEGORIES:Main Church
ATTACH;FMTTYPE=image/png:https://www.clickiowa.com/wp-content/uploads/2023/07/Cal-Feed-3.png
END:VEVENT
BEGIN:VEVENT
DTSTART;TZID=UTC:20300203T090000
DTEND;TZID=UTC:20300203T100000
DTSTAMP:20260422T224531
CREATED:20230730T005637Z
LAST-MODIFIED:20250701T175841Z
UID:990003988-1896339600-1896343200@www.clickiowa.com
SUMMARY:9AM Service
DESCRIPTION:
URL:https://www.clickiowa.com/event/first-service/2030-02-03/
LOCATION:Main Sanctuary
CATEGORIES:Main Church
ATTACH;FMTTYPE=image/png:https://www.clickiowa.com/wp-content/uploads/2023/07/Cal-Feed-2-1.png
END:VEVENT
BEGIN:VEVENT
DTSTART;TZID=UTC:20300203T103000
DTEND;TZID=UTC:20300203T103000
DTSTAMP:20260422T224531
CREATED:20230730T005844Z
LAST-MODIFIED:20250701T180247Z
UID:990003888-1896345000-1896345000@www.clickiowa.com
SUMMARY:10:30AM Service
DESCRIPTION:Add New
URL:https://www.clickiowa.com/event/1030am-service/2030-02-03/
LOCATION:Main Sanctuary
CATEGORIES:Main Church
ATTACH;FMTTYPE=image/png:https://www.clickiowa.com/wp-content/uploads/2023/07/Cal-Feed-3.png
END:VEVENT
END:VCALENDAR