BEGIN:VCALENDAR
VERSION:2.0
PRODID:-//Capitol City Church - ECPv6.15.18//NONSGML v1.0//EN
CALSCALE:GREGORIAN
METHOD:PUBLISH
X-WR-CALNAME:Capitol City Church
X-ORIGINAL-URL:https://www.clickiowa.com
X-WR-CALDESC:Events for Capitol City Church
REFRESH-INTERVAL;VALUE=DURATION:PT1H
X-Robots-Tag:noindex
X-PUBLISHED-TTL:PT1H
BEGIN:VTIMEZONE
TZID:UTC
BEGIN:STANDARD
TZOFFSETFROM:+0000
TZOFFSETTO:+0000
TZNAME:UTC
DTSTART:20250101T000000
END:STANDARD
END:VTIMEZONE
BEGIN:VEVENT
DTSTART;TZID=UTC:20261202T183000
DTEND;TZID=UTC:20261202T200000
DTSTAMP:20260422T165956
CREATED:20250713T113003Z
LAST-MODIFIED:20250713T114722Z
UID:990004384-1796236200-1796241600@www.clickiowa.com
SUMMARY:City Tweens
DESCRIPTION:
URL:https://www.clickiowa.com/event/city-tweens/2026-12-02/
LOCATION:Student Center
CATEGORIES:Tweens
ATTACH;FMTTYPE=image/jpeg:https://www.clickiowa.com/wp-content/uploads/2025/07/tweener.jpg
END:VEVENT
BEGIN:VEVENT
DTSTART;TZID=UTC:20261209T183000
DTEND;TZID=UTC:20261209T200000
DTSTAMP:20260422T165956
CREATED:20250713T113003Z
LAST-MODIFIED:20250713T114722Z
UID:990004385-1796841000-1796846400@www.clickiowa.com
SUMMARY:City Tweens
DESCRIPTION:
URL:https://www.clickiowa.com/event/city-tweens/2026-12-09/
LOCATION:Student Center
CATEGORIES:Tweens
ATTACH;FMTTYPE=image/jpeg:https://www.clickiowa.com/wp-content/uploads/2025/07/tweener.jpg
END:VEVENT
BEGIN:VEVENT
DTSTART;TZID=UTC:20261216T183000
DTEND;TZID=UTC:20261216T200000
DTSTAMP:20260422T165956
CREATED:20250713T113003Z
LAST-MODIFIED:20250713T114722Z
UID:990004386-1797445800-1797451200@www.clickiowa.com
SUMMARY:City Tweens
DESCRIPTION:
URL:https://www.clickiowa.com/event/city-tweens/2026-12-16/
LOCATION:Student Center
CATEGORIES:Tweens
ATTACH;FMTTYPE=image/jpeg:https://www.clickiowa.com/wp-content/uploads/2025/07/tweener.jpg
END:VEVENT
BEGIN:VEVENT
DTSTART;TZID=UTC:20261223T183000
DTEND;TZID=UTC:20261223T200000
DTSTAMP:20260422T165956
CREATED:20250713T113003Z
LAST-MODIFIED:20250713T114722Z
UID:990004387-1798050600-1798056000@www.clickiowa.com
SUMMARY:City Tweens
DESCRIPTION:
URL:https://www.clickiowa.com/event/city-tweens/2026-12-23/
LOCATION:Student Center
CATEGORIES:Tweens
ATTACH;FMTTYPE=image/jpeg:https://www.clickiowa.com/wp-content/uploads/2025/07/tweener.jpg
END:VEVENT
BEGIN:VEVENT
DTSTART;TZID=UTC:20261230T183000
DTEND;TZID=UTC:20261230T200000
DTSTAMP:20260422T165956
CREATED:20250713T113003Z
LAST-MODIFIED:20250713T114722Z
UID:990004388-1798655400-1798660800@www.clickiowa.com
SUMMARY:City Tweens
DESCRIPTION:
URL:https://www.clickiowa.com/event/city-tweens/2026-12-30/
LOCATION:Student Center
CATEGORIES:Tweens
ATTACH;FMTTYPE=image/jpeg:https://www.clickiowa.com/wp-content/uploads/2025/07/tweener.jpg
END:VEVENT
END:VCALENDAR