BEGIN:VCALENDAR
VERSION:2.0
PRODID:-//Capitol City Church - ECPv6.15.18//NONSGML v1.0//EN
CALSCALE:GREGORIAN
METHOD:PUBLISH
X-WR-CALNAME:Capitol City Church
X-ORIGINAL-URL:https://www.clickiowa.com
X-WR-CALDESC:Events for Capitol City Church
REFRESH-INTERVAL;VALUE=DURATION:PT1H
X-Robots-Tag:noindex
X-PUBLISHED-TTL:PT1H
BEGIN:VTIMEZONE
TZID:UTC
BEGIN:STANDARD
TZOFFSETFROM:+0000
TZOFFSETTO:+0000
TZNAME:UTC
DTSTART:20270101T000000
END:STANDARD
END:VTIMEZONE
BEGIN:VEVENT
DTSTART;TZID=UTC:20280927T183000
DTEND;TZID=UTC:20280927T200000
DTSTAMP:20260420T014011
CREATED:20250713T113003Z
LAST-MODIFIED:20250713T114722Z
UID:990004479-1853692200-1853697600@www.clickiowa.com
SUMMARY:City Tweens
DESCRIPTION:
URL:https://www.clickiowa.com/event/city-tweens/2028-09-27/
LOCATION:Student Center
CATEGORIES:Tweens
ATTACH;FMTTYPE=image/jpeg:https://www.clickiowa.com/wp-content/uploads/2025/07/tweener.jpg
END:VEVENT
BEGIN:VEVENT
DTSTART;TZID=UTC:20281004T183000
DTEND;TZID=UTC:20281004T200000
DTSTAMP:20260420T014011
CREATED:20250713T113003Z
LAST-MODIFIED:20250713T114722Z
UID:990004480-1854297000-1854302400@www.clickiowa.com
SUMMARY:City Tweens
DESCRIPTION:
URL:https://www.clickiowa.com/event/city-tweens/2028-10-04/
LOCATION:Student Center
CATEGORIES:Tweens
ATTACH;FMTTYPE=image/jpeg:https://www.clickiowa.com/wp-content/uploads/2025/07/tweener.jpg
END:VEVENT
BEGIN:VEVENT
DTSTART;TZID=UTC:20281011T183000
DTEND;TZID=UTC:20281011T200000
DTSTAMP:20260420T014011
CREATED:20250713T113003Z
LAST-MODIFIED:20250713T114722Z
UID:990004481-1854901800-1854907200@www.clickiowa.com
SUMMARY:City Tweens
DESCRIPTION:
URL:https://www.clickiowa.com/event/city-tweens/2028-10-11/
LOCATION:Student Center
CATEGORIES:Tweens
ATTACH;FMTTYPE=image/jpeg:https://www.clickiowa.com/wp-content/uploads/2025/07/tweener.jpg
END:VEVENT
BEGIN:VEVENT
DTSTART;TZID=UTC:20281018T183000
DTEND;TZID=UTC:20281018T200000
DTSTAMP:20260420T014011
CREATED:20250713T113003Z
LAST-MODIFIED:20250713T114722Z
UID:990004482-1855506600-1855512000@www.clickiowa.com
SUMMARY:City Tweens
DESCRIPTION:
URL:https://www.clickiowa.com/event/city-tweens/2028-10-18/
LOCATION:Student Center
CATEGORIES:Tweens
ATTACH;FMTTYPE=image/jpeg:https://www.clickiowa.com/wp-content/uploads/2025/07/tweener.jpg
END:VEVENT
BEGIN:VEVENT
DTSTART;TZID=UTC:20281025T183000
DTEND;TZID=UTC:20281025T200000
DTSTAMP:20260420T014011
CREATED:20250713T113003Z
LAST-MODIFIED:20250713T114722Z
UID:990004483-1856111400-1856116800@www.clickiowa.com
SUMMARY:City Tweens
DESCRIPTION:
URL:https://www.clickiowa.com/event/city-tweens/2028-10-25/
LOCATION:Student Center
CATEGORIES:Tweens
ATTACH;FMTTYPE=image/jpeg:https://www.clickiowa.com/wp-content/uploads/2025/07/tweener.jpg
END:VEVENT
BEGIN:VEVENT
DTSTART;TZID=UTC:20281101T183000
DTEND;TZID=UTC:20281101T200000
DTSTAMP:20260420T014011
CREATED:20250713T113003Z
LAST-MODIFIED:20250713T114722Z
UID:990004484-1856716200-1856721600@www.clickiowa.com
SUMMARY:City Tweens
DESCRIPTION:
URL:https://www.clickiowa.com/event/city-tweens/2028-11-01/
LOCATION:Student Center
CATEGORIES:Tweens
ATTACH;FMTTYPE=image/jpeg:https://www.clickiowa.com/wp-content/uploads/2025/07/tweener.jpg
END:VEVENT
BEGIN:VEVENT
DTSTART;TZID=UTC:20281108T183000
DTEND;TZID=UTC:20281108T200000
DTSTAMP:20260420T014011
CREATED:20250713T113003Z
LAST-MODIFIED:20250713T114722Z
UID:990004485-1857321000-1857326400@www.clickiowa.com
SUMMARY:City Tweens
DESCRIPTION:
URL:https://www.clickiowa.com/event/city-tweens/2028-11-08/
LOCATION:Student Center
CATEGORIES:Tweens
ATTACH;FMTTYPE=image/jpeg:https://www.clickiowa.com/wp-content/uploads/2025/07/tweener.jpg
END:VEVENT
BEGIN:VEVENT
DTSTART;TZID=UTC:20281115T183000
DTEND;TZID=UTC:20281115T200000
DTSTAMP:20260420T014011
CREATED:20250713T113003Z
LAST-MODIFIED:20250713T114722Z
UID:990004486-1857925800-1857931200@www.clickiowa.com
SUMMARY:City Tweens
DESCRIPTION:
URL:https://www.clickiowa.com/event/city-tweens/2028-11-15/
LOCATION:Student Center
CATEGORIES:Tweens
ATTACH;FMTTYPE=image/jpeg:https://www.clickiowa.com/wp-content/uploads/2025/07/tweener.jpg
END:VEVENT
BEGIN:VEVENT
DTSTART;TZID=UTC:20281122T183000
DTEND;TZID=UTC:20281122T200000
DTSTAMP:20260420T014011
CREATED:20250713T113003Z
LAST-MODIFIED:20250713T114722Z
UID:990004487-1858530600-1858536000@www.clickiowa.com
SUMMARY:City Tweens
DESCRIPTION:
URL:https://www.clickiowa.com/event/city-tweens/2028-11-22/
LOCATION:Student Center
CATEGORIES:Tweens
ATTACH;FMTTYPE=image/jpeg:https://www.clickiowa.com/wp-content/uploads/2025/07/tweener.jpg
END:VEVENT
BEGIN:VEVENT
DTSTART;TZID=UTC:20281129T183000
DTEND;TZID=UTC:20281129T200000
DTSTAMP:20260420T014011
CREATED:20250713T113003Z
LAST-MODIFIED:20250713T114722Z
UID:990004488-1859135400-1859140800@www.clickiowa.com
SUMMARY:City Tweens
DESCRIPTION:
URL:https://www.clickiowa.com/event/city-tweens/2028-11-29/
LOCATION:Student Center
CATEGORIES:Tweens
ATTACH;FMTTYPE=image/jpeg:https://www.clickiowa.com/wp-content/uploads/2025/07/tweener.jpg
END:VEVENT
BEGIN:VEVENT
DTSTART;TZID=UTC:20281206T183000
DTEND;TZID=UTC:20281206T200000
DTSTAMP:20260420T014011
CREATED:20250713T113003Z
LAST-MODIFIED:20250713T114722Z
UID:990004489-1859740200-1859745600@www.clickiowa.com
SUMMARY:City Tweens
DESCRIPTION:
URL:https://www.clickiowa.com/event/city-tweens/2028-12-06/
LOCATION:Student Center
CATEGORIES:Tweens
ATTACH;FMTTYPE=image/jpeg:https://www.clickiowa.com/wp-content/uploads/2025/07/tweener.jpg
END:VEVENT
BEGIN:VEVENT
DTSTART;TZID=UTC:20281213T183000
DTEND;TZID=UTC:20281213T200000
DTSTAMP:20260420T014011
CREATED:20250713T113003Z
LAST-MODIFIED:20250713T114722Z
UID:990004490-1860345000-1860350400@www.clickiowa.com
SUMMARY:City Tweens
DESCRIPTION:
URL:https://www.clickiowa.com/event/city-tweens/2028-12-13/
LOCATION:Student Center
CATEGORIES:Tweens
ATTACH;FMTTYPE=image/jpeg:https://www.clickiowa.com/wp-content/uploads/2025/07/tweener.jpg
END:VEVENT
BEGIN:VEVENT
DTSTART;TZID=UTC:20281220T183000
DTEND;TZID=UTC:20281220T200000
DTSTAMP:20260420T014011
CREATED:20250713T113003Z
LAST-MODIFIED:20250713T114722Z
UID:990004491-1860949800-1860955200@www.clickiowa.com
SUMMARY:City Tweens
DESCRIPTION:
URL:https://www.clickiowa.com/event/city-tweens/2028-12-20/
LOCATION:Student Center
CATEGORIES:Tweens
ATTACH;FMTTYPE=image/jpeg:https://www.clickiowa.com/wp-content/uploads/2025/07/tweener.jpg
END:VEVENT
BEGIN:VEVENT
DTSTART;TZID=UTC:20281227T183000
DTEND;TZID=UTC:20281227T200000
DTSTAMP:20260420T014011
CREATED:20250713T113003Z
LAST-MODIFIED:20250713T114722Z
UID:990004492-1861554600-1861560000@www.clickiowa.com
SUMMARY:City Tweens
DESCRIPTION:
URL:https://www.clickiowa.com/event/city-tweens/2028-12-27/
LOCATION:Student Center
CATEGORIES:Tweens
ATTACH;FMTTYPE=image/jpeg:https://www.clickiowa.com/wp-content/uploads/2025/07/tweener.jpg
END:VEVENT
BEGIN:VEVENT
DTSTART;TZID=UTC:20290103T183000
DTEND;TZID=UTC:20290103T200000
DTSTAMP:20260420T014011
CREATED:20250713T113003Z
LAST-MODIFIED:20250713T114722Z
UID:990004493-1862159400-1862164800@www.clickiowa.com
SUMMARY:City Tweens
DESCRIPTION:
URL:https://www.clickiowa.com/event/city-tweens/2029-01-03/
LOCATION:Student Center
CATEGORIES:Tweens
ATTACH;FMTTYPE=image/jpeg:https://www.clickiowa.com/wp-content/uploads/2025/07/tweener.jpg
END:VEVENT
BEGIN:VEVENT
DTSTART;TZID=UTC:20290110T183000
DTEND;TZID=UTC:20290110T200000
DTSTAMP:20260420T014011
CREATED:20250713T113003Z
LAST-MODIFIED:20250713T114722Z
UID:990004494-1862764200-1862769600@www.clickiowa.com
SUMMARY:City Tweens
DESCRIPTION:
URL:https://www.clickiowa.com/event/city-tweens/2029-01-10/
LOCATION:Student Center
CATEGORIES:Tweens
ATTACH;FMTTYPE=image/jpeg:https://www.clickiowa.com/wp-content/uploads/2025/07/tweener.jpg
END:VEVENT
BEGIN:VEVENT
DTSTART;TZID=UTC:20290117T183000
DTEND;TZID=UTC:20290117T200000
DTSTAMP:20260420T014011
CREATED:20250713T113003Z
LAST-MODIFIED:20250713T114722Z
UID:990004495-1863369000-1863374400@www.clickiowa.com
SUMMARY:City Tweens
DESCRIPTION:
URL:https://www.clickiowa.com/event/city-tweens/2029-01-17/
LOCATION:Student Center
CATEGORIES:Tweens
ATTACH;FMTTYPE=image/jpeg:https://www.clickiowa.com/wp-content/uploads/2025/07/tweener.jpg
END:VEVENT
BEGIN:VEVENT
DTSTART;TZID=UTC:20290124T183000
DTEND;TZID=UTC:20290124T200000
DTSTAMP:20260420T014011
CREATED:20250713T113003Z
LAST-MODIFIED:20250713T114722Z
UID:990004496-1863973800-1863979200@www.clickiowa.com
SUMMARY:City Tweens
DESCRIPTION:
URL:https://www.clickiowa.com/event/city-tweens/2029-01-24/
LOCATION:Student Center
CATEGORIES:Tweens
ATTACH;FMTTYPE=image/jpeg:https://www.clickiowa.com/wp-content/uploads/2025/07/tweener.jpg
END:VEVENT
BEGIN:VEVENT
DTSTART;TZID=UTC:20290131T183000
DTEND;TZID=UTC:20290131T200000
DTSTAMP:20260420T014011
CREATED:20250713T113003Z
LAST-MODIFIED:20250713T114722Z
UID:990004497-1864578600-1864584000@www.clickiowa.com
SUMMARY:City Tweens
DESCRIPTION:
URL:https://www.clickiowa.com/event/city-tweens/2029-01-31/
LOCATION:Student Center
CATEGORIES:Tweens
ATTACH;FMTTYPE=image/jpeg:https://www.clickiowa.com/wp-content/uploads/2025/07/tweener.jpg
END:VEVENT
BEGIN:VEVENT
DTSTART;TZID=UTC:20290207T183000
DTEND;TZID=UTC:20290207T200000
DTSTAMP:20260420T014011
CREATED:20250713T113003Z
LAST-MODIFIED:20250713T114722Z
UID:990004498-1865183400-1865188800@www.clickiowa.com
SUMMARY:City Tweens
DESCRIPTION:
URL:https://www.clickiowa.com/event/city-tweens/2029-02-07/
LOCATION:Student Center
CATEGORIES:Tweens
ATTACH;FMTTYPE=image/jpeg:https://www.clickiowa.com/wp-content/uploads/2025/07/tweener.jpg
END:VEVENT
BEGIN:VEVENT
DTSTART;TZID=UTC:20290214T183000
DTEND;TZID=UTC:20290214T200000
DTSTAMP:20260420T014011
CREATED:20250713T113003Z
LAST-MODIFIED:20250713T114722Z
UID:990004499-1865788200-1865793600@www.clickiowa.com
SUMMARY:City Tweens
DESCRIPTION:
URL:https://www.clickiowa.com/event/city-tweens/2029-02-14/
LOCATION:Student Center
CATEGORIES:Tweens
ATTACH;FMTTYPE=image/jpeg:https://www.clickiowa.com/wp-content/uploads/2025/07/tweener.jpg
END:VEVENT
BEGIN:VEVENT
DTSTART;TZID=UTC:20290221T183000
DTEND;TZID=UTC:20290221T200000
DTSTAMP:20260420T014011
CREATED:20250713T113003Z
LAST-MODIFIED:20250713T114722Z
UID:990004500-1866393000-1866398400@www.clickiowa.com
SUMMARY:City Tweens
DESCRIPTION:
URL:https://www.clickiowa.com/event/city-tweens/2029-02-21/
LOCATION:Student Center
CATEGORIES:Tweens
ATTACH;FMTTYPE=image/jpeg:https://www.clickiowa.com/wp-content/uploads/2025/07/tweener.jpg
END:VEVENT
BEGIN:VEVENT
DTSTART;TZID=UTC:20290228T183000
DTEND;TZID=UTC:20290228T200000
DTSTAMP:20260420T014011
CREATED:20250713T113003Z
LAST-MODIFIED:20250713T114722Z
UID:990004501-1866997800-1867003200@www.clickiowa.com
SUMMARY:City Tweens
DESCRIPTION:
URL:https://www.clickiowa.com/event/city-tweens/2029-02-28/
LOCATION:Student Center
CATEGORIES:Tweens
ATTACH;FMTTYPE=image/jpeg:https://www.clickiowa.com/wp-content/uploads/2025/07/tweener.jpg
END:VEVENT
BEGIN:VEVENT
DTSTART;TZID=UTC:20290307T183000
DTEND;TZID=UTC:20290307T200000
DTSTAMP:20260420T014011
CREATED:20250713T113003Z
LAST-MODIFIED:20250713T114722Z
UID:990004502-1867602600-1867608000@www.clickiowa.com
SUMMARY:City Tweens
DESCRIPTION:
URL:https://www.clickiowa.com/event/city-tweens/2029-03-07/
LOCATION:Student Center
CATEGORIES:Tweens
ATTACH;FMTTYPE=image/jpeg:https://www.clickiowa.com/wp-content/uploads/2025/07/tweener.jpg
END:VEVENT
BEGIN:VEVENT
DTSTART;TZID=UTC:20290314T183000
DTEND;TZID=UTC:20290314T200000
DTSTAMP:20260420T014011
CREATED:20250713T113003Z
LAST-MODIFIED:20250713T114722Z
UID:990004503-1868207400-1868212800@www.clickiowa.com
SUMMARY:City Tweens
DESCRIPTION:
URL:https://www.clickiowa.com/event/city-tweens/2029-03-14/
LOCATION:Student Center
CATEGORIES:Tweens
ATTACH;FMTTYPE=image/jpeg:https://www.clickiowa.com/wp-content/uploads/2025/07/tweener.jpg
END:VEVENT
BEGIN:VEVENT
DTSTART;TZID=UTC:20290321T183000
DTEND;TZID=UTC:20290321T200000
DTSTAMP:20260420T014011
CREATED:20250713T113003Z
LAST-MODIFIED:20250713T114722Z
UID:990004504-1868812200-1868817600@www.clickiowa.com
SUMMARY:City Tweens
DESCRIPTION:
URL:https://www.clickiowa.com/event/city-tweens/2029-03-21/
LOCATION:Student Center
CATEGORIES:Tweens
ATTACH;FMTTYPE=image/jpeg:https://www.clickiowa.com/wp-content/uploads/2025/07/tweener.jpg
END:VEVENT
BEGIN:VEVENT
DTSTART;TZID=UTC:20290328T183000
DTEND;TZID=UTC:20290328T200000
DTSTAMP:20260420T014011
CREATED:20250713T113003Z
LAST-MODIFIED:20250713T114722Z
UID:990004505-1869417000-1869422400@www.clickiowa.com
SUMMARY:City Tweens
DESCRIPTION:
URL:https://www.clickiowa.com/event/city-tweens/2029-03-28/
LOCATION:Student Center
CATEGORIES:Tweens
ATTACH;FMTTYPE=image/jpeg:https://www.clickiowa.com/wp-content/uploads/2025/07/tweener.jpg
END:VEVENT
BEGIN:VEVENT
DTSTART;TZID=UTC:20290404T183000
DTEND;TZID=UTC:20290404T200000
DTSTAMP:20260420T014011
CREATED:20250713T113003Z
LAST-MODIFIED:20250713T114722Z
UID:990004506-1870021800-1870027200@www.clickiowa.com
SUMMARY:City Tweens
DESCRIPTION:
URL:https://www.clickiowa.com/event/city-tweens/2029-04-04/
LOCATION:Student Center
CATEGORIES:Tweens
ATTACH;FMTTYPE=image/jpeg:https://www.clickiowa.com/wp-content/uploads/2025/07/tweener.jpg
END:VEVENT
BEGIN:VEVENT
DTSTART;TZID=UTC:20290411T183000
DTEND;TZID=UTC:20290411T200000
DTSTAMP:20260420T014011
CREATED:20250713T113003Z
LAST-MODIFIED:20250713T114722Z
UID:990004507-1870626600-1870632000@www.clickiowa.com
SUMMARY:City Tweens
DESCRIPTION:
URL:https://www.clickiowa.com/event/city-tweens/2029-04-11/
LOCATION:Student Center
CATEGORIES:Tweens
ATTACH;FMTTYPE=image/jpeg:https://www.clickiowa.com/wp-content/uploads/2025/07/tweener.jpg
END:VEVENT
BEGIN:VEVENT
DTSTART;TZID=UTC:20290418T183000
DTEND;TZID=UTC:20290418T200000
DTSTAMP:20260420T014011
CREATED:20250713T113003Z
LAST-MODIFIED:20250713T114722Z
UID:990004508-1871231400-1871236800@www.clickiowa.com
SUMMARY:City Tweens
DESCRIPTION:
URL:https://www.clickiowa.com/event/city-tweens/2029-04-18/
LOCATION:Student Center
CATEGORIES:Tweens
ATTACH;FMTTYPE=image/jpeg:https://www.clickiowa.com/wp-content/uploads/2025/07/tweener.jpg
END:VEVENT
END:VCALENDAR