BEGIN:VCALENDAR
VERSION:2.0
PRODID:-//Capitol City Church - ECPv6.15.18//NONSGML v1.0//EN
CALSCALE:GREGORIAN
METHOD:PUBLISH
X-WR-CALNAME:Capitol City Church
X-ORIGINAL-URL:https://www.clickiowa.com
X-WR-CALDESC:Events for Capitol City Church
REFRESH-INTERVAL;VALUE=DURATION:PT1H
X-Robots-Tag:noindex
X-PUBLISHED-TTL:PT1H
BEGIN:VTIMEZONE
TZID:UTC
BEGIN:STANDARD
TZOFFSETFROM:+0000
TZOFFSETTO:+0000
TZNAME:UTC
DTSTART:20280101T000000
END:STANDARD
END:VTIMEZONE
BEGIN:VEVENT
DTSTART;TZID=UTC:20290815T183000
DTEND;TZID=UTC:20290815T200000
DTSTAMP:20260422T010147
CREATED:20250713T113003Z
LAST-MODIFIED:20250713T114722Z
UID:990004525-1881513000-1881518400@www.clickiowa.com
SUMMARY:City Tweens
DESCRIPTION:
URL:https://www.clickiowa.com/event/city-tweens/2029-08-15/
LOCATION:Student Center
CATEGORIES:Tweens
ATTACH;FMTTYPE=image/jpeg:https://www.clickiowa.com/wp-content/uploads/2025/07/tweener.jpg
END:VEVENT
BEGIN:VEVENT
DTSTART;TZID=UTC:20290822T183000
DTEND;TZID=UTC:20290822T200000
DTSTAMP:20260422T010147
CREATED:20250713T113003Z
LAST-MODIFIED:20250713T114722Z
UID:990004526-1882117800-1882123200@www.clickiowa.com
SUMMARY:City Tweens
DESCRIPTION:
URL:https://www.clickiowa.com/event/city-tweens/2029-08-22/
LOCATION:Student Center
CATEGORIES:Tweens
ATTACH;FMTTYPE=image/jpeg:https://www.clickiowa.com/wp-content/uploads/2025/07/tweener.jpg
END:VEVENT
BEGIN:VEVENT
DTSTART;TZID=UTC:20290829T183000
DTEND;TZID=UTC:20290829T200000
DTSTAMP:20260422T010147
CREATED:20250713T113003Z
LAST-MODIFIED:20250713T114722Z
UID:990004527-1882722600-1882728000@www.clickiowa.com
SUMMARY:City Tweens
DESCRIPTION:
URL:https://www.clickiowa.com/event/city-tweens/2029-08-29/
LOCATION:Student Center
CATEGORIES:Tweens
ATTACH;FMTTYPE=image/jpeg:https://www.clickiowa.com/wp-content/uploads/2025/07/tweener.jpg
END:VEVENT
BEGIN:VEVENT
DTSTART;TZID=UTC:20290905T183000
DTEND;TZID=UTC:20290905T200000
DTSTAMP:20260422T010147
CREATED:20250713T113003Z
LAST-MODIFIED:20250713T114722Z
UID:990004528-1883327400-1883332800@www.clickiowa.com
SUMMARY:City Tweens
DESCRIPTION:
URL:https://www.clickiowa.com/event/city-tweens/2029-09-05/
LOCATION:Student Center
CATEGORIES:Tweens
ATTACH;FMTTYPE=image/jpeg:https://www.clickiowa.com/wp-content/uploads/2025/07/tweener.jpg
END:VEVENT
BEGIN:VEVENT
DTSTART;TZID=UTC:20290912T183000
DTEND;TZID=UTC:20290912T200000
DTSTAMP:20260422T010147
CREATED:20250713T113003Z
LAST-MODIFIED:20250713T114722Z
UID:990004529-1883932200-1883937600@www.clickiowa.com
SUMMARY:City Tweens
DESCRIPTION:
URL:https://www.clickiowa.com/event/city-tweens/2029-09-12/
LOCATION:Student Center
CATEGORIES:Tweens
ATTACH;FMTTYPE=image/jpeg:https://www.clickiowa.com/wp-content/uploads/2025/07/tweener.jpg
END:VEVENT
BEGIN:VEVENT
DTSTART;TZID=UTC:20290919T183000
DTEND;TZID=UTC:20290919T200000
DTSTAMP:20260422T010147
CREATED:20250713T113003Z
LAST-MODIFIED:20250713T114722Z
UID:990004530-1884537000-1884542400@www.clickiowa.com
SUMMARY:City Tweens
DESCRIPTION:
URL:https://www.clickiowa.com/event/city-tweens/2029-09-19/
LOCATION:Student Center
CATEGORIES:Tweens
ATTACH;FMTTYPE=image/jpeg:https://www.clickiowa.com/wp-content/uploads/2025/07/tweener.jpg
END:VEVENT
BEGIN:VEVENT
DTSTART;TZID=UTC:20290926T183000
DTEND;TZID=UTC:20290926T200000
DTSTAMP:20260422T010147
CREATED:20250713T113003Z
LAST-MODIFIED:20250713T114722Z
UID:990004531-1885141800-1885147200@www.clickiowa.com
SUMMARY:City Tweens
DESCRIPTION:
URL:https://www.clickiowa.com/event/city-tweens/2029-09-26/
LOCATION:Student Center
CATEGORIES:Tweens
ATTACH;FMTTYPE=image/jpeg:https://www.clickiowa.com/wp-content/uploads/2025/07/tweener.jpg
END:VEVENT
BEGIN:VEVENT
DTSTART;TZID=UTC:20291003T183000
DTEND;TZID=UTC:20291003T200000
DTSTAMP:20260422T010147
CREATED:20250713T113003Z
LAST-MODIFIED:20250713T114722Z
UID:990004532-1885746600-1885752000@www.clickiowa.com
SUMMARY:City Tweens
DESCRIPTION:
URL:https://www.clickiowa.com/event/city-tweens/2029-10-03/
LOCATION:Student Center
CATEGORIES:Tweens
ATTACH;FMTTYPE=image/jpeg:https://www.clickiowa.com/wp-content/uploads/2025/07/tweener.jpg
END:VEVENT
BEGIN:VEVENT
DTSTART;TZID=UTC:20291010T183000
DTEND;TZID=UTC:20291010T200000
DTSTAMP:20260422T010147
CREATED:20250713T113003Z
LAST-MODIFIED:20250713T114722Z
UID:990004533-1886351400-1886356800@www.clickiowa.com
SUMMARY:City Tweens
DESCRIPTION:
URL:https://www.clickiowa.com/event/city-tweens/2029-10-10/
LOCATION:Student Center
CATEGORIES:Tweens
ATTACH;FMTTYPE=image/jpeg:https://www.clickiowa.com/wp-content/uploads/2025/07/tweener.jpg
END:VEVENT
BEGIN:VEVENT
DTSTART;TZID=UTC:20291017T183000
DTEND;TZID=UTC:20291017T200000
DTSTAMP:20260422T010147
CREATED:20250713T113003Z
LAST-MODIFIED:20250713T114722Z
UID:990004534-1886956200-1886961600@www.clickiowa.com
SUMMARY:City Tweens
DESCRIPTION:
URL:https://www.clickiowa.com/event/city-tweens/2029-10-17/
LOCATION:Student Center
CATEGORIES:Tweens
ATTACH;FMTTYPE=image/jpeg:https://www.clickiowa.com/wp-content/uploads/2025/07/tweener.jpg
END:VEVENT
BEGIN:VEVENT
DTSTART;TZID=UTC:20291024T183000
DTEND;TZID=UTC:20291024T200000
DTSTAMP:20260422T010147
CREATED:20250713T113003Z
LAST-MODIFIED:20250713T114722Z
UID:990004535-1887561000-1887566400@www.clickiowa.com
SUMMARY:City Tweens
DESCRIPTION:
URL:https://www.clickiowa.com/event/city-tweens/2029-10-24/
LOCATION:Student Center
CATEGORIES:Tweens
ATTACH;FMTTYPE=image/jpeg:https://www.clickiowa.com/wp-content/uploads/2025/07/tweener.jpg
END:VEVENT
BEGIN:VEVENT
DTSTART;TZID=UTC:20291031T183000
DTEND;TZID=UTC:20291031T200000
DTSTAMP:20260422T010147
CREATED:20250713T113003Z
LAST-MODIFIED:20250713T114722Z
UID:990004536-1888165800-1888171200@www.clickiowa.com
SUMMARY:City Tweens
DESCRIPTION:
URL:https://www.clickiowa.com/event/city-tweens/2029-10-31/
LOCATION:Student Center
CATEGORIES:Tweens
ATTACH;FMTTYPE=image/jpeg:https://www.clickiowa.com/wp-content/uploads/2025/07/tweener.jpg
END:VEVENT
BEGIN:VEVENT
DTSTART;TZID=UTC:20291107T183000
DTEND;TZID=UTC:20291107T200000
DTSTAMP:20260422T010147
CREATED:20250713T113003Z
LAST-MODIFIED:20250713T114722Z
UID:990004537-1888770600-1888776000@www.clickiowa.com
SUMMARY:City Tweens
DESCRIPTION:
URL:https://www.clickiowa.com/event/city-tweens/2029-11-07/
LOCATION:Student Center
CATEGORIES:Tweens
ATTACH;FMTTYPE=image/jpeg:https://www.clickiowa.com/wp-content/uploads/2025/07/tweener.jpg
END:VEVENT
BEGIN:VEVENT
DTSTART;TZID=UTC:20291114T183000
DTEND;TZID=UTC:20291114T200000
DTSTAMP:20260422T010147
CREATED:20250713T113003Z
LAST-MODIFIED:20250713T114722Z
UID:990004538-1889375400-1889380800@www.clickiowa.com
SUMMARY:City Tweens
DESCRIPTION:
URL:https://www.clickiowa.com/event/city-tweens/2029-11-14/
LOCATION:Student Center
CATEGORIES:Tweens
ATTACH;FMTTYPE=image/jpeg:https://www.clickiowa.com/wp-content/uploads/2025/07/tweener.jpg
END:VEVENT
BEGIN:VEVENT
DTSTART;TZID=UTC:20291121T183000
DTEND;TZID=UTC:20291121T200000
DTSTAMP:20260422T010147
CREATED:20250713T113003Z
LAST-MODIFIED:20250713T114722Z
UID:990004539-1889980200-1889985600@www.clickiowa.com
SUMMARY:City Tweens
DESCRIPTION:
URL:https://www.clickiowa.com/event/city-tweens/2029-11-21/
LOCATION:Student Center
CATEGORIES:Tweens
ATTACH;FMTTYPE=image/jpeg:https://www.clickiowa.com/wp-content/uploads/2025/07/tweener.jpg
END:VEVENT
BEGIN:VEVENT
DTSTART;TZID=UTC:20291128T183000
DTEND;TZID=UTC:20291128T200000
DTSTAMP:20260422T010147
CREATED:20250713T113003Z
LAST-MODIFIED:20250713T114722Z
UID:990004540-1890585000-1890590400@www.clickiowa.com
SUMMARY:City Tweens
DESCRIPTION:
URL:https://www.clickiowa.com/event/city-tweens/2029-11-28/
LOCATION:Student Center
CATEGORIES:Tweens
ATTACH;FMTTYPE=image/jpeg:https://www.clickiowa.com/wp-content/uploads/2025/07/tweener.jpg
END:VEVENT
BEGIN:VEVENT
DTSTART;TZID=UTC:20291205T183000
DTEND;TZID=UTC:20291205T200000
DTSTAMP:20260422T010147
CREATED:20250713T113003Z
LAST-MODIFIED:20250713T114722Z
UID:990004541-1891189800-1891195200@www.clickiowa.com
SUMMARY:City Tweens
DESCRIPTION:
URL:https://www.clickiowa.com/event/city-tweens/2029-12-05/
LOCATION:Student Center
CATEGORIES:Tweens
ATTACH;FMTTYPE=image/jpeg:https://www.clickiowa.com/wp-content/uploads/2025/07/tweener.jpg
END:VEVENT
BEGIN:VEVENT
DTSTART;TZID=UTC:20291212T183000
DTEND;TZID=UTC:20291212T200000
DTSTAMP:20260422T010147
CREATED:20250713T113003Z
LAST-MODIFIED:20250713T114722Z
UID:990004542-1891794600-1891800000@www.clickiowa.com
SUMMARY:City Tweens
DESCRIPTION:
URL:https://www.clickiowa.com/event/city-tweens/2029-12-12/
LOCATION:Student Center
CATEGORIES:Tweens
ATTACH;FMTTYPE=image/jpeg:https://www.clickiowa.com/wp-content/uploads/2025/07/tweener.jpg
END:VEVENT
BEGIN:VEVENT
DTSTART;TZID=UTC:20291219T183000
DTEND;TZID=UTC:20291219T200000
DTSTAMP:20260422T010147
CREATED:20250713T113003Z
LAST-MODIFIED:20250713T114722Z
UID:990004543-1892399400-1892404800@www.clickiowa.com
SUMMARY:City Tweens
DESCRIPTION:
URL:https://www.clickiowa.com/event/city-tweens/2029-12-19/
LOCATION:Student Center
CATEGORIES:Tweens
ATTACH;FMTTYPE=image/jpeg:https://www.clickiowa.com/wp-content/uploads/2025/07/tweener.jpg
END:VEVENT
BEGIN:VEVENT
DTSTART;TZID=UTC:20291226T183000
DTEND;TZID=UTC:20291226T200000
DTSTAMP:20260422T010147
CREATED:20250713T113003Z
LAST-MODIFIED:20250713T114722Z
UID:990004544-1893004200-1893009600@www.clickiowa.com
SUMMARY:City Tweens
DESCRIPTION:
URL:https://www.clickiowa.com/event/city-tweens/2029-12-26/
LOCATION:Student Center
CATEGORIES:Tweens
ATTACH;FMTTYPE=image/jpeg:https://www.clickiowa.com/wp-content/uploads/2025/07/tweener.jpg
END:VEVENT
BEGIN:VEVENT
DTSTART;TZID=UTC:20300102T183000
DTEND;TZID=UTC:20300102T200000
DTSTAMP:20260422T010147
CREATED:20250713T113003Z
LAST-MODIFIED:20250713T114722Z
UID:990004545-1893609000-1893614400@www.clickiowa.com
SUMMARY:City Tweens
DESCRIPTION:
URL:https://www.clickiowa.com/event/city-tweens/2030-01-02/
LOCATION:Student Center
CATEGORIES:Tweens
ATTACH;FMTTYPE=image/jpeg:https://www.clickiowa.com/wp-content/uploads/2025/07/tweener.jpg
END:VEVENT
BEGIN:VEVENT
DTSTART;TZID=UTC:20300109T183000
DTEND;TZID=UTC:20300109T200000
DTSTAMP:20260422T010147
CREATED:20250713T113003Z
LAST-MODIFIED:20250713T114722Z
UID:990004546-1894213800-1894219200@www.clickiowa.com
SUMMARY:City Tweens
DESCRIPTION:
URL:https://www.clickiowa.com/event/city-tweens/2030-01-09/
LOCATION:Student Center
CATEGORIES:Tweens
ATTACH;FMTTYPE=image/jpeg:https://www.clickiowa.com/wp-content/uploads/2025/07/tweener.jpg
END:VEVENT
BEGIN:VEVENT
DTSTART;TZID=UTC:20300116T183000
DTEND;TZID=UTC:20300116T200000
DTSTAMP:20260422T010147
CREATED:20250713T113003Z
LAST-MODIFIED:20250713T114722Z
UID:990004547-1894818600-1894824000@www.clickiowa.com
SUMMARY:City Tweens
DESCRIPTION:
URL:https://www.clickiowa.com/event/city-tweens/2030-01-16/
LOCATION:Student Center
CATEGORIES:Tweens
ATTACH;FMTTYPE=image/jpeg:https://www.clickiowa.com/wp-content/uploads/2025/07/tweener.jpg
END:VEVENT
BEGIN:VEVENT
DTSTART;TZID=UTC:20300123T183000
DTEND;TZID=UTC:20300123T200000
DTSTAMP:20260422T010147
CREATED:20250713T113003Z
LAST-MODIFIED:20250713T114722Z
UID:990004548-1895423400-1895428800@www.clickiowa.com
SUMMARY:City Tweens
DESCRIPTION:
URL:https://www.clickiowa.com/event/city-tweens/2030-01-23/
LOCATION:Student Center
CATEGORIES:Tweens
ATTACH;FMTTYPE=image/jpeg:https://www.clickiowa.com/wp-content/uploads/2025/07/tweener.jpg
END:VEVENT
BEGIN:VEVENT
DTSTART;TZID=UTC:20300130T183000
DTEND;TZID=UTC:20300130T200000
DTSTAMP:20260422T010147
CREATED:20250713T113003Z
LAST-MODIFIED:20250713T114722Z
UID:990004549-1896028200-1896033600@www.clickiowa.com
SUMMARY:City Tweens
DESCRIPTION:
URL:https://www.clickiowa.com/event/city-tweens/2030-01-30/
LOCATION:Student Center
CATEGORIES:Tweens
ATTACH;FMTTYPE=image/jpeg:https://www.clickiowa.com/wp-content/uploads/2025/07/tweener.jpg
END:VEVENT
BEGIN:VEVENT
DTSTART;TZID=UTC:20300206T183000
DTEND;TZID=UTC:20300206T200000
DTSTAMP:20260422T010147
CREATED:20250713T113003Z
LAST-MODIFIED:20250713T114722Z
UID:990004550-1896633000-1896638400@www.clickiowa.com
SUMMARY:City Tweens
DESCRIPTION:
URL:https://www.clickiowa.com/event/city-tweens/2030-02-06/
LOCATION:Student Center
CATEGORIES:Tweens
ATTACH;FMTTYPE=image/jpeg:https://www.clickiowa.com/wp-content/uploads/2025/07/tweener.jpg
END:VEVENT
BEGIN:VEVENT
DTSTART;TZID=UTC:20300213T183000
DTEND;TZID=UTC:20300213T200000
DTSTAMP:20260422T010147
CREATED:20250713T113003Z
LAST-MODIFIED:20250713T114722Z
UID:990004551-1897237800-1897243200@www.clickiowa.com
SUMMARY:City Tweens
DESCRIPTION:
URL:https://www.clickiowa.com/event/city-tweens/2030-02-13/
LOCATION:Student Center
CATEGORIES:Tweens
ATTACH;FMTTYPE=image/jpeg:https://www.clickiowa.com/wp-content/uploads/2025/07/tweener.jpg
END:VEVENT
BEGIN:VEVENT
DTSTART;TZID=UTC:20300220T183000
DTEND;TZID=UTC:20300220T200000
DTSTAMP:20260422T010147
CREATED:20250713T113003Z
LAST-MODIFIED:20250713T114722Z
UID:990004552-1897842600-1897848000@www.clickiowa.com
SUMMARY:City Tweens
DESCRIPTION:
URL:https://www.clickiowa.com/event/city-tweens/2030-02-20/
LOCATION:Student Center
CATEGORIES:Tweens
ATTACH;FMTTYPE=image/jpeg:https://www.clickiowa.com/wp-content/uploads/2025/07/tweener.jpg
END:VEVENT
BEGIN:VEVENT
DTSTART;TZID=UTC:20300227T183000
DTEND;TZID=UTC:20300227T200000
DTSTAMP:20260422T010147
CREATED:20250713T113003Z
LAST-MODIFIED:20250713T114722Z
UID:990004553-1898447400-1898452800@www.clickiowa.com
SUMMARY:City Tweens
DESCRIPTION:
URL:https://www.clickiowa.com/event/city-tweens/2030-02-27/
LOCATION:Student Center
CATEGORIES:Tweens
ATTACH;FMTTYPE=image/jpeg:https://www.clickiowa.com/wp-content/uploads/2025/07/tweener.jpg
END:VEVENT
BEGIN:VEVENT
DTSTART;TZID=UTC:20300306T183000
DTEND;TZID=UTC:20300306T200000
DTSTAMP:20260422T010147
CREATED:20250713T113003Z
LAST-MODIFIED:20250713T114722Z
UID:990004554-1899052200-1899057600@www.clickiowa.com
SUMMARY:City Tweens
DESCRIPTION:
URL:https://www.clickiowa.com/event/city-tweens/2030-03-06/
LOCATION:Student Center
CATEGORIES:Tweens
ATTACH;FMTTYPE=image/jpeg:https://www.clickiowa.com/wp-content/uploads/2025/07/tweener.jpg
END:VEVENT
END:VCALENDAR