BEGIN:VCALENDAR
VERSION:2.0
PRODID:-//Capitol City Church - ECPv6.15.18//NONSGML v1.0//EN
CALSCALE:GREGORIAN
METHOD:PUBLISH
X-ORIGINAL-URL:https://www.clickiowa.com
X-WR-CALDESC:Events for Capitol City Church
REFRESH-INTERVAL;VALUE=DURATION:PT1H
X-Robots-Tag:noindex
X-PUBLISHED-TTL:PT1H
BEGIN:VTIMEZONE
TZID:UTC
BEGIN:STANDARD
TZOFFSETFROM:+0000
TZOFFSETTO:+0000
TZNAME:UTC
DTSTART:20230101T000000
END:STANDARD
END:VTIMEZONE
BEGIN:VEVENT
DTSTART;TZID=UTC:20250219T183000
DTEND;TZID=UTC:20250219T200000
DTSTAMP:20260422T175935
CREATED:20250713T113003Z
LAST-MODIFIED:20250713T114722Z
UID:990004291-1739989800-1739995200@www.clickiowa.com
SUMMARY:City Tweens
DESCRIPTION:
URL:https://www.clickiowa.com/event/city-tweens/2025-02-19/
LOCATION:Student Center
CATEGORIES:Tweens
ATTACH;FMTTYPE=image/jpeg:https://www.clickiowa.com/wp-content/uploads/2025/07/tweener.jpg
END:VEVENT
BEGIN:VEVENT
DTSTART;TZID=UTC:20250212T183000
DTEND;TZID=UTC:20250212T200000
DTSTAMP:20260422T175935
CREATED:20250713T113003Z
LAST-MODIFIED:20250713T114722Z
UID:990004290-1739385000-1739390400@www.clickiowa.com
SUMMARY:City Tweens
DESCRIPTION:
URL:https://www.clickiowa.com/event/city-tweens/2025-02-12/
LOCATION:Student Center
CATEGORIES:Tweens
ATTACH;FMTTYPE=image/jpeg:https://www.clickiowa.com/wp-content/uploads/2025/07/tweener.jpg
END:VEVENT
BEGIN:VEVENT
DTSTART;TZID=UTC:20250205T183000
DTEND;TZID=UTC:20250205T200000
DTSTAMP:20260422T175935
CREATED:20250713T113003Z
LAST-MODIFIED:20250713T114722Z
UID:990004289-1738780200-1738785600@www.clickiowa.com
SUMMARY:City Tweens
DESCRIPTION:
URL:https://www.clickiowa.com/event/city-tweens/2025-02-05/
LOCATION:Student Center
CATEGORIES:Tweens
ATTACH;FMTTYPE=image/jpeg:https://www.clickiowa.com/wp-content/uploads/2025/07/tweener.jpg
END:VEVENT
BEGIN:VEVENT
DTSTART;TZID=UTC:20250129T183000
DTEND;TZID=UTC:20250129T200000
DTSTAMP:20260422T175935
CREATED:20250713T113003Z
LAST-MODIFIED:20250713T114722Z
UID:990004288-1738175400-1738180800@www.clickiowa.com
SUMMARY:City Tweens
DESCRIPTION:
URL:https://www.clickiowa.com/event/city-tweens/2025-01-29/
LOCATION:Student Center
CATEGORIES:Tweens
ATTACH;FMTTYPE=image/jpeg:https://www.clickiowa.com/wp-content/uploads/2025/07/tweener.jpg
END:VEVENT
BEGIN:VEVENT
DTSTART;TZID=UTC:20250122T183000
DTEND;TZID=UTC:20250122T200000
DTSTAMP:20260422T175935
CREATED:20250713T113003Z
LAST-MODIFIED:20250713T114722Z
UID:990004287-1737570600-1737576000@www.clickiowa.com
SUMMARY:City Tweens
DESCRIPTION:
URL:https://www.clickiowa.com/event/city-tweens/2025-01-22/
LOCATION:Student Center
CATEGORIES:Tweens
ATTACH;FMTTYPE=image/jpeg:https://www.clickiowa.com/wp-content/uploads/2025/07/tweener.jpg
END:VEVENT
BEGIN:VEVENT
DTSTART;TZID=UTC:20250115T183000
DTEND;TZID=UTC:20250115T200000
DTSTAMP:20260422T175935
CREATED:20250713T113003Z
LAST-MODIFIED:20250713T114722Z
UID:990004286-1736965800-1736971200@www.clickiowa.com
SUMMARY:City Tweens
DESCRIPTION:
URL:https://www.clickiowa.com/event/city-tweens/2025-01-15/
LOCATION:Student Center
CATEGORIES:Tweens
ATTACH;FMTTYPE=image/jpeg:https://www.clickiowa.com/wp-content/uploads/2025/07/tweener.jpg
END:VEVENT
BEGIN:VEVENT
DTSTART;TZID=UTC:20250108T183000
DTEND;TZID=UTC:20250108T200000
DTSTAMP:20260422T175935
CREATED:20250713T113003Z
LAST-MODIFIED:20250713T114722Z
UID:990004285-1736361000-1736366400@www.clickiowa.com
SUMMARY:City Tweens
DESCRIPTION:
URL:https://www.clickiowa.com/event/city-tweens/2025-01-08/
LOCATION:Student Center
CATEGORIES:Tweens
ATTACH;FMTTYPE=image/jpeg:https://www.clickiowa.com/wp-content/uploads/2025/07/tweener.jpg
END:VEVENT
BEGIN:VEVENT
DTSTART;TZID=UTC:20250101T183000
DTEND;TZID=UTC:20250101T200000
DTSTAMP:20260422T175935
CREATED:20250713T113003Z
LAST-MODIFIED:20250713T114722Z
UID:990004284-1735756200-1735761600@www.clickiowa.com
SUMMARY:City Tweens
DESCRIPTION:
URL:https://www.clickiowa.com/event/city-tweens/2025-01-01/
LOCATION:Student Center
CATEGORIES:Tweens
ATTACH;FMTTYPE=image/jpeg:https://www.clickiowa.com/wp-content/uploads/2025/07/tweener.jpg
END:VEVENT
BEGIN:VEVENT
DTSTART;TZID=UTC:20241225T183000
DTEND;TZID=UTC:20241225T200000
DTSTAMP:20260422T175935
CREATED:20250713T113003Z
LAST-MODIFIED:20250713T114722Z
UID:990004283-1735151400-1735156800@www.clickiowa.com
SUMMARY:City Tweens
DESCRIPTION:
URL:https://www.clickiowa.com/event/city-tweens/2024-12-25/
LOCATION:Student Center
CATEGORIES:Tweens
ATTACH;FMTTYPE=image/jpeg:https://www.clickiowa.com/wp-content/uploads/2025/07/tweener.jpg
END:VEVENT
BEGIN:VEVENT
DTSTART;TZID=UTC:20241218T183000
DTEND;TZID=UTC:20241218T200000
DTSTAMP:20260422T175935
CREATED:20250713T113003Z
LAST-MODIFIED:20250713T114722Z
UID:990004282-1734546600-1734552000@www.clickiowa.com
SUMMARY:City Tweens
DESCRIPTION:
URL:https://www.clickiowa.com/event/city-tweens/2024-12-18/
LOCATION:Student Center
CATEGORIES:Tweens
ATTACH;FMTTYPE=image/jpeg:https://www.clickiowa.com/wp-content/uploads/2025/07/tweener.jpg
END:VEVENT
BEGIN:VEVENT
DTSTART;TZID=UTC:20241211T183000
DTEND;TZID=UTC:20241211T200000
DTSTAMP:20260422T175935
CREATED:20250713T113003Z
LAST-MODIFIED:20250713T114722Z
UID:990004281-1733941800-1733947200@www.clickiowa.com
SUMMARY:City Tweens
DESCRIPTION:
URL:https://www.clickiowa.com/event/city-tweens/2024-12-11/
LOCATION:Student Center
CATEGORIES:Tweens
ATTACH;FMTTYPE=image/jpeg:https://www.clickiowa.com/wp-content/uploads/2025/07/tweener.jpg
END:VEVENT
BEGIN:VEVENT
DTSTART;TZID=UTC:20241204T183000
DTEND;TZID=UTC:20241204T200000
DTSTAMP:20260422T175935
CREATED:20250713T113003Z
LAST-MODIFIED:20250713T114722Z
UID:990004280-1733337000-1733342400@www.clickiowa.com
SUMMARY:City Tweens
DESCRIPTION:
URL:https://www.clickiowa.com/event/city-tweens/2024-12-04/
LOCATION:Student Center
CATEGORIES:Tweens
ATTACH;FMTTYPE=image/jpeg:https://www.clickiowa.com/wp-content/uploads/2025/07/tweener.jpg
END:VEVENT
BEGIN:VEVENT
DTSTART;TZID=UTC:20241127T183000
DTEND;TZID=UTC:20241127T200000
DTSTAMP:20260422T175935
CREATED:20250713T113003Z
LAST-MODIFIED:20250713T114722Z
UID:990004279-1732732200-1732737600@www.clickiowa.com
SUMMARY:City Tweens
DESCRIPTION:
URL:https://www.clickiowa.com/event/city-tweens/2024-11-27/
LOCATION:Student Center
CATEGORIES:Tweens
ATTACH;FMTTYPE=image/jpeg:https://www.clickiowa.com/wp-content/uploads/2025/07/tweener.jpg
END:VEVENT
BEGIN:VEVENT
DTSTART;TZID=UTC:20241120T183000
DTEND;TZID=UTC:20241120T200000
DTSTAMP:20260422T175935
CREATED:20250713T113003Z
LAST-MODIFIED:20250713T114722Z
UID:990004278-1732127400-1732132800@www.clickiowa.com
SUMMARY:City Tweens
DESCRIPTION:
URL:https://www.clickiowa.com/event/city-tweens/2024-11-20/
LOCATION:Student Center
CATEGORIES:Tweens
ATTACH;FMTTYPE=image/jpeg:https://www.clickiowa.com/wp-content/uploads/2025/07/tweener.jpg
END:VEVENT
BEGIN:VEVENT
DTSTART;TZID=UTC:20241113T183000
DTEND;TZID=UTC:20241113T200000
DTSTAMP:20260422T175935
CREATED:20250713T113003Z
LAST-MODIFIED:20250713T114722Z
UID:990004277-1731522600-1731528000@www.clickiowa.com
SUMMARY:City Tweens
DESCRIPTION:
URL:https://www.clickiowa.com/event/city-tweens/2024-11-13/
LOCATION:Student Center
CATEGORIES:Tweens
ATTACH;FMTTYPE=image/jpeg:https://www.clickiowa.com/wp-content/uploads/2025/07/tweener.jpg
END:VEVENT
BEGIN:VEVENT
DTSTART;TZID=UTC:20241106T183000
DTEND;TZID=UTC:20241106T200000
DTSTAMP:20260422T175935
CREATED:20250713T113003Z
LAST-MODIFIED:20250713T114722Z
UID:990004276-1730917800-1730923200@www.clickiowa.com
SUMMARY:City Tweens
DESCRIPTION:
URL:https://www.clickiowa.com/event/city-tweens/2024-11-06/
LOCATION:Student Center
CATEGORIES:Tweens
ATTACH;FMTTYPE=image/jpeg:https://www.clickiowa.com/wp-content/uploads/2025/07/tweener.jpg
END:VEVENT
BEGIN:VEVENT
DTSTART;TZID=UTC:20241030T183000
DTEND;TZID=UTC:20241030T200000
DTSTAMP:20260422T175935
CREATED:20250713T113003Z
LAST-MODIFIED:20250713T114722Z
UID:990004275-1730313000-1730318400@www.clickiowa.com
SUMMARY:City Tweens
DESCRIPTION:
URL:https://www.clickiowa.com/event/city-tweens/2024-10-30/
LOCATION:Student Center
CATEGORIES:Tweens
ATTACH;FMTTYPE=image/jpeg:https://www.clickiowa.com/wp-content/uploads/2025/07/tweener.jpg
END:VEVENT
BEGIN:VEVENT
DTSTART;TZID=UTC:20241023T183000
DTEND;TZID=UTC:20241023T200000
DTSTAMP:20260422T175935
CREATED:20250713T113003Z
LAST-MODIFIED:20250713T114722Z
UID:990004274-1729708200-1729713600@www.clickiowa.com
SUMMARY:City Tweens
DESCRIPTION:
URL:https://www.clickiowa.com/event/city-tweens/2024-10-23/
LOCATION:Student Center
CATEGORIES:Tweens
ATTACH;FMTTYPE=image/jpeg:https://www.clickiowa.com/wp-content/uploads/2025/07/tweener.jpg
END:VEVENT
BEGIN:VEVENT
DTSTART;TZID=UTC:20241016T183000
DTEND;TZID=UTC:20241016T200000
DTSTAMP:20260422T175935
CREATED:20250713T113003Z
LAST-MODIFIED:20250713T114722Z
UID:990004273-1729103400-1729108800@www.clickiowa.com
SUMMARY:City Tweens
DESCRIPTION:
URL:https://www.clickiowa.com/event/city-tweens/2024-10-16/
LOCATION:Student Center
CATEGORIES:Tweens
ATTACH;FMTTYPE=image/jpeg:https://www.clickiowa.com/wp-content/uploads/2025/07/tweener.jpg
END:VEVENT
BEGIN:VEVENT
DTSTART;TZID=UTC:20241009T183000
DTEND;TZID=UTC:20241009T200000
DTSTAMP:20260422T175935
CREATED:20250713T113003Z
LAST-MODIFIED:20250713T114722Z
UID:990004272-1728498600-1728504000@www.clickiowa.com
SUMMARY:City Tweens
DESCRIPTION:
URL:https://www.clickiowa.com/event/city-tweens/2024-10-09/
LOCATION:Student Center
CATEGORIES:Tweens
ATTACH;FMTTYPE=image/jpeg:https://www.clickiowa.com/wp-content/uploads/2025/07/tweener.jpg
END:VEVENT
BEGIN:VEVENT
DTSTART;TZID=UTC:20241002T183000
DTEND;TZID=UTC:20241002T200000
DTSTAMP:20260422T175935
CREATED:20250713T113003Z
LAST-MODIFIED:20250713T114722Z
UID:990004271-1727893800-1727899200@www.clickiowa.com
SUMMARY:City Tweens
DESCRIPTION:
URL:https://www.clickiowa.com/event/city-tweens/2024-10-02/
LOCATION:Student Center
CATEGORIES:Tweens
ATTACH;FMTTYPE=image/jpeg:https://www.clickiowa.com/wp-content/uploads/2025/07/tweener.jpg
END:VEVENT
BEGIN:VEVENT
DTSTART;TZID=UTC:20240925T183000
DTEND;TZID=UTC:20240925T200000
DTSTAMP:20260422T175935
CREATED:20250713T113003Z
LAST-MODIFIED:20250713T114722Z
UID:990004270-1727289000-1727294400@www.clickiowa.com
SUMMARY:City Tweens
DESCRIPTION:
URL:https://www.clickiowa.com/event/city-tweens/2024-09-25/
LOCATION:Student Center
CATEGORIES:Tweens
ATTACH;FMTTYPE=image/jpeg:https://www.clickiowa.com/wp-content/uploads/2025/07/tweener.jpg
END:VEVENT
BEGIN:VEVENT
DTSTART;TZID=UTC:20240918T183000
DTEND;TZID=UTC:20240918T200000
DTSTAMP:20260422T175935
CREATED:20250713T113003Z
LAST-MODIFIED:20250713T114722Z
UID:990004269-1726684200-1726689600@www.clickiowa.com
SUMMARY:City Tweens
DESCRIPTION:
URL:https://www.clickiowa.com/event/city-tweens/2024-09-18/
LOCATION:Student Center
CATEGORIES:Tweens
ATTACH;FMTTYPE=image/jpeg:https://www.clickiowa.com/wp-content/uploads/2025/07/tweener.jpg
END:VEVENT
BEGIN:VEVENT
DTSTART;TZID=UTC:20240911T183000
DTEND;TZID=UTC:20240911T200000
DTSTAMP:20260422T175935
CREATED:20250713T113003Z
LAST-MODIFIED:20250713T114722Z
UID:990004268-1726079400-1726084800@www.clickiowa.com
SUMMARY:City Tweens
DESCRIPTION:
URL:https://www.clickiowa.com/event/city-tweens/2024-09-11/
LOCATION:Student Center
CATEGORIES:Tweens
ATTACH;FMTTYPE=image/jpeg:https://www.clickiowa.com/wp-content/uploads/2025/07/tweener.jpg
END:VEVENT
BEGIN:VEVENT
DTSTART;TZID=UTC:20240904T183000
DTEND;TZID=UTC:20240904T200000
DTSTAMP:20260422T175935
CREATED:20250713T113003Z
LAST-MODIFIED:20250713T114722Z
UID:990004267-1725474600-1725480000@www.clickiowa.com
SUMMARY:City Tweens
DESCRIPTION:
URL:https://www.clickiowa.com/event/city-tweens/2024-09-04/
LOCATION:Student Center
CATEGORIES:Tweens
ATTACH;FMTTYPE=image/jpeg:https://www.clickiowa.com/wp-content/uploads/2025/07/tweener.jpg
END:VEVENT
BEGIN:VEVENT
DTSTART;TZID=UTC:20240828T183000
DTEND;TZID=UTC:20240828T200000
DTSTAMP:20260422T175935
CREATED:20250713T113003Z
LAST-MODIFIED:20250713T114722Z
UID:990004266-1724869800-1724875200@www.clickiowa.com
SUMMARY:City Tweens
DESCRIPTION:
URL:https://www.clickiowa.com/event/city-tweens/2024-08-28/
LOCATION:Student Center
CATEGORIES:Tweens
ATTACH;FMTTYPE=image/jpeg:https://www.clickiowa.com/wp-content/uploads/2025/07/tweener.jpg
END:VEVENT
BEGIN:VEVENT
DTSTART;TZID=UTC:20240821T183000
DTEND;TZID=UTC:20240821T200000
DTSTAMP:20260422T175935
CREATED:20250713T113003Z
LAST-MODIFIED:20250713T114722Z
UID:990004265-1724265000-1724270400@www.clickiowa.com
SUMMARY:City Tweens
DESCRIPTION:
URL:https://www.clickiowa.com/event/city-tweens/2024-08-21/
LOCATION:Student Center
CATEGORIES:Tweens
ATTACH;FMTTYPE=image/jpeg:https://www.clickiowa.com/wp-content/uploads/2025/07/tweener.jpg
END:VEVENT
BEGIN:VEVENT
DTSTART;TZID=UTC:20240814T183000
DTEND;TZID=UTC:20240814T200000
DTSTAMP:20260422T175935
CREATED:20250713T113003Z
LAST-MODIFIED:20250713T114722Z
UID:990004264-1723660200-1723665600@www.clickiowa.com
SUMMARY:City Tweens
DESCRIPTION:
URL:https://www.clickiowa.com/event/city-tweens/2024-08-14/
LOCATION:Student Center
CATEGORIES:Tweens
ATTACH;FMTTYPE=image/jpeg:https://www.clickiowa.com/wp-content/uploads/2025/07/tweener.jpg
END:VEVENT
BEGIN:VEVENT
DTSTART;TZID=UTC:20240807T183000
DTEND;TZID=UTC:20240807T200000
DTSTAMP:20260422T175935
CREATED:20250713T113003Z
LAST-MODIFIED:20250713T114722Z
UID:990004263-1723055400-1723060800@www.clickiowa.com
SUMMARY:City Tweens
DESCRIPTION:
URL:https://www.clickiowa.com/event/city-tweens/2024-08-07/
LOCATION:Student Center
CATEGORIES:Tweens
ATTACH;FMTTYPE=image/jpeg:https://www.clickiowa.com/wp-content/uploads/2025/07/tweener.jpg
END:VEVENT
BEGIN:VEVENT
DTSTART;TZID=UTC:20240731T183000
DTEND;TZID=UTC:20240731T200000
DTSTAMP:20260422T175935
CREATED:20250713T113003Z
LAST-MODIFIED:20250713T114722Z
UID:990004262-1722450600-1722456000@www.clickiowa.com
SUMMARY:City Tweens
DESCRIPTION:
URL:https://www.clickiowa.com/event/city-tweens/2024-07-31/
LOCATION:Student Center
CATEGORIES:Tweens
ATTACH;FMTTYPE=image/jpeg:https://www.clickiowa.com/wp-content/uploads/2025/07/tweener.jpg
END:VEVENT
END:VCALENDAR