BEGIN:VCALENDAR
VERSION:2.0
PRODID:-//Capitol City Church - ECPv6.15.18//NONSGML v1.0//EN
CALSCALE:GREGORIAN
METHOD:PUBLISH
X-ORIGINAL-URL:https://www.clickiowa.com
X-WR-CALDESC:Events for Capitol City Church
REFRESH-INTERVAL;VALUE=DURATION:PT1H
X-Robots-Tag:noindex
X-PUBLISHED-TTL:PT1H
BEGIN:VTIMEZONE
TZID:UTC
BEGIN:STANDARD
TZOFFSETFROM:+0000
TZOFFSETTO:+0000
TZNAME:UTC
DTSTART:20240101T000000
END:STANDARD
END:VTIMEZONE
BEGIN:VEVENT
DTSTART;TZID=UTC:20250702T183000
DTEND;TZID=UTC:20250702T200000
DTSTAMP:20260423T035150
CREATED:20230805T001345Z
LAST-MODIFIED:20250714T221341Z
UID:990003545-1751481000-1751486400@www.clickiowa.com
SUMMARY:City Youth
DESCRIPTION:
URL:https://www.clickiowa.com/event/city-youth-2/2025-07-02/
LOCATION:Student Center
CATEGORIES:Youth
ATTACH;FMTTYPE=image/png:https://www.clickiowa.com/wp-content/uploads/2023/08/cc-log.png
END:VEVENT
BEGIN:VEVENT
DTSTART;TZID=UTC:20250709T183000
DTEND;TZID=UTC:20250709T200000
DTSTAMP:20260423T035150
CREATED:20230805T001345Z
LAST-MODIFIED:20250714T221341Z
UID:990003546-1752085800-1752091200@www.clickiowa.com
SUMMARY:City Youth
DESCRIPTION:
URL:https://www.clickiowa.com/event/city-youth-2/2025-07-09/
LOCATION:Student Center
CATEGORIES:Youth
ATTACH;FMTTYPE=image/png:https://www.clickiowa.com/wp-content/uploads/2023/08/cc-log.png
END:VEVENT
BEGIN:VEVENT
DTSTART;TZID=UTC:20250716T183000
DTEND;TZID=UTC:20250716T200000
DTSTAMP:20260423T035150
CREATED:20230805T001345Z
LAST-MODIFIED:20250714T221341Z
UID:990003547-1752690600-1752696000@www.clickiowa.com
SUMMARY:City Youth
DESCRIPTION:
URL:https://www.clickiowa.com/event/city-youth-2/2025-07-16/
LOCATION:Student Center
CATEGORIES:Youth
ATTACH;FMTTYPE=image/png:https://www.clickiowa.com/wp-content/uploads/2023/08/cc-log.png
END:VEVENT
BEGIN:VEVENT
DTSTART;TZID=UTC:20250723T183000
DTEND;TZID=UTC:20250723T200000
DTSTAMP:20260423T035150
CREATED:20230805T001345Z
LAST-MODIFIED:20250714T221341Z
UID:990003548-1753295400-1753300800@www.clickiowa.com
SUMMARY:City Youth
DESCRIPTION:
URL:https://www.clickiowa.com/event/city-youth-2/2025-07-23/
LOCATION:Student Center
CATEGORIES:Youth
ATTACH;FMTTYPE=image/png:https://www.clickiowa.com/wp-content/uploads/2023/08/cc-log.png
END:VEVENT
BEGIN:VEVENT
DTSTART;TZID=UTC:20250730T183000
DTEND;TZID=UTC:20250730T200000
DTSTAMP:20260423T035150
CREATED:20230805T001345Z
LAST-MODIFIED:20250714T221341Z
UID:990003549-1753900200-1753905600@www.clickiowa.com
SUMMARY:City Youth
DESCRIPTION:
URL:https://www.clickiowa.com/event/city-youth-2/2025-07-30/
LOCATION:Student Center
CATEGORIES:Youth
ATTACH;FMTTYPE=image/png:https://www.clickiowa.com/wp-content/uploads/2023/08/cc-log.png
END:VEVENT
END:VCALENDAR