BEGIN:VCALENDAR
VERSION:2.0
PRODID:-//Capitol City Church - ECPv6.15.18//NONSGML v1.0//EN
CALSCALE:GREGORIAN
METHOD:PUBLISH
X-WR-CALNAME:Capitol City Church
X-ORIGINAL-URL:https://www.clickiowa.com
X-WR-CALDESC:Events for Capitol City Church
REFRESH-INTERVAL;VALUE=DURATION:PT1H
X-Robots-Tag:noindex
X-PUBLISHED-TTL:PT1H
BEGIN:VTIMEZONE
TZID:UTC
BEGIN:STANDARD
TZOFFSETFROM:+0000
TZOFFSETTO:+0000
TZNAME:UTC
DTSTART:20240101T000000
END:STANDARD
END:VTIMEZONE
BEGIN:VEVENT
DTSTART;TZID=UTC:20250903T183000
DTEND;TZID=UTC:20250903T200000
DTSTAMP:20260422T050625
CREATED:20230805T001345Z
LAST-MODIFIED:20250714T221341Z
UID:990003554-1756924200-1756929600@www.clickiowa.com
SUMMARY:City Youth
DESCRIPTION:
URL:https://www.clickiowa.com/event/city-youth-2/2025-09-03/
LOCATION:Student Center
CATEGORIES:Youth
ATTACH;FMTTYPE=image/png:https://www.clickiowa.com/wp-content/uploads/2023/08/cc-log.png
END:VEVENT
BEGIN:VEVENT
DTSTART;TZID=UTC:20250910T183000
DTEND;TZID=UTC:20250910T200000
DTSTAMP:20260422T050625
CREATED:20230805T001345Z
LAST-MODIFIED:20250714T221341Z
UID:990003555-1757529000-1757534400@www.clickiowa.com
SUMMARY:City Youth
DESCRIPTION:
URL:https://www.clickiowa.com/event/city-youth-2/2025-09-10/
LOCATION:Student Center
CATEGORIES:Youth
ATTACH;FMTTYPE=image/png:https://www.clickiowa.com/wp-content/uploads/2023/08/cc-log.png
END:VEVENT
BEGIN:VEVENT
DTSTART;TZID=UTC:20250917T183000
DTEND;TZID=UTC:20250917T200000
DTSTAMP:20260422T050625
CREATED:20230805T001345Z
LAST-MODIFIED:20250714T221341Z
UID:990003556-1758133800-1758139200@www.clickiowa.com
SUMMARY:City Youth
DESCRIPTION:
URL:https://www.clickiowa.com/event/city-youth-2/2025-09-17/
LOCATION:Student Center
CATEGORIES:Youth
ATTACH;FMTTYPE=image/png:https://www.clickiowa.com/wp-content/uploads/2023/08/cc-log.png
END:VEVENT
BEGIN:VEVENT
DTSTART;TZID=UTC:20250924T183000
DTEND;TZID=UTC:20250924T200000
DTSTAMP:20260422T050625
CREATED:20230805T001345Z
LAST-MODIFIED:20250714T221341Z
UID:990003557-1758738600-1758744000@www.clickiowa.com
SUMMARY:City Youth
DESCRIPTION:
URL:https://www.clickiowa.com/event/city-youth-2/2025-09-24/
LOCATION:Student Center
CATEGORIES:Youth
ATTACH;FMTTYPE=image/png:https://www.clickiowa.com/wp-content/uploads/2023/08/cc-log.png
END:VEVENT
END:VCALENDAR