BEGIN:VCALENDAR
VERSION:2.0
PRODID:-//Capitol City Church - ECPv6.15.18//NONSGML v1.0//EN
CALSCALE:GREGORIAN
METHOD:PUBLISH
X-ORIGINAL-URL:https://www.clickiowa.com
X-WR-CALDESC:Events for Capitol City Church
REFRESH-INTERVAL;VALUE=DURATION:PT1H
X-Robots-Tag:noindex
X-PUBLISHED-TTL:PT1H
BEGIN:VTIMEZONE
TZID:UTC
BEGIN:STANDARD
TZOFFSETFROM:+0000
TZOFFSETTO:+0000
TZNAME:UTC
DTSTART:20260101T000000
END:STANDARD
END:VTIMEZONE
BEGIN:VEVENT
DTSTART;TZID=UTC:20270616T183000
DTEND;TZID=UTC:20270616T200000
DTSTAMP:20260422T060251
CREATED:20230805T001345Z
LAST-MODIFIED:20250714T221341Z
UID:990003647-1813170600-1813176000@www.clickiowa.com
SUMMARY:City Youth
DESCRIPTION:
URL:https://www.clickiowa.com/event/city-youth-2/2027-06-16/
LOCATION:Student Center
CATEGORIES:Youth
ATTACH;FMTTYPE=image/png:https://www.clickiowa.com/wp-content/uploads/2023/08/cc-log.png
END:VEVENT
BEGIN:VEVENT
DTSTART;TZID=UTC:20270616T183000
DTEND;TZID=UTC:20270616T200000
DTSTAMP:20260422T060251
CREATED:20250713T113003Z
LAST-MODIFIED:20250713T114722Z
UID:990004412-1813170600-1813176000@www.clickiowa.com
SUMMARY:City Tweens
DESCRIPTION:
URL:https://www.clickiowa.com/event/city-tweens/2027-06-16/
LOCATION:Student Center
CATEGORIES:Tweens
ATTACH;FMTTYPE=image/jpeg:https://www.clickiowa.com/wp-content/uploads/2025/07/tweener.jpg
END:VEVENT
BEGIN:VEVENT
DTSTART;TZID=UTC:20270623T183000
DTEND;TZID=UTC:20270623T200000
DTSTAMP:20260422T060251
CREATED:20230805T001345Z
LAST-MODIFIED:20250714T221341Z
UID:990003648-1813775400-1813780800@www.clickiowa.com
SUMMARY:City Youth
DESCRIPTION:
URL:https://www.clickiowa.com/event/city-youth-2/2027-06-23/
LOCATION:Student Center
CATEGORIES:Youth
ATTACH;FMTTYPE=image/png:https://www.clickiowa.com/wp-content/uploads/2023/08/cc-log.png
END:VEVENT
BEGIN:VEVENT
DTSTART;TZID=UTC:20270623T183000
DTEND;TZID=UTC:20270623T200000
DTSTAMP:20260422T060251
CREATED:20250713T113003Z
LAST-MODIFIED:20250713T114722Z
UID:990004413-1813775400-1813780800@www.clickiowa.com
SUMMARY:City Tweens
DESCRIPTION:
URL:https://www.clickiowa.com/event/city-tweens/2027-06-23/
LOCATION:Student Center
CATEGORIES:Tweens
ATTACH;FMTTYPE=image/jpeg:https://www.clickiowa.com/wp-content/uploads/2025/07/tweener.jpg
END:VEVENT
BEGIN:VEVENT
DTSTART;TZID=UTC:20270630T183000
DTEND;TZID=UTC:20270630T200000
DTSTAMP:20260422T060251
CREATED:20230805T001345Z
LAST-MODIFIED:20250714T221341Z
UID:990003649-1814380200-1814385600@www.clickiowa.com
SUMMARY:City Youth
DESCRIPTION:
URL:https://www.clickiowa.com/event/city-youth-2/2027-06-30/
LOCATION:Student Center
CATEGORIES:Youth
ATTACH;FMTTYPE=image/png:https://www.clickiowa.com/wp-content/uploads/2023/08/cc-log.png
END:VEVENT
BEGIN:VEVENT
DTSTART;TZID=UTC:20270630T183000
DTEND;TZID=UTC:20270630T200000
DTSTAMP:20260422T060251
CREATED:20250713T113003Z
LAST-MODIFIED:20250713T114722Z
UID:990004414-1814380200-1814385600@www.clickiowa.com
SUMMARY:City Tweens
DESCRIPTION:
URL:https://www.clickiowa.com/event/city-tweens/2027-06-30/
LOCATION:Student Center
CATEGORIES:Tweens
ATTACH;FMTTYPE=image/jpeg:https://www.clickiowa.com/wp-content/uploads/2025/07/tweener.jpg
END:VEVENT
BEGIN:VEVENT
DTSTART;TZID=UTC:20270707T183000
DTEND;TZID=UTC:20270707T200000
DTSTAMP:20260422T060251
CREATED:20230805T001345Z
LAST-MODIFIED:20250714T221341Z
UID:990003650-1814985000-1814990400@www.clickiowa.com
SUMMARY:City Youth
DESCRIPTION:
URL:https://www.clickiowa.com/event/city-youth-2/2027-07-07/
LOCATION:Student Center
CATEGORIES:Youth
ATTACH;FMTTYPE=image/png:https://www.clickiowa.com/wp-content/uploads/2023/08/cc-log.png
END:VEVENT
BEGIN:VEVENT
DTSTART;TZID=UTC:20270707T183000
DTEND;TZID=UTC:20270707T200000
DTSTAMP:20260422T060251
CREATED:20250713T113003Z
LAST-MODIFIED:20250713T114722Z
UID:990004415-1814985000-1814990400@www.clickiowa.com
SUMMARY:City Tweens
DESCRIPTION:
URL:https://www.clickiowa.com/event/city-tweens/2027-07-07/
LOCATION:Student Center
CATEGORIES:Tweens
ATTACH;FMTTYPE=image/jpeg:https://www.clickiowa.com/wp-content/uploads/2025/07/tweener.jpg
END:VEVENT
BEGIN:VEVENT
DTSTART;TZID=UTC:20270714T183000
DTEND;TZID=UTC:20270714T200000
DTSTAMP:20260422T060251
CREATED:20230805T001345Z
LAST-MODIFIED:20250714T221341Z
UID:990003651-1815589800-1815595200@www.clickiowa.com
SUMMARY:City Youth
DESCRIPTION:
URL:https://www.clickiowa.com/event/city-youth-2/2027-07-14/
LOCATION:Student Center
CATEGORIES:Youth
ATTACH;FMTTYPE=image/png:https://www.clickiowa.com/wp-content/uploads/2023/08/cc-log.png
END:VEVENT
BEGIN:VEVENT
DTSTART;TZID=UTC:20270714T183000
DTEND;TZID=UTC:20270714T200000
DTSTAMP:20260422T060251
CREATED:20250713T113003Z
LAST-MODIFIED:20250713T114722Z
UID:990004416-1815589800-1815595200@www.clickiowa.com
SUMMARY:City Tweens
DESCRIPTION:
URL:https://www.clickiowa.com/event/city-tweens/2027-07-14/
LOCATION:Student Center
CATEGORIES:Tweens
ATTACH;FMTTYPE=image/jpeg:https://www.clickiowa.com/wp-content/uploads/2025/07/tweener.jpg
END:VEVENT
BEGIN:VEVENT
DTSTART;TZID=UTC:20270721T183000
DTEND;TZID=UTC:20270721T200000
DTSTAMP:20260422T060251
CREATED:20230805T001345Z
LAST-MODIFIED:20250714T221341Z
UID:990003652-1816194600-1816200000@www.clickiowa.com
SUMMARY:City Youth
DESCRIPTION:
URL:https://www.clickiowa.com/event/city-youth-2/2027-07-21/
LOCATION:Student Center
CATEGORIES:Youth
ATTACH;FMTTYPE=image/png:https://www.clickiowa.com/wp-content/uploads/2023/08/cc-log.png
END:VEVENT
BEGIN:VEVENT
DTSTART;TZID=UTC:20270721T183000
DTEND;TZID=UTC:20270721T200000
DTSTAMP:20260422T060251
CREATED:20250713T113003Z
LAST-MODIFIED:20250713T114722Z
UID:990004417-1816194600-1816200000@www.clickiowa.com
SUMMARY:City Tweens
DESCRIPTION:
URL:https://www.clickiowa.com/event/city-tweens/2027-07-21/
LOCATION:Student Center
CATEGORIES:Tweens
ATTACH;FMTTYPE=image/jpeg:https://www.clickiowa.com/wp-content/uploads/2025/07/tweener.jpg
END:VEVENT
BEGIN:VEVENT
DTSTART;TZID=UTC:20270728T183000
DTEND;TZID=UTC:20270728T200000
DTSTAMP:20260422T060251
CREATED:20230805T001345Z
LAST-MODIFIED:20250714T221341Z
UID:990003653-1816799400-1816804800@www.clickiowa.com
SUMMARY:City Youth
DESCRIPTION:
URL:https://www.clickiowa.com/event/city-youth-2/2027-07-28/
LOCATION:Student Center
CATEGORIES:Youth
ATTACH;FMTTYPE=image/png:https://www.clickiowa.com/wp-content/uploads/2023/08/cc-log.png
END:VEVENT
BEGIN:VEVENT
DTSTART;TZID=UTC:20270728T183000
DTEND;TZID=UTC:20270728T200000
DTSTAMP:20260422T060251
CREATED:20250713T113003Z
LAST-MODIFIED:20250713T114722Z
UID:990004418-1816799400-1816804800@www.clickiowa.com
SUMMARY:City Tweens
DESCRIPTION:
URL:https://www.clickiowa.com/event/city-tweens/2027-07-28/
LOCATION:Student Center
CATEGORIES:Tweens
ATTACH;FMTTYPE=image/jpeg:https://www.clickiowa.com/wp-content/uploads/2025/07/tweener.jpg
END:VEVENT
BEGIN:VEVENT
DTSTART;TZID=UTC:20270804T183000
DTEND;TZID=UTC:20270804T200000
DTSTAMP:20260422T060251
CREATED:20230805T001345Z
LAST-MODIFIED:20250714T221341Z
UID:990003654-1817404200-1817409600@www.clickiowa.com
SUMMARY:City Youth
DESCRIPTION:
URL:https://www.clickiowa.com/event/city-youth-2/2027-08-04/
LOCATION:Student Center
CATEGORIES:Youth
ATTACH;FMTTYPE=image/png:https://www.clickiowa.com/wp-content/uploads/2023/08/cc-log.png
END:VEVENT
BEGIN:VEVENT
DTSTART;TZID=UTC:20270804T183000
DTEND;TZID=UTC:20270804T200000
DTSTAMP:20260422T060251
CREATED:20250713T113003Z
LAST-MODIFIED:20250713T114722Z
UID:990004419-1817404200-1817409600@www.clickiowa.com
SUMMARY:City Tweens
DESCRIPTION:
URL:https://www.clickiowa.com/event/city-tweens/2027-08-04/
LOCATION:Student Center
CATEGORIES:Tweens
ATTACH;FMTTYPE=image/jpeg:https://www.clickiowa.com/wp-content/uploads/2025/07/tweener.jpg
END:VEVENT
BEGIN:VEVENT
DTSTART;TZID=UTC:20270811T183000
DTEND;TZID=UTC:20270811T200000
DTSTAMP:20260422T060251
CREATED:20230805T001345Z
LAST-MODIFIED:20250714T221341Z
UID:990003655-1818009000-1818014400@www.clickiowa.com
SUMMARY:City Youth
DESCRIPTION:
URL:https://www.clickiowa.com/event/city-youth-2/2027-08-11/
LOCATION:Student Center
CATEGORIES:Youth
ATTACH;FMTTYPE=image/png:https://www.clickiowa.com/wp-content/uploads/2023/08/cc-log.png
END:VEVENT
BEGIN:VEVENT
DTSTART;TZID=UTC:20270811T183000
DTEND;TZID=UTC:20270811T200000
DTSTAMP:20260422T060251
CREATED:20250713T113003Z
LAST-MODIFIED:20250713T114722Z
UID:990004420-1818009000-1818014400@www.clickiowa.com
SUMMARY:City Tweens
DESCRIPTION:
URL:https://www.clickiowa.com/event/city-tweens/2027-08-11/
LOCATION:Student Center
CATEGORIES:Tweens
ATTACH;FMTTYPE=image/jpeg:https://www.clickiowa.com/wp-content/uploads/2025/07/tweener.jpg
END:VEVENT
BEGIN:VEVENT
DTSTART;TZID=UTC:20270818T183000
DTEND;TZID=UTC:20270818T200000
DTSTAMP:20260422T060251
CREATED:20230805T001345Z
LAST-MODIFIED:20250714T221341Z
UID:990003656-1818613800-1818619200@www.clickiowa.com
SUMMARY:City Youth
DESCRIPTION:
URL:https://www.clickiowa.com/event/city-youth-2/2027-08-18/
LOCATION:Student Center
CATEGORIES:Youth
ATTACH;FMTTYPE=image/png:https://www.clickiowa.com/wp-content/uploads/2023/08/cc-log.png
END:VEVENT
BEGIN:VEVENT
DTSTART;TZID=UTC:20270818T183000
DTEND;TZID=UTC:20270818T200000
DTSTAMP:20260422T060251
CREATED:20250713T113003Z
LAST-MODIFIED:20250713T114722Z
UID:990004421-1818613800-1818619200@www.clickiowa.com
SUMMARY:City Tweens
DESCRIPTION:
URL:https://www.clickiowa.com/event/city-tweens/2027-08-18/
LOCATION:Student Center
CATEGORIES:Tweens
ATTACH;FMTTYPE=image/jpeg:https://www.clickiowa.com/wp-content/uploads/2025/07/tweener.jpg
END:VEVENT
BEGIN:VEVENT
DTSTART;TZID=UTC:20270825T183000
DTEND;TZID=UTC:20270825T200000
DTSTAMP:20260422T060251
CREATED:20230805T001345Z
LAST-MODIFIED:20250714T221341Z
UID:990003657-1819218600-1819224000@www.clickiowa.com
SUMMARY:City Youth
DESCRIPTION:
URL:https://www.clickiowa.com/event/city-youth-2/2027-08-25/
LOCATION:Student Center
CATEGORIES:Youth
ATTACH;FMTTYPE=image/png:https://www.clickiowa.com/wp-content/uploads/2023/08/cc-log.png
END:VEVENT
BEGIN:VEVENT
DTSTART;TZID=UTC:20270825T183000
DTEND;TZID=UTC:20270825T200000
DTSTAMP:20260422T060251
CREATED:20250713T113003Z
LAST-MODIFIED:20250713T114722Z
UID:990004422-1819218600-1819224000@www.clickiowa.com
SUMMARY:City Tweens
DESCRIPTION:
URL:https://www.clickiowa.com/event/city-tweens/2027-08-25/
LOCATION:Student Center
CATEGORIES:Tweens
ATTACH;FMTTYPE=image/jpeg:https://www.clickiowa.com/wp-content/uploads/2025/07/tweener.jpg
END:VEVENT
BEGIN:VEVENT
DTSTART;TZID=UTC:20270901T183000
DTEND;TZID=UTC:20270901T200000
DTSTAMP:20260422T060251
CREATED:20230805T001345Z
LAST-MODIFIED:20250714T221341Z
UID:990003658-1819823400-1819828800@www.clickiowa.com
SUMMARY:City Youth
DESCRIPTION:
URL:https://www.clickiowa.com/event/city-youth-2/2027-09-01/
LOCATION:Student Center
CATEGORIES:Youth
ATTACH;FMTTYPE=image/png:https://www.clickiowa.com/wp-content/uploads/2023/08/cc-log.png
END:VEVENT
BEGIN:VEVENT
DTSTART;TZID=UTC:20270901T183000
DTEND;TZID=UTC:20270901T200000
DTSTAMP:20260422T060251
CREATED:20250713T113003Z
LAST-MODIFIED:20250713T114722Z
UID:990004423-1819823400-1819828800@www.clickiowa.com
SUMMARY:City Tweens
DESCRIPTION:
URL:https://www.clickiowa.com/event/city-tweens/2027-09-01/
LOCATION:Student Center
CATEGORIES:Tweens
ATTACH;FMTTYPE=image/jpeg:https://www.clickiowa.com/wp-content/uploads/2025/07/tweener.jpg
END:VEVENT
BEGIN:VEVENT
DTSTART;TZID=UTC:20270908T183000
DTEND;TZID=UTC:20270908T200000
DTSTAMP:20260422T060251
CREATED:20230805T001345Z
LAST-MODIFIED:20250714T221341Z
UID:990003659-1820428200-1820433600@www.clickiowa.com
SUMMARY:City Youth
DESCRIPTION:
URL:https://www.clickiowa.com/event/city-youth-2/2027-09-08/
LOCATION:Student Center
CATEGORIES:Youth
ATTACH;FMTTYPE=image/png:https://www.clickiowa.com/wp-content/uploads/2023/08/cc-log.png
END:VEVENT
BEGIN:VEVENT
DTSTART;TZID=UTC:20270908T183000
DTEND;TZID=UTC:20270908T200000
DTSTAMP:20260422T060251
CREATED:20250713T113003Z
LAST-MODIFIED:20250713T114722Z
UID:990004424-1820428200-1820433600@www.clickiowa.com
SUMMARY:City Tweens
DESCRIPTION:
URL:https://www.clickiowa.com/event/city-tweens/2027-09-08/
LOCATION:Student Center
CATEGORIES:Tweens
ATTACH;FMTTYPE=image/jpeg:https://www.clickiowa.com/wp-content/uploads/2025/07/tweener.jpg
END:VEVENT
BEGIN:VEVENT
DTSTART;TZID=UTC:20270915T183000
DTEND;TZID=UTC:20270915T200000
DTSTAMP:20260422T060251
CREATED:20230805T001345Z
LAST-MODIFIED:20250714T221341Z
UID:990003660-1821033000-1821038400@www.clickiowa.com
SUMMARY:City Youth
DESCRIPTION:
URL:https://www.clickiowa.com/event/city-youth-2/2027-09-15/
LOCATION:Student Center
CATEGORIES:Youth
ATTACH;FMTTYPE=image/png:https://www.clickiowa.com/wp-content/uploads/2023/08/cc-log.png
END:VEVENT
BEGIN:VEVENT
DTSTART;TZID=UTC:20270915T183000
DTEND;TZID=UTC:20270915T200000
DTSTAMP:20260422T060251
CREATED:20250713T113003Z
LAST-MODIFIED:20250713T114722Z
UID:990004425-1821033000-1821038400@www.clickiowa.com
SUMMARY:City Tweens
DESCRIPTION:
URL:https://www.clickiowa.com/event/city-tweens/2027-09-15/
LOCATION:Student Center
CATEGORIES:Tweens
ATTACH;FMTTYPE=image/jpeg:https://www.clickiowa.com/wp-content/uploads/2025/07/tweener.jpg
END:VEVENT
BEGIN:VEVENT
DTSTART;TZID=UTC:20270922T183000
DTEND;TZID=UTC:20270922T200000
DTSTAMP:20260422T060251
CREATED:20230805T001345Z
LAST-MODIFIED:20250714T221341Z
UID:990003661-1821637800-1821643200@www.clickiowa.com
SUMMARY:City Youth
DESCRIPTION:
URL:https://www.clickiowa.com/event/city-youth-2/2027-09-22/
LOCATION:Student Center
CATEGORIES:Youth
ATTACH;FMTTYPE=image/png:https://www.clickiowa.com/wp-content/uploads/2023/08/cc-log.png
END:VEVENT
BEGIN:VEVENT
DTSTART;TZID=UTC:20270922T183000
DTEND;TZID=UTC:20270922T200000
DTSTAMP:20260422T060251
CREATED:20250713T113003Z
LAST-MODIFIED:20250713T114722Z
UID:990004426-1821637800-1821643200@www.clickiowa.com
SUMMARY:City Tweens
DESCRIPTION:
URL:https://www.clickiowa.com/event/city-tweens/2027-09-22/
LOCATION:Student Center
CATEGORIES:Tweens
ATTACH;FMTTYPE=image/jpeg:https://www.clickiowa.com/wp-content/uploads/2025/07/tweener.jpg
END:VEVENT
END:VCALENDAR