BEGIN:VCALENDAR
VERSION:2.0
PRODID:-//Capitol City Church - ECPv6.15.18//NONSGML v1.0//EN
CALSCALE:GREGORIAN
METHOD:PUBLISH
X-WR-CALNAME:Capitol City Church
X-ORIGINAL-URL:https://www.clickiowa.com
X-WR-CALDESC:Events for Capitol City Church
REFRESH-INTERVAL;VALUE=DURATION:PT1H
X-Robots-Tag:noindex
X-PUBLISHED-TTL:PT1H
BEGIN:VTIMEZONE
TZID:UTC
BEGIN:STANDARD
TZOFFSETFROM:+0000
TZOFFSETTO:+0000
TZNAME:UTC
DTSTART:20230101T000000
END:STANDARD
END:VTIMEZONE
BEGIN:VEVENT
DTSTART;TZID=UTC:20240612T183000
DTEND;TZID=UTC:20240612T200000
DTSTAMP:20260419T133245
CREATED:20250713T113003Z
LAST-MODIFIED:20250713T114722Z
UID:990004255-1718217000-1718222400@www.clickiowa.com
SUMMARY:City Tweens
DESCRIPTION:
URL:https://www.clickiowa.com/event/city-tweens/2024-06-12/
LOCATION:Student Center
CATEGORIES:Tweens
ATTACH;FMTTYPE=image/jpeg:https://www.clickiowa.com/wp-content/uploads/2025/07/tweener.jpg
END:VEVENT
BEGIN:VEVENT
DTSTART;TZID=UTC:20240612T183000
DTEND;TZID=UTC:20240612T200000
DTSTAMP:20260419T133245
CREATED:20230805T001345Z
LAST-MODIFIED:20250714T221341Z
UID:990003490-1718217000-1718222400@www.clickiowa.com
SUMMARY:City Youth
DESCRIPTION:
URL:https://www.clickiowa.com/event/city-youth-2/2024-06-12/
LOCATION:Student Center
CATEGORIES:Youth
ATTACH;FMTTYPE=image/png:https://www.clickiowa.com/wp-content/uploads/2023/08/cc-log.png
END:VEVENT
BEGIN:VEVENT
DTSTART;TZID=UTC:20240605T183000
DTEND;TZID=UTC:20240605T200000
DTSTAMP:20260419T133245
CREATED:20250713T113003Z
LAST-MODIFIED:20250713T114722Z
UID:990004254-1717612200-1717617600@www.clickiowa.com
SUMMARY:City Tweens
DESCRIPTION:
URL:https://www.clickiowa.com/event/city-tweens/2024-06-05/
LOCATION:Student Center
CATEGORIES:Tweens
ATTACH;FMTTYPE=image/jpeg:https://www.clickiowa.com/wp-content/uploads/2025/07/tweener.jpg
END:VEVENT
BEGIN:VEVENT
DTSTART;TZID=UTC:20240605T183000
DTEND;TZID=UTC:20240605T200000
DTSTAMP:20260419T133245
CREATED:20230805T001345Z
LAST-MODIFIED:20250714T221341Z
UID:990003489-1717612200-1717617600@www.clickiowa.com
SUMMARY:City Youth
DESCRIPTION:
URL:https://www.clickiowa.com/event/city-youth-2/2024-06-05/
LOCATION:Student Center
CATEGORIES:Youth
ATTACH;FMTTYPE=image/png:https://www.clickiowa.com/wp-content/uploads/2023/08/cc-log.png
END:VEVENT
BEGIN:VEVENT
DTSTART;TZID=UTC:20240529T183000
DTEND;TZID=UTC:20240529T200000
DTSTAMP:20260419T133245
CREATED:20250713T113003Z
LAST-MODIFIED:20250713T114722Z
UID:990004253-1717007400-1717012800@www.clickiowa.com
SUMMARY:City Tweens
DESCRIPTION:
URL:https://www.clickiowa.com/event/city-tweens/2024-05-29/
LOCATION:Student Center
CATEGORIES:Tweens
ATTACH;FMTTYPE=image/jpeg:https://www.clickiowa.com/wp-content/uploads/2025/07/tweener.jpg
END:VEVENT
BEGIN:VEVENT
DTSTART;TZID=UTC:20240529T183000
DTEND;TZID=UTC:20240529T200000
DTSTAMP:20260419T133245
CREATED:20230805T001345Z
LAST-MODIFIED:20250714T221341Z
UID:990003488-1717007400-1717012800@www.clickiowa.com
SUMMARY:City Youth
DESCRIPTION:
URL:https://www.clickiowa.com/event/city-youth-2/2024-05-29/
LOCATION:Student Center
CATEGORIES:Youth
ATTACH;FMTTYPE=image/png:https://www.clickiowa.com/wp-content/uploads/2023/08/cc-log.png
END:VEVENT
BEGIN:VEVENT
DTSTART;TZID=UTC:20240522T183000
DTEND;TZID=UTC:20240522T200000
DTSTAMP:20260419T133245
CREATED:20250713T113003Z
LAST-MODIFIED:20250713T114722Z
UID:990004252-1716402600-1716408000@www.clickiowa.com
SUMMARY:City Tweens
DESCRIPTION:
URL:https://www.clickiowa.com/event/city-tweens/2024-05-22/
LOCATION:Student Center
CATEGORIES:Tweens
ATTACH;FMTTYPE=image/jpeg:https://www.clickiowa.com/wp-content/uploads/2025/07/tweener.jpg
END:VEVENT
BEGIN:VEVENT
DTSTART;TZID=UTC:20240522T183000
DTEND;TZID=UTC:20240522T200000
DTSTAMP:20260419T133245
CREATED:20230805T001345Z
LAST-MODIFIED:20250714T221341Z
UID:990003487-1716402600-1716408000@www.clickiowa.com
SUMMARY:City Youth
DESCRIPTION:
URL:https://www.clickiowa.com/event/city-youth-2/2024-05-22/
LOCATION:Student Center
CATEGORIES:Youth
ATTACH;FMTTYPE=image/png:https://www.clickiowa.com/wp-content/uploads/2023/08/cc-log.png
END:VEVENT
BEGIN:VEVENT
DTSTART;TZID=UTC:20240515T183000
DTEND;TZID=UTC:20240515T200000
DTSTAMP:20260419T133245
CREATED:20250713T113003Z
LAST-MODIFIED:20250713T114722Z
UID:990004251-1715797800-1715803200@www.clickiowa.com
SUMMARY:City Tweens
DESCRIPTION:
URL:https://www.clickiowa.com/event/city-tweens/2024-05-15/
LOCATION:Student Center
CATEGORIES:Tweens
ATTACH;FMTTYPE=image/jpeg:https://www.clickiowa.com/wp-content/uploads/2025/07/tweener.jpg
END:VEVENT
BEGIN:VEVENT
DTSTART;TZID=UTC:20240515T183000
DTEND;TZID=UTC:20240515T200000
DTSTAMP:20260419T133245
CREATED:20230805T001345Z
LAST-MODIFIED:20250714T221341Z
UID:990003486-1715797800-1715803200@www.clickiowa.com
SUMMARY:City Youth
DESCRIPTION:
URL:https://www.clickiowa.com/event/city-youth-2/2024-05-15/
LOCATION:Student Center
CATEGORIES:Youth
ATTACH;FMTTYPE=image/png:https://www.clickiowa.com/wp-content/uploads/2023/08/cc-log.png
END:VEVENT
BEGIN:VEVENT
DTSTART;TZID=UTC:20240508T183000
DTEND;TZID=UTC:20240508T200000
DTSTAMP:20260419T133245
CREATED:20250713T113003Z
LAST-MODIFIED:20250713T114722Z
UID:990004250-1715193000-1715198400@www.clickiowa.com
SUMMARY:City Tweens
DESCRIPTION:
URL:https://www.clickiowa.com/event/city-tweens/2024-05-08/
LOCATION:Student Center
CATEGORIES:Tweens
ATTACH;FMTTYPE=image/jpeg:https://www.clickiowa.com/wp-content/uploads/2025/07/tweener.jpg
END:VEVENT
BEGIN:VEVENT
DTSTART;TZID=UTC:20240508T183000
DTEND;TZID=UTC:20240508T200000
DTSTAMP:20260419T133245
CREATED:20230805T001345Z
LAST-MODIFIED:20250714T221341Z
UID:990003485-1715193000-1715198400@www.clickiowa.com
SUMMARY:City Youth
DESCRIPTION:
URL:https://www.clickiowa.com/event/city-youth-2/2024-05-08/
LOCATION:Student Center
CATEGORIES:Youth
ATTACH;FMTTYPE=image/png:https://www.clickiowa.com/wp-content/uploads/2023/08/cc-log.png
END:VEVENT
BEGIN:VEVENT
DTSTART;TZID=UTC:20240501T183000
DTEND;TZID=UTC:20240501T200000
DTSTAMP:20260419T133245
CREATED:20250713T113003Z
LAST-MODIFIED:20250713T114722Z
UID:990004249-1714588200-1714593600@www.clickiowa.com
SUMMARY:City Tweens
DESCRIPTION:
URL:https://www.clickiowa.com/event/city-tweens/2024-05-01/
LOCATION:Student Center
CATEGORIES:Tweens
ATTACH;FMTTYPE=image/jpeg:https://www.clickiowa.com/wp-content/uploads/2025/07/tweener.jpg
END:VEVENT
BEGIN:VEVENT
DTSTART;TZID=UTC:20240501T183000
DTEND;TZID=UTC:20240501T200000
DTSTAMP:20260419T133245
CREATED:20230805T001345Z
LAST-MODIFIED:20250714T221341Z
UID:990003484-1714588200-1714593600@www.clickiowa.com
SUMMARY:City Youth
DESCRIPTION:
URL:https://www.clickiowa.com/event/city-youth-2/2024-05-01/
LOCATION:Student Center
CATEGORIES:Youth
ATTACH;FMTTYPE=image/png:https://www.clickiowa.com/wp-content/uploads/2023/08/cc-log.png
END:VEVENT
BEGIN:VEVENT
DTSTART;TZID=UTC:20240424T183000
DTEND;TZID=UTC:20240424T200000
DTSTAMP:20260419T133245
CREATED:20250713T113003Z
LAST-MODIFIED:20250713T114722Z
UID:990004248-1713983400-1713988800@www.clickiowa.com
SUMMARY:City Tweens
DESCRIPTION:
URL:https://www.clickiowa.com/event/city-tweens/2024-04-24/
LOCATION:Student Center
CATEGORIES:Tweens
ATTACH;FMTTYPE=image/jpeg:https://www.clickiowa.com/wp-content/uploads/2025/07/tweener.jpg
END:VEVENT
BEGIN:VEVENT
DTSTART;TZID=UTC:20240424T183000
DTEND;TZID=UTC:20240424T200000
DTSTAMP:20260419T133245
CREATED:20230805T001345Z
LAST-MODIFIED:20250714T221341Z
UID:990003483-1713983400-1713988800@www.clickiowa.com
SUMMARY:City Youth
DESCRIPTION:
URL:https://www.clickiowa.com/event/city-youth-2/2024-04-24/
LOCATION:Student Center
CATEGORIES:Youth
ATTACH;FMTTYPE=image/png:https://www.clickiowa.com/wp-content/uploads/2023/08/cc-log.png
END:VEVENT
BEGIN:VEVENT
DTSTART;TZID=UTC:20240417T183000
DTEND;TZID=UTC:20240417T200000
DTSTAMP:20260419T133245
CREATED:20250713T113003Z
LAST-MODIFIED:20250713T114722Z
UID:990004247-1713378600-1713384000@www.clickiowa.com
SUMMARY:City Tweens
DESCRIPTION:
URL:https://www.clickiowa.com/event/city-tweens/2024-04-17/
LOCATION:Student Center
CATEGORIES:Tweens
ATTACH;FMTTYPE=image/jpeg:https://www.clickiowa.com/wp-content/uploads/2025/07/tweener.jpg
END:VEVENT
BEGIN:VEVENT
DTSTART;TZID=UTC:20240417T183000
DTEND;TZID=UTC:20240417T200000
DTSTAMP:20260419T133245
CREATED:20230805T001345Z
LAST-MODIFIED:20250714T221341Z
UID:990003482-1713378600-1713384000@www.clickiowa.com
SUMMARY:City Youth
DESCRIPTION:
URL:https://www.clickiowa.com/event/city-youth-2/2024-04-17/
LOCATION:Student Center
CATEGORIES:Youth
ATTACH;FMTTYPE=image/png:https://www.clickiowa.com/wp-content/uploads/2023/08/cc-log.png
END:VEVENT
BEGIN:VEVENT
DTSTART;TZID=UTC:20240410T183000
DTEND;TZID=UTC:20240410T200000
DTSTAMP:20260419T133245
CREATED:20250713T113003Z
LAST-MODIFIED:20250713T114722Z
UID:990004246-1712773800-1712779200@www.clickiowa.com
SUMMARY:City Tweens
DESCRIPTION:
URL:https://www.clickiowa.com/event/city-tweens/2024-04-10/
LOCATION:Student Center
CATEGORIES:Tweens
ATTACH;FMTTYPE=image/jpeg:https://www.clickiowa.com/wp-content/uploads/2025/07/tweener.jpg
END:VEVENT
BEGIN:VEVENT
DTSTART;TZID=UTC:20240410T183000
DTEND;TZID=UTC:20240410T200000
DTSTAMP:20260419T133245
CREATED:20230805T001345Z
LAST-MODIFIED:20250714T221341Z
UID:990003481-1712773800-1712779200@www.clickiowa.com
SUMMARY:City Youth
DESCRIPTION:
URL:https://www.clickiowa.com/event/city-youth-2/2024-04-10/
LOCATION:Student Center
CATEGORIES:Youth
ATTACH;FMTTYPE=image/png:https://www.clickiowa.com/wp-content/uploads/2023/08/cc-log.png
END:VEVENT
BEGIN:VEVENT
DTSTART;TZID=UTC:20240403T183000
DTEND;TZID=UTC:20240403T200000
DTSTAMP:20260419T133245
CREATED:20250713T113003Z
LAST-MODIFIED:20250713T114722Z
UID:990004245-1712169000-1712174400@www.clickiowa.com
SUMMARY:City Tweens
DESCRIPTION:
URL:https://www.clickiowa.com/event/city-tweens/2024-04-03/
LOCATION:Student Center
CATEGORIES:Tweens
ATTACH;FMTTYPE=image/jpeg:https://www.clickiowa.com/wp-content/uploads/2025/07/tweener.jpg
END:VEVENT
BEGIN:VEVENT
DTSTART;TZID=UTC:20240403T183000
DTEND;TZID=UTC:20240403T200000
DTSTAMP:20260419T133245
CREATED:20230805T001345Z
LAST-MODIFIED:20250714T221341Z
UID:990003480-1712169000-1712174400@www.clickiowa.com
SUMMARY:City Youth
DESCRIPTION:
URL:https://www.clickiowa.com/event/city-youth-2/2024-04-03/
LOCATION:Student Center
CATEGORIES:Youth
ATTACH;FMTTYPE=image/png:https://www.clickiowa.com/wp-content/uploads/2023/08/cc-log.png
END:VEVENT
BEGIN:VEVENT
DTSTART;TZID=UTC:20240327T183000
DTEND;TZID=UTC:20240327T200000
DTSTAMP:20260419T133245
CREATED:20250713T113003Z
LAST-MODIFIED:20250713T114722Z
UID:990004244-1711564200-1711569600@www.clickiowa.com
SUMMARY:City Tweens
DESCRIPTION:
URL:https://www.clickiowa.com/event/city-tweens/2024-03-27/
LOCATION:Student Center
CATEGORIES:Tweens
ATTACH;FMTTYPE=image/jpeg:https://www.clickiowa.com/wp-content/uploads/2025/07/tweener.jpg
END:VEVENT
BEGIN:VEVENT
DTSTART;TZID=UTC:20240327T183000
DTEND;TZID=UTC:20240327T200000
DTSTAMP:20260419T133245
CREATED:20230805T001345Z
LAST-MODIFIED:20250714T221341Z
UID:990003479-1711564200-1711569600@www.clickiowa.com
SUMMARY:City Youth
DESCRIPTION:
URL:https://www.clickiowa.com/event/city-youth-2/2024-03-27/
LOCATION:Student Center
CATEGORIES:Youth
ATTACH;FMTTYPE=image/png:https://www.clickiowa.com/wp-content/uploads/2023/08/cc-log.png
END:VEVENT
BEGIN:VEVENT
DTSTART;TZID=UTC:20240320T183000
DTEND;TZID=UTC:20240320T200000
DTSTAMP:20260419T133245
CREATED:20250713T113003Z
LAST-MODIFIED:20250713T114722Z
UID:990004243-1710959400-1710964800@www.clickiowa.com
SUMMARY:City Tweens
DESCRIPTION:
URL:https://www.clickiowa.com/event/city-tweens/2024-03-20/
LOCATION:Student Center
CATEGORIES:Tweens
ATTACH;FMTTYPE=image/jpeg:https://www.clickiowa.com/wp-content/uploads/2025/07/tweener.jpg
END:VEVENT
BEGIN:VEVENT
DTSTART;TZID=UTC:20240320T183000
DTEND;TZID=UTC:20240320T200000
DTSTAMP:20260419T133245
CREATED:20230805T001345Z
LAST-MODIFIED:20250714T221341Z
UID:990003478-1710959400-1710964800@www.clickiowa.com
SUMMARY:City Youth
DESCRIPTION:
URL:https://www.clickiowa.com/event/city-youth-2/2024-03-20/
LOCATION:Student Center
CATEGORIES:Youth
ATTACH;FMTTYPE=image/png:https://www.clickiowa.com/wp-content/uploads/2023/08/cc-log.png
END:VEVENT
BEGIN:VEVENT
DTSTART;TZID=UTC:20240313T183000
DTEND;TZID=UTC:20240313T200000
DTSTAMP:20260419T133245
CREATED:20250713T113003Z
LAST-MODIFIED:20250713T114722Z
UID:990004242-1710354600-1710360000@www.clickiowa.com
SUMMARY:City Tweens
DESCRIPTION:
URL:https://www.clickiowa.com/event/city-tweens/2024-03-13/
LOCATION:Student Center
CATEGORIES:Tweens
ATTACH;FMTTYPE=image/jpeg:https://www.clickiowa.com/wp-content/uploads/2025/07/tweener.jpg
END:VEVENT
BEGIN:VEVENT
DTSTART;TZID=UTC:20240313T183000
DTEND;TZID=UTC:20240313T200000
DTSTAMP:20260419T133245
CREATED:20230805T001345Z
LAST-MODIFIED:20250714T221341Z
UID:990003477-1710354600-1710360000@www.clickiowa.com
SUMMARY:City Youth
DESCRIPTION:
URL:https://www.clickiowa.com/event/city-youth-2/2024-03-13/
LOCATION:Student Center
CATEGORIES:Youth
ATTACH;FMTTYPE=image/png:https://www.clickiowa.com/wp-content/uploads/2023/08/cc-log.png
END:VEVENT
BEGIN:VEVENT
DTSTART;TZID=UTC:20240306T183000
DTEND;TZID=UTC:20240306T200000
DTSTAMP:20260419T133245
CREATED:20250713T113003Z
LAST-MODIFIED:20250713T114722Z
UID:990004241-1709749800-1709755200@www.clickiowa.com
SUMMARY:City Tweens
DESCRIPTION:
URL:https://www.clickiowa.com/event/city-tweens/2024-03-06/
LOCATION:Student Center
CATEGORIES:Tweens
ATTACH;FMTTYPE=image/jpeg:https://www.clickiowa.com/wp-content/uploads/2025/07/tweener.jpg
END:VEVENT
BEGIN:VEVENT
DTSTART;TZID=UTC:20240306T183000
DTEND;TZID=UTC:20240306T200000
DTSTAMP:20260419T133245
CREATED:20230805T001345Z
LAST-MODIFIED:20250714T221341Z
UID:990003476-1709749800-1709755200@www.clickiowa.com
SUMMARY:City Youth
DESCRIPTION:
URL:https://www.clickiowa.com/event/city-youth-2/2024-03-06/
LOCATION:Student Center
CATEGORIES:Youth
ATTACH;FMTTYPE=image/png:https://www.clickiowa.com/wp-content/uploads/2023/08/cc-log.png
END:VEVENT
END:VCALENDAR