BEGIN:VCALENDAR
VERSION:2.0
PRODID:-//Capitol City Church - ECPv6.15.18//NONSGML v1.0//EN
CALSCALE:GREGORIAN
METHOD:PUBLISH
X-WR-CALNAME:Capitol City Church
X-ORIGINAL-URL:https://www.clickiowa.com
X-WR-CALDESC:Events for Capitol City Church
REFRESH-INTERVAL;VALUE=DURATION:PT1H
X-Robots-Tag:noindex
X-PUBLISHED-TTL:PT1H
BEGIN:VTIMEZONE
TZID:UTC
BEGIN:STANDARD
TZOFFSETFROM:+0000
TZOFFSETTO:+0000
TZNAME:UTC
DTSTART:20220101T000000
END:STANDARD
END:VTIMEZONE
BEGIN:VEVENT
DTSTART;TZID=UTC:20240207T183000
DTEND;TZID=UTC:20240207T200000
DTSTAMP:20260422T110224
CREATED:20250713T113003Z
LAST-MODIFIED:20250713T114722Z
UID:990004237-1707330600-1707336000@www.clickiowa.com
SUMMARY:City Tweens
DESCRIPTION:
URL:https://www.clickiowa.com/event/city-tweens/2024-02-07/
LOCATION:Student Center
CATEGORIES:Tweens
ATTACH;FMTTYPE=image/jpeg:https://www.clickiowa.com/wp-content/uploads/2025/07/tweener.jpg
END:VEVENT
BEGIN:VEVENT
DTSTART;TZID=UTC:20240207T183000
DTEND;TZID=UTC:20240207T200000
DTSTAMP:20260422T110224
CREATED:20230805T001345Z
LAST-MODIFIED:20250714T221341Z
UID:990003472-1707330600-1707336000@www.clickiowa.com
SUMMARY:City Youth
DESCRIPTION:
URL:https://www.clickiowa.com/event/city-youth-2/2024-02-07/
LOCATION:Student Center
CATEGORIES:Youth
ATTACH;FMTTYPE=image/png:https://www.clickiowa.com/wp-content/uploads/2023/08/cc-log.png
END:VEVENT
BEGIN:VEVENT
DTSTART;TZID=UTC:20240131T183000
DTEND;TZID=UTC:20240131T200000
DTSTAMP:20260422T110224
CREATED:20250713T113003Z
LAST-MODIFIED:20250713T114722Z
UID:990004236-1706725800-1706731200@www.clickiowa.com
SUMMARY:City Tweens
DESCRIPTION:
URL:https://www.clickiowa.com/event/city-tweens/2024-01-31/
LOCATION:Student Center
CATEGORIES:Tweens
ATTACH;FMTTYPE=image/jpeg:https://www.clickiowa.com/wp-content/uploads/2025/07/tweener.jpg
END:VEVENT
BEGIN:VEVENT
DTSTART;TZID=UTC:20240131T183000
DTEND;TZID=UTC:20240131T200000
DTSTAMP:20260422T110224
CREATED:20230805T001345Z
LAST-MODIFIED:20250714T221341Z
UID:990003471-1706725800-1706731200@www.clickiowa.com
SUMMARY:City Youth
DESCRIPTION:
URL:https://www.clickiowa.com/event/city-youth-2/2024-01-31/
LOCATION:Student Center
CATEGORIES:Youth
ATTACH;FMTTYPE=image/png:https://www.clickiowa.com/wp-content/uploads/2023/08/cc-log.png
END:VEVENT
BEGIN:VEVENT
DTSTART;TZID=UTC:20240124T183000
DTEND;TZID=UTC:20240124T200000
DTSTAMP:20260422T110224
CREATED:20250713T113003Z
LAST-MODIFIED:20250713T114722Z
UID:990004235-1706121000-1706126400@www.clickiowa.com
SUMMARY:City Tweens
DESCRIPTION:
URL:https://www.clickiowa.com/event/city-tweens/2024-01-24/
LOCATION:Student Center
CATEGORIES:Tweens
ATTACH;FMTTYPE=image/jpeg:https://www.clickiowa.com/wp-content/uploads/2025/07/tweener.jpg
END:VEVENT
BEGIN:VEVENT
DTSTART;TZID=UTC:20240124T183000
DTEND;TZID=UTC:20240124T200000
DTSTAMP:20260422T110224
CREATED:20230805T001345Z
LAST-MODIFIED:20250714T221341Z
UID:990003470-1706121000-1706126400@www.clickiowa.com
SUMMARY:City Youth
DESCRIPTION:
URL:https://www.clickiowa.com/event/city-youth-2/2024-01-24/
LOCATION:Student Center
CATEGORIES:Youth
ATTACH;FMTTYPE=image/png:https://www.clickiowa.com/wp-content/uploads/2023/08/cc-log.png
END:VEVENT
BEGIN:VEVENT
DTSTART;TZID=UTC:20240117T183000
DTEND;TZID=UTC:20240117T200000
DTSTAMP:20260422T110224
CREATED:20250713T113003Z
LAST-MODIFIED:20250713T114722Z
UID:990004234-1705516200-1705521600@www.clickiowa.com
SUMMARY:City Tweens
DESCRIPTION:
URL:https://www.clickiowa.com/event/city-tweens/2024-01-17/
LOCATION:Student Center
CATEGORIES:Tweens
ATTACH;FMTTYPE=image/jpeg:https://www.clickiowa.com/wp-content/uploads/2025/07/tweener.jpg
END:VEVENT
BEGIN:VEVENT
DTSTART;TZID=UTC:20240117T183000
DTEND;TZID=UTC:20240117T200000
DTSTAMP:20260422T110224
CREATED:20230805T001345Z
LAST-MODIFIED:20250714T221341Z
UID:990003469-1705516200-1705521600@www.clickiowa.com
SUMMARY:City Youth
DESCRIPTION:
URL:https://www.clickiowa.com/event/city-youth-2/2024-01-17/
LOCATION:Student Center
CATEGORIES:Youth
ATTACH;FMTTYPE=image/png:https://www.clickiowa.com/wp-content/uploads/2023/08/cc-log.png
END:VEVENT
BEGIN:VEVENT
DTSTART;TZID=UTC:20240110T183000
DTEND;TZID=UTC:20240110T200000
DTSTAMP:20260422T110224
CREATED:20250713T113003Z
LAST-MODIFIED:20250713T114722Z
UID:990004233-1704911400-1704916800@www.clickiowa.com
SUMMARY:City Tweens
DESCRIPTION:
URL:https://www.clickiowa.com/event/city-tweens/2024-01-10/
LOCATION:Student Center
CATEGORIES:Tweens
ATTACH;FMTTYPE=image/jpeg:https://www.clickiowa.com/wp-content/uploads/2025/07/tweener.jpg
END:VEVENT
BEGIN:VEVENT
DTSTART;TZID=UTC:20240110T183000
DTEND;TZID=UTC:20240110T200000
DTSTAMP:20260422T110224
CREATED:20230805T001345Z
LAST-MODIFIED:20250714T221341Z
UID:990003468-1704911400-1704916800@www.clickiowa.com
SUMMARY:City Youth
DESCRIPTION:
URL:https://www.clickiowa.com/event/city-youth-2/2024-01-10/
LOCATION:Student Center
CATEGORIES:Youth
ATTACH;FMTTYPE=image/png:https://www.clickiowa.com/wp-content/uploads/2023/08/cc-log.png
END:VEVENT
BEGIN:VEVENT
DTSTART;TZID=UTC:20240103T183000
DTEND;TZID=UTC:20240103T200000
DTSTAMP:20260422T110224
CREATED:20250713T113003Z
LAST-MODIFIED:20250713T114722Z
UID:990004232-1704306600-1704312000@www.clickiowa.com
SUMMARY:City Tweens
DESCRIPTION:
URL:https://www.clickiowa.com/event/city-tweens/2024-01-03/
LOCATION:Student Center
CATEGORIES:Tweens
ATTACH;FMTTYPE=image/jpeg:https://www.clickiowa.com/wp-content/uploads/2025/07/tweener.jpg
END:VEVENT
BEGIN:VEVENT
DTSTART;TZID=UTC:20240103T183000
DTEND;TZID=UTC:20240103T200000
DTSTAMP:20260422T110225
CREATED:20230805T001345Z
LAST-MODIFIED:20250714T221341Z
UID:990003467-1704306600-1704312000@www.clickiowa.com
SUMMARY:City Youth
DESCRIPTION:
URL:https://www.clickiowa.com/event/city-youth-2/2024-01-03/
LOCATION:Student Center
CATEGORIES:Youth
ATTACH;FMTTYPE=image/png:https://www.clickiowa.com/wp-content/uploads/2023/08/cc-log.png
END:VEVENT
BEGIN:VEVENT
DTSTART;TZID=UTC:20231227T183000
DTEND;TZID=UTC:20231227T200000
DTSTAMP:20260422T110225
CREATED:20250713T113003Z
LAST-MODIFIED:20250713T114722Z
UID:990004231-1703701800-1703707200@www.clickiowa.com
SUMMARY:City Tweens
DESCRIPTION:
URL:https://www.clickiowa.com/event/city-tweens/2023-12-27/
LOCATION:Student Center
CATEGORIES:Tweens
ATTACH;FMTTYPE=image/jpeg:https://www.clickiowa.com/wp-content/uploads/2025/07/tweener.jpg
END:VEVENT
BEGIN:VEVENT
DTSTART;TZID=UTC:20231227T183000
DTEND;TZID=UTC:20231227T200000
DTSTAMP:20260422T110225
CREATED:20230805T001345Z
LAST-MODIFIED:20250714T221341Z
UID:990003466-1703701800-1703707200@www.clickiowa.com
SUMMARY:City Youth
DESCRIPTION:
URL:https://www.clickiowa.com/event/city-youth-2/2023-12-27/
LOCATION:Student Center
CATEGORIES:Youth
ATTACH;FMTTYPE=image/png:https://www.clickiowa.com/wp-content/uploads/2023/08/cc-log.png
END:VEVENT
BEGIN:VEVENT
DTSTART;TZID=UTC:20231220T183000
DTEND;TZID=UTC:20231220T200000
DTSTAMP:20260422T110225
CREATED:20250713T113003Z
LAST-MODIFIED:20250713T114722Z
UID:990004230-1703097000-1703102400@www.clickiowa.com
SUMMARY:City Tweens
DESCRIPTION:
URL:https://www.clickiowa.com/event/city-tweens/2023-12-20/
LOCATION:Student Center
CATEGORIES:Tweens
ATTACH;FMTTYPE=image/jpeg:https://www.clickiowa.com/wp-content/uploads/2025/07/tweener.jpg
END:VEVENT
BEGIN:VEVENT
DTSTART;TZID=UTC:20231220T183000
DTEND;TZID=UTC:20231220T200000
DTSTAMP:20260422T110225
CREATED:20230805T001345Z
LAST-MODIFIED:20250714T221341Z
UID:990003465-1703097000-1703102400@www.clickiowa.com
SUMMARY:City Youth
DESCRIPTION:
URL:https://www.clickiowa.com/event/city-youth-2/2023-12-20/
LOCATION:Student Center
CATEGORIES:Youth
ATTACH;FMTTYPE=image/png:https://www.clickiowa.com/wp-content/uploads/2023/08/cc-log.png
END:VEVENT
BEGIN:VEVENT
DTSTART;TZID=UTC:20231213T183000
DTEND;TZID=UTC:20231213T200000
DTSTAMP:20260422T110225
CREATED:20250713T113003Z
LAST-MODIFIED:20250713T114722Z
UID:990004229-1702492200-1702497600@www.clickiowa.com
SUMMARY:City Tweens
DESCRIPTION:
URL:https://www.clickiowa.com/event/city-tweens/2023-12-13/
LOCATION:Student Center
CATEGORIES:Tweens
ATTACH;FMTTYPE=image/jpeg:https://www.clickiowa.com/wp-content/uploads/2025/07/tweener.jpg
END:VEVENT
BEGIN:VEVENT
DTSTART;TZID=UTC:20231213T183000
DTEND;TZID=UTC:20231213T200000
DTSTAMP:20260422T110225
CREATED:20230805T001345Z
LAST-MODIFIED:20250714T221341Z
UID:990003464-1702492200-1702497600@www.clickiowa.com
SUMMARY:City Youth
DESCRIPTION:
URL:https://www.clickiowa.com/event/city-youth-2/2023-12-13/
LOCATION:Student Center
CATEGORIES:Youth
ATTACH;FMTTYPE=image/png:https://www.clickiowa.com/wp-content/uploads/2023/08/cc-log.png
END:VEVENT
BEGIN:VEVENT
DTSTART;TZID=UTC:20231206T183000
DTEND;TZID=UTC:20231206T200000
DTSTAMP:20260422T110225
CREATED:20250713T113003Z
LAST-MODIFIED:20250713T114722Z
UID:990004228-1701887400-1701892800@www.clickiowa.com
SUMMARY:City Tweens
DESCRIPTION:
URL:https://www.clickiowa.com/event/city-tweens/2023-12-06/
LOCATION:Student Center
CATEGORIES:Tweens
ATTACH;FMTTYPE=image/jpeg:https://www.clickiowa.com/wp-content/uploads/2025/07/tweener.jpg
END:VEVENT
BEGIN:VEVENT
DTSTART;TZID=UTC:20231206T183000
DTEND;TZID=UTC:20231206T200000
DTSTAMP:20260422T110225
CREATED:20230805T001345Z
LAST-MODIFIED:20250714T221341Z
UID:990003463-1701887400-1701892800@www.clickiowa.com
SUMMARY:City Youth
DESCRIPTION:
URL:https://www.clickiowa.com/event/city-youth-2/2023-12-06/
LOCATION:Student Center
CATEGORIES:Youth
ATTACH;FMTTYPE=image/png:https://www.clickiowa.com/wp-content/uploads/2023/08/cc-log.png
END:VEVENT
BEGIN:VEVENT
DTSTART;TZID=UTC:20231129T183000
DTEND;TZID=UTC:20231129T200000
DTSTAMP:20260422T110225
CREATED:20250713T113003Z
LAST-MODIFIED:20250713T114722Z
UID:990004227-1701282600-1701288000@www.clickiowa.com
SUMMARY:City Tweens
DESCRIPTION:
URL:https://www.clickiowa.com/event/city-tweens/2023-11-29/
LOCATION:Student Center
CATEGORIES:Tweens
ATTACH;FMTTYPE=image/jpeg:https://www.clickiowa.com/wp-content/uploads/2025/07/tweener.jpg
END:VEVENT
BEGIN:VEVENT
DTSTART;TZID=UTC:20231129T183000
DTEND;TZID=UTC:20231129T200000
DTSTAMP:20260422T110225
CREATED:20230805T001345Z
LAST-MODIFIED:20250714T221341Z
UID:990003462-1701282600-1701288000@www.clickiowa.com
SUMMARY:City Youth
DESCRIPTION:
URL:https://www.clickiowa.com/event/city-youth-2/2023-11-29/
LOCATION:Student Center
CATEGORIES:Youth
ATTACH;FMTTYPE=image/png:https://www.clickiowa.com/wp-content/uploads/2023/08/cc-log.png
END:VEVENT
BEGIN:VEVENT
DTSTART;TZID=UTC:20231122T183000
DTEND;TZID=UTC:20231122T200000
DTSTAMP:20260422T110225
CREATED:20250713T113003Z
LAST-MODIFIED:20250713T114722Z
UID:990004226-1700677800-1700683200@www.clickiowa.com
SUMMARY:City Tweens
DESCRIPTION:
URL:https://www.clickiowa.com/event/city-tweens/2023-11-22/
LOCATION:Student Center
CATEGORIES:Tweens
ATTACH;FMTTYPE=image/jpeg:https://www.clickiowa.com/wp-content/uploads/2025/07/tweener.jpg
END:VEVENT
BEGIN:VEVENT
DTSTART;TZID=UTC:20231122T183000
DTEND;TZID=UTC:20231122T200000
DTSTAMP:20260422T110225
CREATED:20230805T001345Z
LAST-MODIFIED:20250714T221341Z
UID:990003461-1700677800-1700683200@www.clickiowa.com
SUMMARY:City Youth
DESCRIPTION:
URL:https://www.clickiowa.com/event/city-youth-2/2023-11-22/
LOCATION:Student Center
CATEGORIES:Youth
ATTACH;FMTTYPE=image/png:https://www.clickiowa.com/wp-content/uploads/2023/08/cc-log.png
END:VEVENT
BEGIN:VEVENT
DTSTART;TZID=UTC:20231115T183000
DTEND;TZID=UTC:20231115T200000
DTSTAMP:20260422T110225
CREATED:20250713T113003Z
LAST-MODIFIED:20250713T114722Z
UID:990004225-1700073000-1700078400@www.clickiowa.com
SUMMARY:City Tweens
DESCRIPTION:
URL:https://www.clickiowa.com/event/city-tweens/2023-11-15/
LOCATION:Student Center
CATEGORIES:Tweens
ATTACH;FMTTYPE=image/jpeg:https://www.clickiowa.com/wp-content/uploads/2025/07/tweener.jpg
END:VEVENT
BEGIN:VEVENT
DTSTART;TZID=UTC:20231115T183000
DTEND;TZID=UTC:20231115T200000
DTSTAMP:20260422T110225
CREATED:20230805T001345Z
LAST-MODIFIED:20250714T221341Z
UID:990003460-1700073000-1700078400@www.clickiowa.com
SUMMARY:City Youth
DESCRIPTION:
URL:https://www.clickiowa.com/event/city-youth-2/2023-11-15/
LOCATION:Student Center
CATEGORIES:Youth
ATTACH;FMTTYPE=image/png:https://www.clickiowa.com/wp-content/uploads/2023/08/cc-log.png
END:VEVENT
BEGIN:VEVENT
DTSTART;TZID=UTC:20231108T183000
DTEND;TZID=UTC:20231108T200000
DTSTAMP:20260422T110225
CREATED:20250713T113003Z
LAST-MODIFIED:20250713T114722Z
UID:990004224-1699468200-1699473600@www.clickiowa.com
SUMMARY:City Tweens
DESCRIPTION:
URL:https://www.clickiowa.com/event/city-tweens/2023-11-08/
LOCATION:Student Center
CATEGORIES:Tweens
ATTACH;FMTTYPE=image/jpeg:https://www.clickiowa.com/wp-content/uploads/2025/07/tweener.jpg
END:VEVENT
BEGIN:VEVENT
DTSTART;TZID=UTC:20231108T183000
DTEND;TZID=UTC:20231108T200000
DTSTAMP:20260422T110225
CREATED:20230805T001345Z
LAST-MODIFIED:20250714T221341Z
UID:990003459-1699468200-1699473600@www.clickiowa.com
SUMMARY:City Youth
DESCRIPTION:
URL:https://www.clickiowa.com/event/city-youth-2/2023-11-08/
LOCATION:Student Center
CATEGORIES:Youth
ATTACH;FMTTYPE=image/png:https://www.clickiowa.com/wp-content/uploads/2023/08/cc-log.png
END:VEVENT
BEGIN:VEVENT
DTSTART;TZID=UTC:20231101T183000
DTEND;TZID=UTC:20231101T200000
DTSTAMP:20260422T110225
CREATED:20250713T113003Z
LAST-MODIFIED:20250713T114722Z
UID:990004223-1698863400-1698868800@www.clickiowa.com
SUMMARY:City Tweens
DESCRIPTION:
URL:https://www.clickiowa.com/event/city-tweens/2023-11-01/
LOCATION:Student Center
CATEGORIES:Tweens
ATTACH;FMTTYPE=image/jpeg:https://www.clickiowa.com/wp-content/uploads/2025/07/tweener.jpg
END:VEVENT
BEGIN:VEVENT
DTSTART;TZID=UTC:20231101T183000
DTEND;TZID=UTC:20231101T200000
DTSTAMP:20260422T110225
CREATED:20230805T001345Z
LAST-MODIFIED:20250714T221341Z
UID:990003458-1698863400-1698868800@www.clickiowa.com
SUMMARY:City Youth
DESCRIPTION:
URL:https://www.clickiowa.com/event/city-youth-2/2023-11-01/
LOCATION:Student Center
CATEGORIES:Youth
ATTACH;FMTTYPE=image/png:https://www.clickiowa.com/wp-content/uploads/2023/08/cc-log.png
END:VEVENT
END:VCALENDAR