BEGIN:VCALENDAR
VERSION:2.0
PRODID:-//Capitol City Church - ECPv6.15.18//NONSGML v1.0//EN
CALSCALE:GREGORIAN
METHOD:PUBLISH
X-WR-CALNAME:Capitol City Church
X-ORIGINAL-URL:https://www.clickiowa.com
X-WR-CALDESC:Events for Capitol City Church
REFRESH-INTERVAL;VALUE=DURATION:PT1H
X-Robots-Tag:noindex
X-PUBLISHED-TTL:PT1H
BEGIN:VTIMEZONE
TZID:UTC
BEGIN:STANDARD
TZOFFSETFROM:+0000
TZOFFSETTO:+0000
TZNAME:UTC
DTSTART:20220101T000000
END:STANDARD
END:VTIMEZONE
BEGIN:VEVENT
DTSTART;TZID=UTC:20231011T183000
DTEND;TZID=UTC:20231011T200000
DTSTAMP:20260424T172253
CREATED:20250713T113003Z
LAST-MODIFIED:20250713T114722Z
UID:990004220-1697049000-1697054400@www.clickiowa.com
SUMMARY:City Tweens
DESCRIPTION:
URL:https://www.clickiowa.com/event/city-tweens/2023-10-11/
LOCATION:Student Center
CATEGORIES:Tweens
ATTACH;FMTTYPE=image/jpeg:https://www.clickiowa.com/wp-content/uploads/2025/07/tweener.jpg
END:VEVENT
BEGIN:VEVENT
DTSTART;TZID=UTC:20231011T183000
DTEND;TZID=UTC:20231011T200000
DTSTAMP:20260424T172253
CREATED:20230805T001345Z
LAST-MODIFIED:20250714T221341Z
UID:990003455-1697049000-1697054400@www.clickiowa.com
SUMMARY:City Youth
DESCRIPTION:
URL:https://www.clickiowa.com/event/city-youth-2/2023-10-11/
LOCATION:Student Center
CATEGORIES:Youth
ATTACH;FMTTYPE=image/png:https://www.clickiowa.com/wp-content/uploads/2023/08/cc-log.png
END:VEVENT
BEGIN:VEVENT
DTSTART;TZID=UTC:20231004T183000
DTEND;TZID=UTC:20231004T200000
DTSTAMP:20260424T172253
CREATED:20250713T113003Z
LAST-MODIFIED:20250713T114722Z
UID:990004219-1696444200-1696449600@www.clickiowa.com
SUMMARY:City Tweens
DESCRIPTION:
URL:https://www.clickiowa.com/event/city-tweens/2023-10-04/
LOCATION:Student Center
CATEGORIES:Tweens
ATTACH;FMTTYPE=image/jpeg:https://www.clickiowa.com/wp-content/uploads/2025/07/tweener.jpg
END:VEVENT
BEGIN:VEVENT
DTSTART;TZID=UTC:20231004T183000
DTEND;TZID=UTC:20231004T200000
DTSTAMP:20260424T172253
CREATED:20230805T001345Z
LAST-MODIFIED:20250714T221341Z
UID:990003454-1696444200-1696449600@www.clickiowa.com
SUMMARY:City Youth
DESCRIPTION:
URL:https://www.clickiowa.com/event/city-youth-2/2023-10-04/
LOCATION:Student Center
CATEGORIES:Youth
ATTACH;FMTTYPE=image/png:https://www.clickiowa.com/wp-content/uploads/2023/08/cc-log.png
END:VEVENT
BEGIN:VEVENT
DTSTART;TZID=UTC:20230927T183000
DTEND;TZID=UTC:20230927T200000
DTSTAMP:20260424T172253
CREATED:20250713T113003Z
LAST-MODIFIED:20250713T114722Z
UID:990004218-1695839400-1695844800@www.clickiowa.com
SUMMARY:City Tweens
DESCRIPTION:
URL:https://www.clickiowa.com/event/city-tweens/2023-09-27/
LOCATION:Student Center
CATEGORIES:Tweens
ATTACH;FMTTYPE=image/jpeg:https://www.clickiowa.com/wp-content/uploads/2025/07/tweener.jpg
END:VEVENT
BEGIN:VEVENT
DTSTART;TZID=UTC:20230927T183000
DTEND;TZID=UTC:20230927T200000
DTSTAMP:20260424T172253
CREATED:20230805T001345Z
LAST-MODIFIED:20250714T221341Z
UID:990003453-1695839400-1695844800@www.clickiowa.com
SUMMARY:City Youth
DESCRIPTION:
URL:https://www.clickiowa.com/event/city-youth-2/2023-09-27/
LOCATION:Student Center
CATEGORIES:Youth
ATTACH;FMTTYPE=image/png:https://www.clickiowa.com/wp-content/uploads/2023/08/cc-log.png
END:VEVENT
BEGIN:VEVENT
DTSTART;TZID=UTC:20230920T183000
DTEND;TZID=UTC:20230920T200000
DTSTAMP:20260424T172253
CREATED:20250713T113003Z
LAST-MODIFIED:20250713T114722Z
UID:990004217-1695234600-1695240000@www.clickiowa.com
SUMMARY:City Tweens
DESCRIPTION:
URL:https://www.clickiowa.com/event/city-tweens/2023-09-20/
LOCATION:Student Center
CATEGORIES:Tweens
ATTACH;FMTTYPE=image/jpeg:https://www.clickiowa.com/wp-content/uploads/2025/07/tweener.jpg
END:VEVENT
BEGIN:VEVENT
DTSTART;TZID=UTC:20230920T183000
DTEND;TZID=UTC:20230920T200000
DTSTAMP:20260424T172253
CREATED:20230805T001345Z
LAST-MODIFIED:20250714T221341Z
UID:990003452-1695234600-1695240000@www.clickiowa.com
SUMMARY:City Youth
DESCRIPTION:
URL:https://www.clickiowa.com/event/city-youth-2/2023-09-20/
LOCATION:Student Center
CATEGORIES:Youth
ATTACH;FMTTYPE=image/png:https://www.clickiowa.com/wp-content/uploads/2023/08/cc-log.png
END:VEVENT
BEGIN:VEVENT
DTSTART;TZID=UTC:20230913T183000
DTEND;TZID=UTC:20230913T200000
DTSTAMP:20260424T172253
CREATED:20250713T113003Z
LAST-MODIFIED:20250713T114722Z
UID:990004216-1694629800-1694635200@www.clickiowa.com
SUMMARY:City Tweens
DESCRIPTION:
URL:https://www.clickiowa.com/event/city-tweens/2023-09-13/
LOCATION:Student Center
CATEGORIES:Tweens
ATTACH;FMTTYPE=image/jpeg:https://www.clickiowa.com/wp-content/uploads/2025/07/tweener.jpg
END:VEVENT
BEGIN:VEVENT
DTSTART;TZID=UTC:20230913T183000
DTEND;TZID=UTC:20230913T200000
DTSTAMP:20260424T172253
CREATED:20230805T001345Z
LAST-MODIFIED:20250714T221341Z
UID:990003451-1694629800-1694635200@www.clickiowa.com
SUMMARY:City Youth
DESCRIPTION:
URL:https://www.clickiowa.com/event/city-youth-2/2023-09-13/
LOCATION:Student Center
CATEGORIES:Youth
ATTACH;FMTTYPE=image/png:https://www.clickiowa.com/wp-content/uploads/2023/08/cc-log.png
END:VEVENT
BEGIN:VEVENT
DTSTART;TZID=UTC:20230906T183000
DTEND;TZID=UTC:20230906T200000
DTSTAMP:20260424T172253
CREATED:20250713T113003Z
LAST-MODIFIED:20250713T114722Z
UID:990004215-1694025000-1694030400@www.clickiowa.com
SUMMARY:City Tweens
DESCRIPTION:
URL:https://www.clickiowa.com/event/city-tweens/2023-09-06/
LOCATION:Student Center
CATEGORIES:Tweens
ATTACH;FMTTYPE=image/jpeg:https://www.clickiowa.com/wp-content/uploads/2025/07/tweener.jpg
END:VEVENT
BEGIN:VEVENT
DTSTART;TZID=UTC:20230906T183000
DTEND;TZID=UTC:20230906T200000
DTSTAMP:20260424T172253
CREATED:20230805T001345Z
LAST-MODIFIED:20250714T221341Z
UID:990003450-1694025000-1694030400@www.clickiowa.com
SUMMARY:City Youth
DESCRIPTION:
URL:https://www.clickiowa.com/event/city-youth-2/2023-09-06/
LOCATION:Student Center
CATEGORIES:Youth
ATTACH;FMTTYPE=image/png:https://www.clickiowa.com/wp-content/uploads/2023/08/cc-log.png
END:VEVENT
BEGIN:VEVENT
DTSTART;TZID=UTC:20230830T183000
DTEND;TZID=UTC:20230830T200000
DTSTAMP:20260424T172253
CREATED:20250713T113003Z
LAST-MODIFIED:20250713T114722Z
UID:990004214-1693420200-1693425600@www.clickiowa.com
SUMMARY:City Tweens
DESCRIPTION:
URL:https://www.clickiowa.com/event/city-tweens/2023-08-30/
LOCATION:Student Center
CATEGORIES:Tweens
ATTACH;FMTTYPE=image/jpeg:https://www.clickiowa.com/wp-content/uploads/2025/07/tweener.jpg
END:VEVENT
BEGIN:VEVENT
DTSTART;TZID=UTC:20230830T183000
DTEND;TZID=UTC:20230830T200000
DTSTAMP:20260424T172253
CREATED:20230805T001345Z
LAST-MODIFIED:20250714T221341Z
UID:990003449-1693420200-1693425600@www.clickiowa.com
SUMMARY:City Youth
DESCRIPTION:
URL:https://www.clickiowa.com/event/city-youth-2/2023-08-30/
LOCATION:Student Center
CATEGORIES:Youth
ATTACH;FMTTYPE=image/png:https://www.clickiowa.com/wp-content/uploads/2023/08/cc-log.png
END:VEVENT
BEGIN:VEVENT
DTSTART;TZID=UTC:20230823T183000
DTEND;TZID=UTC:20230823T200000
DTSTAMP:20260424T172253
CREATED:20250713T113003Z
LAST-MODIFIED:20250713T114722Z
UID:990004213-1692815400-1692820800@www.clickiowa.com
SUMMARY:City Tweens
DESCRIPTION:
URL:https://www.clickiowa.com/event/city-tweens/2023-08-23/
LOCATION:Student Center
CATEGORIES:Tweens
ATTACH;FMTTYPE=image/jpeg:https://www.clickiowa.com/wp-content/uploads/2025/07/tweener.jpg
END:VEVENT
BEGIN:VEVENT
DTSTART;TZID=UTC:20230823T183000
DTEND;TZID=UTC:20230823T200000
DTSTAMP:20260424T172253
CREATED:20230805T001345Z
LAST-MODIFIED:20250714T221341Z
UID:990003448-1692815400-1692820800@www.clickiowa.com
SUMMARY:City Youth
DESCRIPTION:
URL:https://www.clickiowa.com/event/city-youth-2/2023-08-23/
LOCATION:Student Center
CATEGORIES:Youth
ATTACH;FMTTYPE=image/png:https://www.clickiowa.com/wp-content/uploads/2023/08/cc-log.png
END:VEVENT
BEGIN:VEVENT
DTSTART;TZID=UTC:20230816T183000
DTEND;TZID=UTC:20230816T200000
DTSTAMP:20260424T172253
CREATED:20250713T113003Z
LAST-MODIFIED:20250713T114722Z
UID:990004212-1692210600-1692216000@www.clickiowa.com
SUMMARY:City Tweens
DESCRIPTION:
URL:https://www.clickiowa.com/event/city-tweens/2023-08-16/
LOCATION:Student Center
CATEGORIES:Tweens
ATTACH;FMTTYPE=image/jpeg:https://www.clickiowa.com/wp-content/uploads/2025/07/tweener.jpg
END:VEVENT
BEGIN:VEVENT
DTSTART;TZID=UTC:20230816T183000
DTEND;TZID=UTC:20230816T200000
DTSTAMP:20260424T172253
CREATED:20230805T001345Z
LAST-MODIFIED:20250714T221341Z
UID:990003447-1692210600-1692216000@www.clickiowa.com
SUMMARY:City Youth
DESCRIPTION:
URL:https://www.clickiowa.com/event/city-youth-2/2023-08-16/
LOCATION:Student Center
CATEGORIES:Youth
ATTACH;FMTTYPE=image/png:https://www.clickiowa.com/wp-content/uploads/2023/08/cc-log.png
END:VEVENT
BEGIN:VEVENT
DTSTART;TZID=UTC:20230809T183000
DTEND;TZID=UTC:20230809T200000
DTSTAMP:20260424T172253
CREATED:20250713T113003Z
LAST-MODIFIED:20250713T114722Z
UID:990004211-1691605800-1691611200@www.clickiowa.com
SUMMARY:City Tweens
DESCRIPTION:
URL:https://www.clickiowa.com/event/city-tweens/2023-08-09/
LOCATION:Student Center
CATEGORIES:Tweens
ATTACH;FMTTYPE=image/jpeg:https://www.clickiowa.com/wp-content/uploads/2025/07/tweener.jpg
END:VEVENT
BEGIN:VEVENT
DTSTART;TZID=UTC:20230809T183000
DTEND;TZID=UTC:20230809T200000
DTSTAMP:20260424T172253
CREATED:20230805T001345Z
LAST-MODIFIED:20250714T221341Z
UID:990003446-1691605800-1691611200@www.clickiowa.com
SUMMARY:City Youth
DESCRIPTION:
URL:https://www.clickiowa.com/event/city-youth-2/2023-08-09/
LOCATION:Student Center
CATEGORIES:Youth
ATTACH;FMTTYPE=image/png:https://www.clickiowa.com/wp-content/uploads/2023/08/cc-log.png
END:VEVENT
BEGIN:VEVENT
DTSTART;TZID=UTC:20230802T183000
DTEND;TZID=UTC:20230802T200000
DTSTAMP:20260424T172253
CREATED:20250713T113003Z
LAST-MODIFIED:20250713T114722Z
UID:990004210-1691001000-1691006400@www.clickiowa.com
SUMMARY:City Tweens
DESCRIPTION:
URL:https://www.clickiowa.com/event/city-tweens/2023-08-02/
LOCATION:Student Center
CATEGORIES:Tweens
ATTACH;FMTTYPE=image/jpeg:https://www.clickiowa.com/wp-content/uploads/2025/07/tweener.jpg
END:VEVENT
BEGIN:VEVENT
DTSTART;TZID=UTC:20230802T183000
DTEND;TZID=UTC:20230802T200000
DTSTAMP:20260424T172253
CREATED:20230805T001345Z
LAST-MODIFIED:20250714T221341Z
UID:990003445-1691001000-1691006400@www.clickiowa.com
SUMMARY:City Youth
DESCRIPTION:
URL:https://www.clickiowa.com/event/city-youth-2/2023-08-02/
LOCATION:Student Center
CATEGORIES:Youth
ATTACH;FMTTYPE=image/png:https://www.clickiowa.com/wp-content/uploads/2023/08/cc-log.png
END:VEVENT
END:VCALENDAR